| Back to Multiple platform build/check report for BioC 3.11 | 
  | 
This page was generated on 2020-10-17 11:57:42 -0400 (Sat, 17 Oct 2020).
| TO THE DEVELOPERS/MAINTAINERS OF THE rScudo PACKAGE: Please make sure to use the following settings in order to reproduce any error or warning you see on this page. | 
| Package 1541/1905 | Hostname | OS / Arch | INSTALL | BUILD | CHECK | BUILD BIN | ||||||
| rScudo 1.4.0 Matteo Ciciani 
  | malbec2 | Linux (Ubuntu 18.04.4 LTS) / x86_64 | OK | OK | OK | |||||||
| tokay2 | Windows Server 2012 R2 Standard / x64 | OK | OK | OK | [ OK ] | |||||||
| machv2 | macOS 10.14.6 Mojave / x86_64 | OK | OK | OK | OK | 
| Package: rScudo | 
| Version: 1.4.0 | 
| Command: rm -rf rScudo.buildbin-libdir && mkdir rScudo.buildbin-libdir && C:\Users\biocbuild\bbs-3.11-bioc\R\bin\R.exe CMD INSTALL --merge-multiarch --build --library=rScudo.buildbin-libdir rScudo_1.4.0.tar.gz | 
| StartedAt: 2020-10-17 11:32:26 -0400 (Sat, 17 Oct 2020) | 
| EndedAt: 2020-10-17 11:33:14 -0400 (Sat, 17 Oct 2020) | 
| EllapsedTime: 48.7 seconds | 
| RetCode: 0 | 
| Status: OK | 
| PackageFile: rScudo_1.4.0.zip | 
| PackageFileSize: 584 KiB | 
##############################################################################
##############################################################################
###
### Running command:
###
###   rm -rf rScudo.buildbin-libdir && mkdir rScudo.buildbin-libdir && C:\Users\biocbuild\bbs-3.11-bioc\R\bin\R.exe CMD INSTALL --merge-multiarch --build --library=rScudo.buildbin-libdir rScudo_1.4.0.tar.gz
###
##############################################################################
##############################################################################
install for i386
* installing *source* package 'rScudo' ...
** using staged installation
** R
** inst
** byte-compile and prepare package for lazy loading
** help
*** installing help indices
  converting help for package 'rScudo'
    finding HTML links ... done
    ScudoResults-class                      html  
    rScudo-package                          html  
    scudoClassify                           html  
    scudoCytoscape                          html  
    scudoModel                              html  
    scudoNetwork-methods                    html  
    scudoPlot                               html  
    scudoTest                               html  
    scudoTrain                              html  
** building package indices
** installing vignettes
** testing if installed package can be loaded from temporary location
** testing if installed package can be loaded from final location
** testing if installed package keeps a record of temporary installation path
install for x64
* installing *source* package 'rScudo' ...
** testing if installed package can be loaded
* MD5 sums
packaged installation of 'rScudo' as rScudo_1.4.0.zip
* DONE (rScudo)