| Back to Multiple platform build/check report for BioC 3.11 | 
  | 
This page was generated on 2020-01-16 13:32:23 -0500 (Thu, 16 Jan 2020).
| Package 1416/1818 | Hostname | OS / Arch | INSTALL | BUILD | CHECK | BUILD BIN | ||||||
| rGADEM 2.35.1 Arnaud Droit 
  | malbec2 | Linux (Ubuntu 18.04.3 LTS) / x86_64 | OK | ERROR | skipped | |||||||
| tokay2 | Windows Server 2012 R2 Standard / x64 | OK | OK | OK | OK | |||||||
| celaya2 | OS X 10.11.6 El Capitan / x86_64 | OK | [ OK ] | OK | OK | 
| Package: rGADEM | 
| Version: 2.35.1 | 
| Command: /Library/Frameworks/R.framework/Versions/Current/Resources/bin/R CMD build --keep-empty-dirs --no-resave-data rGADEM | 
| StartedAt: 2020-01-15 20:19:09 -0500 (Wed, 15 Jan 2020) | 
| EndedAt: 2020-01-15 20:21:19 -0500 (Wed, 15 Jan 2020) | 
| EllapsedTime: 129.6 seconds | 
| RetCode: 0 | 
| Status: OK | 
| PackageFile: rGADEM_2.35.1.tar.gz | 
| PackageFileSize: 300.1 KiB | 
############################################################################## ############################################################################## ### ### Running command: ### ### /Library/Frameworks/R.framework/Versions/Current/Resources/bin/R CMD build --keep-empty-dirs --no-resave-data rGADEM ### ############################################################################## ############################################################################## * checking for file ‘rGADEM/DESCRIPTION’ ... OK * preparing ‘rGADEM’: * checking DESCRIPTION meta-information ... OK * cleaning src * installing the package to build vignettes * creating vignettes ... OK * cleaning src * checking for LF line-endings in source and make files and shell scripts * checking for empty or unneeded directories * building ‘rGADEM_2.35.1.tar.gz’