| Back to Multiple platform build/check report for BioC 3.11 | 
  | 
This page was generated on 2020-10-17 11:57:32 -0400 (Sat, 17 Oct 2020).
| TO THE DEVELOPERS/MAINTAINERS OF THE qusage PACKAGE: Please make sure to use the following settings in order to reproduce any error or warning you see on this page. | 
| Package 1404/1905 | Hostname | OS / Arch | INSTALL | BUILD | CHECK | BUILD BIN | ||||||
| qusage 2.22.0 Christopher Bolen 
  | malbec2 | Linux (Ubuntu 18.04.4 LTS) / x86_64 | OK | OK | OK | |||||||
| tokay2 | Windows Server 2012 R2 Standard / x64 | OK | OK | WARNINGS | [ OK ] | |||||||
| machv2 | macOS 10.14.6 Mojave / x86_64 | OK | OK | OK | OK | 
| Package: qusage | 
| Version: 2.22.0 | 
| Command: rm -rf qusage.buildbin-libdir && mkdir qusage.buildbin-libdir && C:\Users\biocbuild\bbs-3.11-bioc\R\bin\R.exe CMD INSTALL --merge-multiarch --build --library=qusage.buildbin-libdir qusage_2.22.0.tar.gz | 
| StartedAt: 2020-10-17 11:23:00 -0400 (Sat, 17 Oct 2020) | 
| EndedAt: 2020-10-17 11:23:28 -0400 (Sat, 17 Oct 2020) | 
| EllapsedTime: 27.8 seconds | 
| RetCode: 0 | 
| Status: OK | 
| PackageFile: qusage_2.22.0.zip | 
| PackageFileSize: 9.64 MiB | 
##############################################################################
##############################################################################
###
### Running command:
###
###   rm -rf qusage.buildbin-libdir && mkdir qusage.buildbin-libdir && C:\Users\biocbuild\bbs-3.11-bioc\R\bin\R.exe CMD INSTALL --merge-multiarch --build --library=qusage.buildbin-libdir qusage_2.22.0.tar.gz
###
##############################################################################
##############################################################################
install for i386
* installing *source* package 'qusage' ...
** using staged installation
** R
** data
** inst
** byte-compile and prepare package for lazy loading
** help
*** installing help indices
  converting help for package 'qusage'
    finding HTML links ... done
    GeneSets                                html  
    QSarray-class                           html  
    aggregateGeneSet                        html  
    calcBayesCI                             html  
    calcVIF                                 html  
Rd warning: C:/Users/biocbuild/bbs-3.11-bioc/tmpdir/RtmpWSeZF8/R.INSTALL34806a3370c4/qusage/man/calcVIF.Rd:12: file link 'ExpressionSet' in package 'Biobase' does not exist and so has been treated as a topic
    combinePDFs                             html  
    eset.full                               html  
    fluVaccine                              html  
    getXcoords                              html  
    makeComparison                          html  
Rd warning: C:/Users/biocbuild/bbs-3.11-bioc/tmpdir/RtmpWSeZF8/R.INSTALL34806a3370c4/qusage/man/makeComparison.Rd:13: file link 'ExpressionSet' in package 'Biobase' does not exist and so has been treated as a topic
    newQSarray                              html  
    pVal                                    html  
    plotCIs                                 html  
    plotCIsGenes                            html  
    plotCombinedPDF                         html  
    plotDensityCurves                       html  
    plotGeneSetDistributions                html  
    qgen                                    html  
Rd warning: C:/Users/biocbuild/bbs-3.11-bioc/tmpdir/RtmpWSeZF8/R.INSTALL34806a3370c4/qusage/man/qgen.Rd:21: file link 'corStruct' in package 'nlme' does not exist and so has been treated as a topic
    qsTable                                 html  
    qusage                                  html  
Rd warning: C:/Users/biocbuild/bbs-3.11-bioc/tmpdir/RtmpWSeZF8/R.INSTALL34806a3370c4/qusage/man/qusage.Rd:12: file link 'ExpressionSet' in package 'Biobase' does not exist and so has been treated as a topic
    read.gmt                                html  
** building package indices
** installing vignettes
** testing if installed package can be loaded from temporary location
** testing if installed package can be loaded from final location
** testing if installed package keeps a record of temporary installation path
install for x64
* installing *source* package 'qusage' ...
** testing if installed package can be loaded
* MD5 sums
packaged installation of 'qusage' as qusage_2.22.0.zip
* DONE (qusage)