| Back to Multiple platform build/check report for BioC 3.11 |
|
This page was generated on 2020-10-17 11:57:31 -0400 (Sat, 17 Oct 2020).
| TO THE DEVELOPERS/MAINTAINERS OF THE qpcrNorm PACKAGE: Please make sure to use the following settings in order to reproduce any error or warning you see on this page. |
| Package 1389/1905 | Hostname | OS / Arch | INSTALL | BUILD | CHECK | BUILD BIN | ||||||
| qpcrNorm 1.46.0 Jessica Mar
| malbec2 | Linux (Ubuntu 18.04.4 LTS) / x86_64 | OK | OK | OK | |||||||
| tokay2 | Windows Server 2012 R2 Standard / x64 | [ OK ] | OK | OK | OK | |||||||
| machv2 | macOS 10.14.6 Mojave / x86_64 | OK | OK | OK | OK |
| Package: qpcrNorm |
| Version: 1.46.0 |
| Command: C:\cygwin\bin\curl.exe -O https://malbec2.bioconductor.org/BBS/3.11/bioc/src/contrib/qpcrNorm_1.46.0.tar.gz && rm -rf qpcrNorm.buildbin-libdir && mkdir qpcrNorm.buildbin-libdir && C:\Users\biocbuild\bbs-3.11-bioc\R\bin\R.exe CMD INSTALL --merge-multiarch --build --library=qpcrNorm.buildbin-libdir qpcrNorm_1.46.0.tar.gz && C:\Users\biocbuild\bbs-3.11-bioc\R\bin\R.exe CMD INSTALL qpcrNorm_1.46.0.zip && rm qpcrNorm_1.46.0.tar.gz qpcrNorm_1.46.0.zip |
| StartedAt: 2020-10-16 16:59:12 -0400 (Fri, 16 Oct 2020) |
| EndedAt: 2020-10-16 16:59:49 -0400 (Fri, 16 Oct 2020) |
| EllapsedTime: 36.5 seconds |
| RetCode: 0 |
| Status: OK |
##############################################################################
##############################################################################
###
### Running command:
###
### C:\cygwin\bin\curl.exe -O https://malbec2.bioconductor.org/BBS/3.11/bioc/src/contrib/qpcrNorm_1.46.0.tar.gz && rm -rf qpcrNorm.buildbin-libdir && mkdir qpcrNorm.buildbin-libdir && C:\Users\biocbuild\bbs-3.11-bioc\R\bin\R.exe CMD INSTALL --merge-multiarch --build --library=qpcrNorm.buildbin-libdir qpcrNorm_1.46.0.tar.gz && C:\Users\biocbuild\bbs-3.11-bioc\R\bin\R.exe CMD INSTALL qpcrNorm_1.46.0.zip && rm qpcrNorm_1.46.0.tar.gz qpcrNorm_1.46.0.zip
###
##############################################################################
##############################################################################
% Total % Received % Xferd Average Speed Time Time Time Current
Dload Upload Total Spent Left Speed
0 0 0 0 0 0 0 0 --:--:-- --:--:-- --:--:-- 0
100 248k 100 248k 0 0 3856k 0 --:--:-- --:--:-- --:--:-- 4368k
install for i386
* installing *source* package 'qpcrNorm' ...
** using staged installation
** R
** data
** byte-compile and prepare package for lazy loading
** help
*** installing help indices
converting help for package 'qpcrNorm'
finding HTML links ... done
calcCV html
ctQc html
matrixByPlate html
normQpcrHouseKeepingGenes html
normQpcrQuantile html
normQpcrRankInvariant html
plotVarMean html
qpcrBatch-class html
qpcrBatch.object html
readQpcr html
readQpcrBatch html
writeQpcr html
** building package indices
** installing vignettes
** testing if installed package can be loaded from temporary location
** testing if installed package can be loaded from final location
** testing if installed package keeps a record of temporary installation path
install for x64
* installing *source* package 'qpcrNorm' ...
** testing if installed package can be loaded
* MD5 sums
packaged installation of 'qpcrNorm' as qpcrNorm_1.46.0.zip
* DONE (qpcrNorm)
* installing to library 'C:/Users/biocbuild/bbs-3.11-bioc/R/library'
package 'qpcrNorm' successfully unpacked and MD5 sums checked