| Back to Multiple platform build/check report for BioC 3.11 | 
  | 
This page was generated on 2020-10-17 11:57:30 -0400 (Sat, 17 Oct 2020).
| TO THE DEVELOPERS/MAINTAINERS OF THE psichomics PACKAGE: Please make sure to use the following settings in order to reproduce any error or warning you see on this page. | 
| Package 1373/1905 | Hostname | OS / Arch | INSTALL | BUILD | CHECK | BUILD BIN | ||||||
| psichomics 1.14.4 Nuno Saraiva-Agostinho 
  | malbec2 | Linux (Ubuntu 18.04.4 LTS) / x86_64 | OK | OK | OK | |||||||
| tokay2 | Windows Server 2012 R2 Standard / x64 | OK | [ TIMEOUT ] | skipped | skipped | |||||||
| machv2 | macOS 10.14.6 Mojave / x86_64 | OK | OK | OK | OK | 
| Package: psichomics | 
| Version: 1.14.4 | 
| Command: chmod a+r psichomics -R && C:\Users\biocbuild\bbs-3.11-bioc\R\bin\R.exe CMD build --keep-empty-dirs --no-resave-data psichomics | 
| StartedAt: 2020-10-16 23:58:10 -0400 (Fri, 16 Oct 2020) | 
| EndedAt: 2020-10-17 00:38:10 -0400 (Sat, 17 Oct 2020) | 
| EllapsedTime: 2400.1 seconds | 
| RetCode: None | 
| Status: TIMEOUT | 
| PackageFile: None | 
| PackageFileSize: NA | 
############################################################################## ############################################################################## ### ### Running command: ### ### chmod a+r psichomics -R && C:\Users\biocbuild\bbs-3.11-bioc\R\bin\R.exe CMD build --keep-empty-dirs --no-resave-data psichomics ### ############################################################################## ############################################################################## * checking for file 'psichomics/DESCRIPTION' ... OK * preparing 'psichomics': * checking DESCRIPTION meta-information ... OK * cleaning src * installing the package to build vignettes * creating vignettes ...