| Back to Multiple platform build/check report for BioC 3.11 | 
  | 
This page was generated on 2020-01-16 13:54:56 -0500 (Thu, 16 Jan 2020).
| Package 1304/1818 | Hostname | OS / Arch | INSTALL | BUILD | CHECK | BUILD BIN | ||||||
| proDA 1.1.2 Constantin Ahlmann-Eltze 
  | malbec2 | Linux (Ubuntu 18.04.3 LTS) / x86_64 | OK | OK | OK | |||||||
| tokay2 | Windows Server 2012 R2 Standard / x64 | OK | OK | OK | OK | |||||||
| celaya2 | OS X 10.11.6 El Capitan / x86_64 | OK | OK | [ OK ] | OK | 
| Package: proDA | 
| Version: 1.1.2 | 
| Command: /Library/Frameworks/R.framework/Versions/Current/Resources/bin/R CMD check --install=check:proDA.install-out.txt --library=/Library/Frameworks/R.framework/Versions/Current/Resources/library --no-vignettes --timings proDA_1.1.2.tar.gz | 
| StartedAt: 2020-01-16 07:40:40 -0500 (Thu, 16 Jan 2020) | 
| EndedAt: 2020-01-16 07:48:42 -0500 (Thu, 16 Jan 2020) | 
| EllapsedTime: 481.1 seconds | 
| RetCode: 0 | 
| Status: OK | 
| CheckDir: proDA.Rcheck | 
| Warnings: 0 | 
##############################################################################
##############################################################################
###
### Running command:
###
###   /Library/Frameworks/R.framework/Versions/Current/Resources/bin/R CMD check --install=check:proDA.install-out.txt --library=/Library/Frameworks/R.framework/Versions/Current/Resources/library --no-vignettes --timings proDA_1.1.2.tar.gz
###
##############################################################################
##############################################################################
* using log directory ‘/Users/biocbuild/bbs-3.11-bioc/meat/proDA.Rcheck’
* using R Under development (unstable) (2019-12-14 r77572)
* using platform: x86_64-apple-darwin15.6.0 (64-bit)
* using session charset: UTF-8
* using option ‘--no-vignettes’
* checking for file ‘proDA/DESCRIPTION’ ... OK
* checking extension type ... Package
* this is package ‘proDA’ version ‘1.1.2’
* package encoding: UTF-8
* checking package namespace information ... OK
* checking package dependencies ... OK
* checking if this is a source package ... OK
* checking if there is a namespace ... OK
* checking for hidden files and directories ... OK
* checking for portable file names ... OK
* checking for sufficient/correct file permissions ... OK
* checking whether package ‘proDA’ can be installed ... OK
* checking installed package size ... OK
* checking package directory ... OK
* checking ‘build’ directory ... OK
* checking DESCRIPTION meta-information ... OK
* checking top-level files ... OK
* checking for left-over files ... OK
* checking index information ... OK
* checking package subdirectories ... OK
* checking R files for non-ASCII characters ... OK
* checking R files for syntax errors ... OK
* checking whether the package can be loaded ... OK
* checking whether the package can be loaded with stated dependencies ... OK
* checking whether the package can be unloaded cleanly ... OK
* checking whether the namespace can be loaded with stated dependencies ... OK
* checking whether the namespace can be unloaded cleanly ... OK
* checking dependencies in R code ... OK
* checking S3 generic/method consistency ... OK
* checking replacement functions ... OK
* checking foreign function calls ... OK
* checking R code for possible problems ... OK
* checking Rd files ... OK
* checking Rd metadata ... OK
* checking Rd cross-references ... OK
* checking for missing documentation entries ... OK
* checking for code/documentation mismatches ... OK
* checking Rd \usage sections ... OK
* checking Rd contents ... OK
* checking for unstated dependencies in examples ... OK
* checking files in ‘vignettes’ ... OK
* checking examples ... OK
Examples with CPU (user + system) or elapsed time > 5s
           user system elapsed
test_diff 6.667   0.23   6.898
* checking for unstated dependencies in ‘tests’ ... OK
* checking tests ...
  Running ‘testthat.R’
 OK
* checking for unstated dependencies in vignettes ... OK
* checking package vignettes in ‘inst/doc’ ... OK
* checking running R code from vignettes ... SKIPPED
* checking re-building of vignette outputs ... SKIPPED
* checking PDF version of manual ... OK
* DONE
Status: OK
proDA.Rcheck/00install.out
############################################################################## ############################################################################## ### ### Running command: ### ### /Library/Frameworks/R.framework/Versions/Current/Resources/bin/R CMD INSTALL proDA ### ############################################################################## ############################################################################## * installing to library ‘/Library/Frameworks/R.framework/Versions/4.0/Resources/library’ * installing *source* package ‘proDA’ ... ** using staged installation ** R ** inst ** byte-compile and prepare package for lazy loading ** help *** installing help indices ** building package indices ** installing vignettes ** testing if installed package can be loaded from temporary location ** testing if installed package can be loaded from final location ** testing if installed package keeps a record of temporary installation path * DONE (proDA)
proDA.Rcheck/tests/testthat.Rout
R Under development (unstable) (2019-12-14 r77572) -- "Unsuffered Consequences"
Copyright (C) 2019 The R Foundation for Statistical Computing
Platform: x86_64-apple-darwin15.6.0 (64-bit)
R is free software and comes with ABSOLUTELY NO WARRANTY.
You are welcome to redistribute it under certain conditions.
Type 'license()' or 'licence()' for distribution details.
R is a collaborative project with many contributors.
Type 'contributors()' for more information and
'citation()' on how to cite R or R packages in publications.
Type 'demo()' for some demos, 'help()' for on-line help, or
'help.start()' for an HTML browser interface to help.
Type 'q()' to quit R.
> library(testthat)
> library(proDA)
> 
> test_check("proDA")
══ testthat results  ═══════════════════════════════════════════════════════════
[ OK: 107 | SKIPPED: 1 | WARNINGS: 0 | FAILED: 0 ]
> 
> proc.time()
   user  system elapsed 
227.124   2.156 229.293 
proDA.Rcheck/proDA-Ex.timings
| name | user | system | elapsed | |
| abundances | 2.187 | 0.093 | 2.284 | |
| as_replicate | 0.000 | 0.000 | 0.001 | |
| cash-proDAFit-method | 1.402 | 0.004 | 1.407 | |
| coefficient_variance_matrices | 1.416 | 0.004 | 1.421 | |
| coefficients | 1.423 | 0.003 | 1.426 | |
| convergence | 1.598 | 0.004 | 1.603 | |
| dist_approx | 2.008 | 0.005 | 2.014 | |
| dist_approx_impl | 1.870 | 0.004 | 1.874 | |
| feature_parameters | 1.642 | 0.004 | 1.646 | |
| generate_synthetic_data | 0.045 | 0.002 | 0.048 | |
| hyper_parameters | 1.352 | 0.003 | 1.356 | |
| invprobit | 0.005 | 0.001 | 0.005 | |
| median_normalization | 0.007 | 0.001 | 0.008 | |
| mply_dbl | 0.010 | 0.001 | 0.011 | |
| pd_lm | 0.028 | 0.004 | 0.032 | |
| pd_row_t_test | 3.108 | 0.013 | 3.122 | |
| proDA | 3.664 | 0.009 | 3.675 | |
| reference_level | 1.297 | 0.002 | 1.300 | |
| result_names | 1.405 | 0.004 | 1.409 | |
| test_diff | 6.667 | 0.230 | 6.898 | |