| Back to Multiple platform build/check report for BioC 3.11 |
|
This page was generated on 2020-10-17 11:57:27 -0400 (Sat, 17 Oct 2020).
| TO THE DEVELOPERS/MAINTAINERS OF THE primirTSS PACKAGE: Please make sure to use the following settings in order to reproduce any error or warning you see on this page. |
| Package 1348/1905 | Hostname | OS / Arch | INSTALL | BUILD | CHECK | BUILD BIN | ||||||
| primirTSS 1.6.1 Pumin Li
| malbec2 | Linux (Ubuntu 18.04.4 LTS) / x86_64 | OK | OK | WARNINGS | |||||||
| tokay2 | Windows Server 2012 R2 Standard / x64 | [ OK ] | OK | WARNINGS | OK | |||||||
| machv2 | macOS 10.14.6 Mojave / x86_64 | OK | OK | WARNINGS | OK |
| Package: primirTSS |
| Version: 1.6.1 |
| Command: C:\cygwin\bin\curl.exe -O https://malbec2.bioconductor.org/BBS/3.11/bioc/src/contrib/primirTSS_1.6.1.tar.gz && rm -rf primirTSS.buildbin-libdir && mkdir primirTSS.buildbin-libdir && C:\Users\biocbuild\bbs-3.11-bioc\R\bin\R.exe CMD INSTALL --merge-multiarch --build --library=primirTSS.buildbin-libdir primirTSS_1.6.1.tar.gz && C:\Users\biocbuild\bbs-3.11-bioc\R\bin\R.exe CMD INSTALL primirTSS_1.6.1.zip && rm primirTSS_1.6.1.tar.gz primirTSS_1.6.1.zip |
| StartedAt: 2020-10-16 19:37:28 -0400 (Fri, 16 Oct 2020) |
| EndedAt: 2020-10-16 19:40:32 -0400 (Fri, 16 Oct 2020) |
| EllapsedTime: 184.0 seconds |
| RetCode: 0 |
| Status: OK |
##############################################################################
##############################################################################
###
### Running command:
###
### C:\cygwin\bin\curl.exe -O https://malbec2.bioconductor.org/BBS/3.11/bioc/src/contrib/primirTSS_1.6.1.tar.gz && rm -rf primirTSS.buildbin-libdir && mkdir primirTSS.buildbin-libdir && C:\Users\biocbuild\bbs-3.11-bioc\R\bin\R.exe CMD INSTALL --merge-multiarch --build --library=primirTSS.buildbin-libdir primirTSS_1.6.1.tar.gz && C:\Users\biocbuild\bbs-3.11-bioc\R\bin\R.exe CMD INSTALL primirTSS_1.6.1.zip && rm primirTSS_1.6.1.tar.gz primirTSS_1.6.1.zip
###
##############################################################################
##############################################################################
% Total % Received % Xferd Average Speed Time Time Time Current
Dload Upload Total Spent Left Speed
0 0 0 0 0 0 0 0 --:--:-- --:--:-- --:--:-- 0
100 3676k 100 3676k 0 0 31.9M 0 --:--:-- --:--:-- --:--:-- 33.8M
install for i386
* installing *source* package 'primirTSS' ...
** using staged installation
** R
** inst
** byte-compile and prepare package for lazy loading
** help
*** installing help indices
converting help for package 'primirTSS'
finding HTML links ... done
find_tss html
peak_join html
peak_merge html
plot_primiRNA html
primirTSS html
run_primirTSSapp html
trans_cor html
** building package indices
** installing vignettes
** testing if installed package can be loaded from temporary location
** testing if installed package can be loaded from final location
** testing if installed package keeps a record of temporary installation path
install for x64
* installing *source* package 'primirTSS' ...
** testing if installed package can be loaded
* MD5 sums
packaged installation of 'primirTSS' as primirTSS_1.6.1.zip
* DONE (primirTSS)
* installing to library 'C:/Users/biocbuild/bbs-3.11-bioc/R/library'
package 'primirTSS' successfully unpacked and MD5 sums checked