| Back to Multiple platform build/check report for BioC 3.11 |
|
This page was generated on 2020-10-17 11:57:26 -0400 (Sat, 17 Oct 2020).
| TO THE DEVELOPERS/MAINTAINERS OF THE pogos PACKAGE: Please make sure to use the following settings in order to reproduce any error or warning you see on this page. |
| Package 1331/1905 | Hostname | OS / Arch | INSTALL | BUILD | CHECK | BUILD BIN | ||||||
| pogos 1.8.0 VJ Carey
| malbec2 | Linux (Ubuntu 18.04.4 LTS) / x86_64 | OK | OK | OK | |||||||
| tokay2 | Windows Server 2012 R2 Standard / x64 | [ OK ] | OK | OK | OK | |||||||
| machv2 | macOS 10.14.6 Mojave / x86_64 | OK | OK | OK | OK |
| Package: pogos |
| Version: 1.8.0 |
| Command: C:\cygwin\bin\curl.exe -O https://malbec2.bioconductor.org/BBS/3.11/bioc/src/contrib/pogos_1.8.0.tar.gz && rm -rf pogos.buildbin-libdir && mkdir pogos.buildbin-libdir && C:\Users\biocbuild\bbs-3.11-bioc\R\bin\R.exe CMD INSTALL --merge-multiarch --build --library=pogos.buildbin-libdir pogos_1.8.0.tar.gz && C:\Users\biocbuild\bbs-3.11-bioc\R\bin\R.exe CMD INSTALL pogos_1.8.0.zip && rm pogos_1.8.0.tar.gz pogos_1.8.0.zip |
| StartedAt: 2020-10-16 18:15:18 -0400 (Fri, 16 Oct 2020) |
| EndedAt: 2020-10-16 18:15:56 -0400 (Fri, 16 Oct 2020) |
| EllapsedTime: 37.8 seconds |
| RetCode: 0 |
| Status: OK |
##############################################################################
##############################################################################
###
### Running command:
###
### C:\cygwin\bin\curl.exe -O https://malbec2.bioconductor.org/BBS/3.11/bioc/src/contrib/pogos_1.8.0.tar.gz && rm -rf pogos.buildbin-libdir && mkdir pogos.buildbin-libdir && C:\Users\biocbuild\bbs-3.11-bioc\R\bin\R.exe CMD INSTALL --merge-multiarch --build --library=pogos.buildbin-libdir pogos_1.8.0.tar.gz && C:\Users\biocbuild\bbs-3.11-bioc\R\bin\R.exe CMD INSTALL pogos_1.8.0.zip && rm pogos_1.8.0.tar.gz pogos_1.8.0.zip
###
##############################################################################
##############################################################################
% Total % Received % Xferd Average Speed Time Time Time Current
Dload Upload Total Spent Left Speed
0 0 0 0 0 0 0 0 --:--:-- --:--:-- --:--:-- 0
100 27802 100 27802 0 0 404k 0 --:--:-- --:--:-- --:--:-- 452k
install for i386
Warning in untar2(tarfile, files, list, exdir, restore_times) :
restoring symbolic link as a file copy
* installing *source* package 'pogos' ...
** using staged installation
** R
** data
*** moving datasets to lazyload DB
** inst
** byte-compile and prepare package for lazy loading
** help
*** installing help indices
converting help for package 'pogos'
finding HTML links ... done
DRProfSet html
DRTraceSet html
basicDecoder html
compoundsByCell html
compounds_v1 html
iriCCLE html
rxdbQuery_v1 html
sub-DRProfSet-character-method html
topEndpoints_v1 html
traces html
** building package indices
** installing vignettes
** testing if installed package can be loaded from temporary location
** testing if installed package can be loaded from final location
** testing if installed package keeps a record of temporary installation path
install for x64
Warning in untar2(tarfile, files, list, exdir, restore_times) :
restoring symbolic link as a file copy
* installing *source* package 'pogos' ...
** testing if installed package can be loaded
* MD5 sums
packaged installation of 'pogos' as pogos_1.8.0.zip
* DONE (pogos)
* installing to library 'C:/Users/biocbuild/bbs-3.11-bioc/R/library'
package 'pogos' successfully unpacked and MD5 sums checked