| Back to Multiple platform build/check report for BioC 3.11 |
|
This page was generated on 2020-10-17 11:55:24 -0400 (Sat, 17 Oct 2020).
| TO THE DEVELOPERS/MAINTAINERS OF THE plw PACKAGE: Please make sure to use the following settings in order to reproduce any error or warning you see on this page. |
| Package 1326/1905 | Hostname | OS / Arch | INSTALL | BUILD | CHECK | BUILD BIN | ||||||
Magnus Astrand
| malbec2 | Linux (Ubuntu 18.04.4 LTS) / x86_64 | [ OK ] | OK | ERROR | |||||||
| tokay2 | Windows Server 2012 R2 Standard / x64 | OK | OK | ERROR | OK | |||||||
| machv2 | macOS 10.14.6 Mojave / x86_64 | OK | OK | ERROR | OK |
| Package: plw |
| Version: 1.48.0 |
| Command: /home/biocbuild/bbs-3.11-bioc/R/bin/R CMD INSTALL plw |
| StartedAt: 2020-10-16 16:07:42 -0400 (Fri, 16 Oct 2020) |
| EndedAt: 2020-10-16 16:07:48 -0400 (Fri, 16 Oct 2020) |
| EllapsedTime: 5.9 seconds |
| RetCode: 0 |
| Status: OK |
##############################################################################
##############################################################################
###
### Running command:
###
### /home/biocbuild/bbs-3.11-bioc/R/bin/R CMD INSTALL plw
###
##############################################################################
##############################################################################
* installing to library ‘/home/biocbuild/bbs-3.11-bioc/R/library’
* installing *source* package ‘plw’ ...
** using staged installation
** libs
gcc -I"/home/biocbuild/bbs-3.11-bioc/R/include" -DNDEBUG -I/usr/local/include -fpic -g -O2 -Wall -c SpecialFunctions.c -o SpecialFunctions.o
SpecialFunctions.c: In function ‘getPosteriorProbsAndSigmaHatStrata0’:
SpecialFunctions.c:154:20: warning: variable ‘s2’ set but not used [-Wunused-but-set-variable]
double kk,C,s0,s1,s2,temp0,aa;
^~
SpecialFunctions.c:154:17: warning: variable ‘s1’ set but not used [-Wunused-but-set-variable]
double kk,C,s0,s1,s2,temp0,aa;
^~
SpecialFunctions.c:154:14: warning: variable ‘s0’ set but not used [-Wunused-but-set-variable]
double kk,C,s0,s1,s2,temp0,aa;
^~
gcc -I"/home/biocbuild/bbs-3.11-bioc/R/include" -DNDEBUG -I/usr/local/include -fpic -g -O2 -Wall -c SpecialOptim.c -o SpecialOptim.o
gcc -shared -L/home/biocbuild/bbs-3.11-bioc/R/lib -L/usr/local/lib -o plw.so SpecialFunctions.o SpecialOptim.o -L/home/biocbuild/bbs-3.11-bioc/R/lib -lR
installing to /home/biocbuild/bbs-3.11-bioc/R/library/00LOCK-plw/00new/plw/libs
** R
** data
** inst
** byte-compile and prepare package for lazy loading
** help
*** installing help indices
** building package indices
** installing vignettes
** testing if installed package can be loaded from temporary location
Warning: Package 'plw' is deprecated and will be removed from Bioconductor
version 3.12
** checking absolute paths in shared objects and dynamic libraries
** testing if installed package can be loaded from final location
Warning: Package 'plw' is deprecated and will be removed from Bioconductor
version 3.12
** testing if installed package keeps a record of temporary installation path
* DONE (plw)