| Back to Multiple platform build/check report for BioC 3.11 | 
  | 
This page was generated on 2020-10-17 11:57:25 -0400 (Sat, 17 Oct 2020).
| TO THE DEVELOPERS/MAINTAINERS OF THE plethy PACKAGE: Please make sure to use the following settings in order to reproduce any error or warning you see on this page. | 
| Package 1319/1905 | Hostname | OS / Arch | INSTALL | BUILD | CHECK | BUILD BIN | ||||||
| plethy 1.26.0 Daniel Bottomly 
  | malbec2 | Linux (Ubuntu 18.04.4 LTS) / x86_64 | OK | OK | OK | |||||||
| tokay2 | Windows Server 2012 R2 Standard / x64 | OK | OK | OK | [ OK ] | |||||||
| machv2 | macOS 10.14.6 Mojave / x86_64 | OK | OK | OK | OK | 
| Package: plethy | 
| Version: 1.26.0 | 
| Command: rm -rf plethy.buildbin-libdir && mkdir plethy.buildbin-libdir && C:\Users\biocbuild\bbs-3.11-bioc\R\bin\R.exe CMD INSTALL --merge-multiarch --build --library=plethy.buildbin-libdir plethy_1.26.0.tar.gz | 
| StartedAt: 2020-10-17 11:16:46 -0400 (Sat, 17 Oct 2020) | 
| EndedAt: 2020-10-17 11:17:14 -0400 (Sat, 17 Oct 2020) | 
| EllapsedTime: 28.3 seconds | 
| RetCode: 0 | 
| Status: OK | 
| PackageFile: plethy_1.26.0.zip | 
| PackageFileSize: 1.291 MiB | 
##############################################################################
##############################################################################
###
### Running command:
###
###   rm -rf plethy.buildbin-libdir && mkdir plethy.buildbin-libdir && C:\Users\biocbuild\bbs-3.11-bioc\R\bin\R.exe CMD INSTALL --merge-multiarch --build --library=plethy.buildbin-libdir plethy_1.26.0.tar.gz
###
##############################################################################
##############################################################################
install for i386
* installing *source* package 'plethy' ...
** using staged installation
** R
** inst
** byte-compile and prepare package for lazy loading
** help
*** installing help indices
  converting help for package 'plethy'
    finding HTML links ... done
    BuxcoDB                                 html  
    add_query_funcs                         html  
    dbImport                                html  
    parsing                                 html  
    plethy                                  html  
    utilities                               html  
** building package indices
** installing vignettes
** testing if installed package can be loaded from temporary location
** testing if installed package can be loaded from final location
** testing if installed package keeps a record of temporary installation path
install for x64
* installing *source* package 'plethy' ...
** testing if installed package can be loaded
* MD5 sums
packaged installation of 'plethy' as plethy_1.26.0.zip
* DONE (plethy)