| Back to Multiple platform build/check report for BioC 3.11 |
|
This page was generated on 2020-10-17 11:57:24 -0400 (Sat, 17 Oct 2020).
| TO THE DEVELOPERS/MAINTAINERS OF THE piano PACKAGE: Please make sure to use the following settings in order to reproduce any error or warning you see on this page. |
| Package 1311/1905 | Hostname | OS / Arch | INSTALL | BUILD | CHECK | BUILD BIN | ||||||
| piano 2.4.0 Leif Varemo Wigge
| malbec2 | Linux (Ubuntu 18.04.4 LTS) / x86_64 | OK | OK | OK | |||||||
| tokay2 | Windows Server 2012 R2 Standard / x64 | OK | OK | OK | [ OK ] | |||||||
| machv2 | macOS 10.14.6 Mojave / x86_64 | OK | OK | ERROR | OK |
| Package: piano |
| Version: 2.4.0 |
| Command: rm -rf piano.buildbin-libdir && mkdir piano.buildbin-libdir && C:\Users\biocbuild\bbs-3.11-bioc\R\bin\R.exe CMD INSTALL --merge-multiarch --build --library=piano.buildbin-libdir piano_2.4.0.tar.gz |
| StartedAt: 2020-10-17 11:16:21 -0400 (Sat, 17 Oct 2020) |
| EndedAt: 2020-10-17 11:16:54 -0400 (Sat, 17 Oct 2020) |
| EllapsedTime: 33.0 seconds |
| RetCode: 0 |
| Status: OK |
| PackageFile: piano_2.4.0.zip |
| PackageFileSize: 1.685 MiB |
##############################################################################
##############################################################################
###
### Running command:
###
### rm -rf piano.buildbin-libdir && mkdir piano.buildbin-libdir && C:\Users\biocbuild\bbs-3.11-bioc\R\bin\R.exe CMD INSTALL --merge-multiarch --build --library=piano.buildbin-libdir piano_2.4.0.tar.gz
###
##############################################################################
##############################################################################
install for i386
* installing *source* package 'piano' ...
** using staged installation
** R
** data
** inst
** byte-compile and prepare package for lazy loading
** help
*** installing help indices
converting help for package 'piano'
finding HTML links ... done
GSAheatmap html
GSAsummaryTable html
consensusHeatmap html
consensusScores html
diffExp html
finding level-2 HTML links ... done
exploreGSAres html
extractFactors html
geneSetSummary html
gsa_input html
gsa_results html
loadGSC html
loadMAdata html
networkPlot html
networkPlot2 html
piano-package html
polarPlot html
runGSA html
runGSAhyper html
runQC html
writeFilesForKiwi html
** building package indices
** installing vignettes
** testing if installed package can be loaded from temporary location
** testing if installed package can be loaded from final location
** testing if installed package keeps a record of temporary installation path
install for x64
* installing *source* package 'piano' ...
** testing if installed package can be loaded
* MD5 sums
packaged installation of 'piano' as piano_2.4.0.zip
* DONE (piano)