| Back to Multiple platform build/check report for BioC 3.11 |
|
This page was generated on 2020-01-16 13:34:31 -0500 (Thu, 16 Jan 2020).
| Package 1260/1818 | Hostname | OS / Arch | INSTALL | BUILD | CHECK | BUILD BIN | ||||||
| phyloseq 1.31.0 Paul J. McMurdie
| malbec2 | Linux (Ubuntu 18.04.3 LTS) / x86_64 | OK | OK | OK | |||||||
| tokay2 | Windows Server 2012 R2 Standard / x64 | OK | OK | WARNINGS | OK | |||||||
| celaya2 | OS X 10.11.6 El Capitan / x86_64 | OK | OK | [ OK ] | OK |
| Package: phyloseq |
| Version: 1.31.0 |
| Command: /Library/Frameworks/R.framework/Versions/Current/Resources/bin/R CMD check --install=check:phyloseq.install-out.txt --library=/Library/Frameworks/R.framework/Versions/Current/Resources/library --no-vignettes --timings phyloseq_1.31.0.tar.gz |
| StartedAt: 2020-01-16 07:26:45 -0500 (Thu, 16 Jan 2020) |
| EndedAt: 2020-01-16 07:35:09 -0500 (Thu, 16 Jan 2020) |
| EllapsedTime: 504.1 seconds |
| RetCode: 0 |
| Status: OK |
| CheckDir: phyloseq.Rcheck |
| Warnings: 0 |
##############################################################################
##############################################################################
###
### Running command:
###
### /Library/Frameworks/R.framework/Versions/Current/Resources/bin/R CMD check --install=check:phyloseq.install-out.txt --library=/Library/Frameworks/R.framework/Versions/Current/Resources/library --no-vignettes --timings phyloseq_1.31.0.tar.gz
###
##############################################################################
##############################################################################
* using log directory ‘/Users/biocbuild/bbs-3.11-bioc/meat/phyloseq.Rcheck’
* using R Under development (unstable) (2019-12-14 r77572)
* using platform: x86_64-apple-darwin15.6.0 (64-bit)
* using session charset: UTF-8
* using option ‘--no-vignettes’
* checking for file ‘phyloseq/DESCRIPTION’ ... OK
* this is package ‘phyloseq’ version ‘1.31.0’
* checking package namespace information ... OK
* checking package dependencies ... OK
* checking if this is a source package ... OK
* checking if there is a namespace ... OK
* checking for hidden files and directories ... NOTE
Found the following hidden files and directories:
.travis.yml
These were most likely included in error. See section ‘Package
structure’ in the ‘Writing R Extensions’ manual.
* checking for portable file names ... OK
* checking for sufficient/correct file permissions ... OK
* checking whether package ‘phyloseq’ can be installed ... OK
* checking installed package size ... OK
* checking package directory ... OK
* checking ‘build’ directory ... OK
* checking DESCRIPTION meta-information ... OK
* checking top-level files ... OK
* checking for left-over files ... OK
* checking index information ... OK
* checking package subdirectories ... OK
* checking R files for non-ASCII characters ... OK
* checking R files for syntax errors ... OK
* checking whether the package can be loaded ... OK
* checking whether the package can be loaded with stated dependencies ... OK
* checking whether the package can be unloaded cleanly ... OK
* checking whether the namespace can be loaded with stated dependencies ... OK
* checking whether the namespace can be unloaded cleanly ... OK
* checking dependencies in R code ... OK
* checking S3 generic/method consistency ... OK
* checking replacement functions ... OK
* checking foreign function calls ... OK
* checking R code for possible problems ... NOTE
DPCoA: no visible global function definition for ‘as.dist’
chunkReOrder: no visible global function definition for ‘tail’
chunkReOrder: no visible global function definition for ‘head’
export_env_file: no visible global function definition for
‘write.table’
export_mothur_dist: no visible global function definition for ‘as.dist’
export_mothur_dist: no visible global function definition for
‘write.table’
fastUniFrac: no visible global function definition for ‘combn’
fastUniFrac: no visible global function definition for ‘as.dist’
import_RDP_otu: no visible global function definition for ‘read.table’
import_env_file: no visible global function definition for ‘read.table’
import_mothur_constaxonomy: no visible global function definition for
‘read.table’
import_mothur_dist: no visible global function definition for ‘as.dist’
import_mothur_groups: no visible global function definition for
‘read.table’
import_mothur_shared: no visible global function definition for
‘read.table’
import_qiime_otu_tax: no visible global function definition for ‘:=’
import_qiime_otu_tax: no visible binding for global variable ‘Consensus
Lineage’
import_qiime_otu_tax: no visible binding for global variable ‘#OTU ID’
import_qiime_sample_data: no visible global function definition for
‘read.table’
import_uparse: no visible global function definition for ‘:=’
import_uparse: no visible binding for global variable ‘count’
import_uparse: no visible binding for global variable ‘queryString’
import_uparse: no visible binding for global variable ‘queryID’
import_uparse: no visible binding for global variable ‘Classification’
import_uparse: no visible global function definition for
‘dcast.data.table’
import_uparse: no visible binding for global variable ‘OTULabel’
import_usearch_uc: no visible global function definition for ‘:=’
import_usearch_uc: no visible binding for global variable ‘read’
microbio_me_qiime: no visible global function definition for
‘download.file’
microbio_me_qiime: no visible global function definition for ‘unzip’
microbio_me_qiime: no visible global function definition for ‘untar’
nodeplotboot : <anonymous>: no visible global function definition for
‘complete.cases’
nodeplotboot : <anonymous>: no visible binding for global variable ‘x’
nodeplotboot : <anonymous>: no visible binding for global variable ‘y’
nodeplotdefault : <anonymous>: no visible binding for global variable
‘x’
nodeplotdefault : <anonymous>: no visible binding for global variable
‘y’
nodeplotdefault : <anonymous>: no visible binding for global variable
‘label’
ordinate: no visible global function definition for ‘as.formula’
plot_clusgap: no visible binding for global variable ‘k’
plot_clusgap: no visible binding for global variable ‘gap’
plot_clusgap: no visible binding for global variable ‘SE.sim’
plot_heatmap: no visible global function definition for
‘capture.output’
plot_heatmap: no visible binding for global variable ‘Sample’
plot_heatmap: no visible binding for global variable ‘OTU’
plot_heatmap: no visible binding for global variable ‘Abundance’
plot_net : vertex_layout: no visible binding for global variable ‘x’
plot_net : link_layout: no visible binding for global variable ‘x’
plot_net : link_layout: no visible binding for global variable ‘y’
plot_net: no visible binding for global variable ‘x’
plot_net: no visible binding for global variable ‘y’
plot_net: no visible binding for global variable ‘xend’
plot_net: no visible binding for global variable ‘yend’
plot_network: no visible binding for global variable ‘x’
plot_network: no visible binding for global variable ‘y’
plot_richness: no visible binding for global variable ‘value’
plot_richness: no visible binding for global variable ‘se’
plot_scree: no visible binding for global variable ‘axis’
plot_scree: no visible binding for global variable ‘eigenvalue’
plot_tree: no visible binding for global variable ‘xleft’
plot_tree: no visible binding for global variable ‘xright’
plot_tree: no visible binding for global variable ‘y’
plot_tree: no visible binding for global variable ‘x’
plot_tree: no visible binding for global variable ‘vmin’
plot_tree: no visible binding for global variable ‘vmax’
plot_tree: no visible binding for global variable ‘OTU’
plot_tree: no visible binding for global variable ‘label’
plot_tree: no visible binding for global variable ‘Abundance’
plot_tree: no visible binding for global variable ‘Sample’
plot_tree: no visible global function definition for ‘:=’
plot_tree: no visible binding for global variable ‘h.adj.index’
plot_tree: no visible binding for global variable ‘xdodge’
plot_tree: no visible binding for global variable ‘xfartiplab’
plot_tree: no visible binding for global variable ‘.SD’
rp.joint.fill: no visible global function definition for ‘relevel’
tip_glom: no visible global function definition for ‘as.dist’
tip_glom: no visible global function definition for ‘cutree’
tip_glom: no visible global function definition for ‘as.hclust’
tree_layout: no visible global function definition for ‘:=’
tree_layout: no visible binding for global variable ‘OTU’
tree_layout: no visible binding for global variable ‘V2’
tree_layout: no visible binding for global variable ‘xleft’
tree_layout: no visible binding for global variable ‘V1’
tree_layout: no visible binding for global variable ‘xright’
tree_layout: no visible binding for global variable ‘y’
tree_layout: no visible binding for global variable ‘x’
tree_layout: no visible binding for global variable ‘label’
tree_layout: no visible global function definition for ‘J’
tree_layout: no visible binding for global variable ‘vmin’
tree_layout: no visible binding for global variable ‘vmax’
JSD,matrix: no visible global function definition for ‘combn’
JSD,matrix: no visible binding for global variable ‘i’
JSD,matrix: no visible global function definition for ‘as.dist’
capscale.phyloseq,phyloseq-formula-character: no visible global
function definition for ‘as.formula’
capscale.phyloseq,phyloseq-formula-dist: no visible global function
definition for ‘as.formula’
cca.phyloseq,phyloseq-formula: no visible global function definition
for ‘as.formula’
distance,phyloseq-character: no visible global function definition for
‘as.dist’
merge_phyloseq_pair,sample_data-sample_data : <anonymous>: no visible
binding for global variable ‘X0’
merge_samples,sample_data: no visible global function definition for
‘aggregate’
plot_phyloseq,phyloseq: no visible binding for global variable
‘esophagus’
Undefined global functions or variables:
#OTU ID .SD := Abundance Classification Consensus Lineage J OTU
OTULabel SE.sim Sample V1 V2 X0 aggregate as.dist as.formula
as.hclust axis capture.output combn complete.cases count cutree
dcast.data.table download.file eigenvalue esophagus gap h.adj.index
head i k label queryID queryString read read.table relevel se tail
untar unzip value vmax vmin write.table x xdodge xend xfartiplab
xleft xright y yend
Consider adding
importFrom("graphics", "axis")
importFrom("stats", "aggregate", "as.dist", "as.formula", "as.hclust",
"complete.cases", "cutree", "relevel")
importFrom("utils", "capture.output", "combn", "download.file", "head",
"read.table", "tail", "untar", "unzip", "write.table")
to your NAMESPACE file.
* checking Rd files ... OK
* checking Rd metadata ... OK
* checking Rd cross-references ... OK
* checking for missing documentation entries ... OK
* checking for code/documentation mismatches ... OK
* checking Rd \usage sections ... OK
* checking Rd contents ... OK
* checking for unstated dependencies in examples ... OK
* checking contents of ‘data’ directory ... OK
* checking data for non-ASCII characters ... OK
* checking data for ASCII and uncompressed saves ... OK
* checking installed files from ‘inst/doc’ ... OK
* checking files in ‘vignettes’ ... OK
* checking examples ... OK
Examples with CPU (user + system) or elapsed time > 5s
user system elapsed
plot_net 9.574 2.822 5.786
plot_heatmap 10.618 0.372 11.046
plot_richness 6.023 0.920 6.949
threshrank 4.022 2.682 6.709
plot_clusgap 4.852 0.162 5.019
* checking for unstated dependencies in ‘tests’ ... OK
* checking tests ...
Running ‘testthat-phyloseq.R’
OK
* checking for unstated dependencies in vignettes ... OK
* checking package vignettes in ‘inst/doc’ ... OK
* checking running R code from vignettes ... SKIPPED
* checking re-building of vignette outputs ... SKIPPED
* checking PDF version of manual ... OK
* DONE
Status: 2 NOTEs
See
‘/Users/biocbuild/bbs-3.11-bioc/meat/phyloseq.Rcheck/00check.log’
for details.
phyloseq.Rcheck/00install.out
############################################################################## ############################################################################## ### ### Running command: ### ### /Library/Frameworks/R.framework/Versions/Current/Resources/bin/R CMD INSTALL phyloseq ### ############################################################################## ############################################################################## * installing to library ‘/Library/Frameworks/R.framework/Versions/4.0/Resources/library’ * installing *source* package ‘phyloseq’ ... ** using staged installation ** R ** data ** inst ** byte-compile and prepare package for lazy loading ** help *** installing help indices ** building package indices ** installing vignettes ‘phyloseq-FAQ.Rmd’ using ‘UTF-8’ ‘phyloseq-analysis.Rmd’ ‘phyloseq-basics.Rmd’ ‘phyloseq-mixture-models.Rmd’ ** testing if installed package can be loaded from temporary location ** testing if installed package can be loaded from final location ** testing if installed package keeps a record of temporary installation path * DONE (phyloseq)
phyloseq.Rcheck/tests/testthat-phyloseq.Rout
R Under development (unstable) (2019-12-14 r77572) -- "Unsuffered Consequences"
Copyright (C) 2019 The R Foundation for Statistical Computing
Platform: x86_64-apple-darwin15.6.0 (64-bit)
R is free software and comes with ABSOLUTELY NO WARRANTY.
You are welcome to redistribute it under certain conditions.
Type 'license()' or 'licence()' for distribution details.
R is a collaborative project with many contributors.
Type 'contributors()' for more information and
'citation()' on how to cite R or R packages in publications.
Type 'demo()' for some demos, 'help()' for on-line help, or
'help.start()' for an HTML browser interface to help.
Type 'q()' to quit R.
> library("testthat")
> packageVersion("phyloseq")
[1] '1.31.0'
> # As suggested for opt-out option on testing by users, recommended by CRAN
> # http://adv-r.had.co.nz/Testing.html
> # Previously, best practice was to put all test files in inst/tests and ensure that R CMD check ran them by putting the following code in tests/test-all.R:
> # library(testthat)
> # library(yourpackage)
> # test_package("yourpackage")
> # Now, recommended practice is to put your tests in tests/testthat, and ensure R CMD check runs them by putting the following code in tests/test-all.R:
> # library(testthat)
> # test_check("yourpackage")
> # The advantage of this new structure is that the user has control over whether or not tests are installed using the –install-tests parameter to R CMD install, or INSTALL_opts = c(“–install-tests”) argument to install.packages(). I’m not sure why you wouldn’t want to install the tests, but now you have the flexibility as requested by CRAN maintainers.
> test_check("phyloseq")
Loading required package: phyloseq
Found biom-format file, now parsing it...
Done parsing biom...
Importing Sample Metdadata from mapping file...
Merging the imported objects...
Successfully merged, phyloseq-class created.
Returning...
Found biom-format file, now parsing it...
Done parsing biom...
Importing Sample Metdadata from mapping file...
Merging the imported objects...
Successfully merged, phyloseq-class created.
Returning...
Reading `ucfile` into memory and parsing into table
Initially read 100 entries.
... Now removing unassigned OTUs (* or NA)...
Removed 7 entries that had no OTU assignment.
A total of 93 will be assigned to the OTU table.
Processing otu/tax file...
Reading file into memory prior to parsing...
Detecting first header line...
Header is on line 2
Converting input file to a table...
Defining OTU table...
Parsing taxonomy table...
Processing phylogenetic tree...
/Library/Frameworks/R.framework/Versions/4.0/Resources/library/phyloseq/extdata/GP_tree_rand_short.newick.gz ...
Processing map file...
Processing otu/tax file...
Reading file into memory prior to parsing...
Detecting first header line...
Header is on line 2
Converting input file to a table...
Defining OTU table...
Parsing taxonomy table...
Processing phylogenetic tree...
/Library/Frameworks/R.framework/Versions/4.0/Resources/library/phyloseq/extdata/GP_tree_rand_short.newick.gz ...
Processing Reference Sequences...
══ testthat results ═══════════════════════════════════════════════════════════
[ OK: 604 | SKIPPED: 0 | WARNINGS: 49 | FAILED: 0 ]
>
> proc.time()
user system elapsed
131.911 10.641 140.809
phyloseq.Rcheck/phyloseq-Ex.timings
| name | user | system | elapsed | |
| DPCoA | 4.241 | 0.344 | 4.585 | |
| JSD | 0.001 | 0.000 | 0.001 | |
| UniFrac-methods | 0.205 | 0.012 | 0.217 | |
| access | 0 | 0 | 0 | |
| assign-otu_table | 0 | 0 | 0 | |
| assign-phy_tree | 0.071 | 0.008 | 0.079 | |
| assign-sample_data | 0.228 | 0.036 | 0.264 | |
| assign-sample_names | 0.015 | 0.008 | 0.024 | |
| assign-tax_table | 0.000 | 0.000 | 0.002 | |
| assign-taxa_are_rows | 0.005 | 0.008 | 0.013 | |
| assign-taxa_names | 0.013 | 0.008 | 0.021 | |
| build_tax_table | 0.024 | 0.005 | 0.028 | |
| capscale-phyloseq-methods | 0.999 | 0.103 | 1.104 | |
| cca-rda-phyloseq-methods | 0.000 | 0.000 | 0.001 | |
| chunkReOrder | 0.001 | 0.001 | 0.001 | |
| data-GlobalPatterns | 1.687 | 0.184 | 1.870 | |
| data-enterotype | 2.485 | 0.123 | 2.609 | |
| data-esophagus | 0.910 | 0.007 | 0.918 | |
| data-soilrep | 1.898 | 0.347 | 2.246 | |
| distance | 0.340 | 0.064 | 0.418 | |
| distanceMethodList | 0.001 | 0.001 | 0.002 | |
| envHash2otu_table | 0.000 | 0.001 | 0.001 | |
| estimate_richness | 0.045 | 0.006 | 0.053 | |
| export_env_file | 0 | 0 | 0 | |
| export_mothur_dist | 0.099 | 0.051 | 0.174 | |
| extract-methods | 0.014 | 0.003 | 0.016 | |
| filter_taxa | 2.759 | 0.172 | 2.930 | |
| filterfun_sample | 0.035 | 0.001 | 0.036 | |
| gapstat_ord | 2.019 | 0.067 | 2.088 | |
| genefilter_sample-methods | 0.000 | 0.000 | 0.001 | |
| get.component.classes | 0.001 | 0.000 | 0.001 | |
| get_sample-methods | 0.004 | 0.005 | 0.010 | |
| get_taxa-methods | 0.004 | 0.004 | 0.007 | |
| get_taxa_unique | 0.342 | 0.040 | 0.384 | |
| get_variable | 0.238 | 0.019 | 0.256 | |
| getslots.phyloseq | 0.183 | 0.023 | 0.206 | |
| import | 0 | 0 | 0 | |
| import_RDP_otu | 0.987 | 0.025 | 1.012 | |
| import_biom | 0.350 | 0.010 | 0.373 | |
| import_env_file | 0 | 0 | 0 | |
| import_mothur | 0.000 | 0.001 | 0.001 | |
| import_mothur_dist | 0 | 0 | 0 | |
| import_pyrotagger_tab | 0 | 0 | 0 | |
| import_qiime | 1.143 | 0.022 | 1.170 | |
| import_qiime_otu_tax | 1.046 | 0.135 | 1.180 | |
| import_qiime_sample_data | 0.026 | 0.003 | 0.030 | |
| import_uparse | 0 | 0 | 0 | |
| import_usearch_uc | 0.025 | 0.014 | 0.039 | |
| index_reorder | 0 | 0 | 0 | |
| intersect_taxa | 0.001 | 0.000 | 0.000 | |
| make_network | 3.573 | 0.091 | 3.668 | |
| merge_phyloseq | 0.001 | 0.000 | 0.000 | |
| merge_phyloseq_pair-methods | 0.000 | 0.000 | 0.001 | |
| merge_samples-methods | 0.897 | 0.228 | 1.126 | |
| merge_taxa-methods | 0.077 | 0.004 | 0.080 | |
| microbio_me_qiime | 2.478 | 0.034 | 2.517 | |
| mt-methods | 1.659 | 0.022 | 1.681 | |
| nodeplotblank | 1.585 | 0.920 | 0.633 | |
| nodeplotboot | 0.003 | 0.000 | 0.003 | |
| nodeplotdefault | 0.001 | 0.000 | 0.001 | |
| nsamples-methods | 0.045 | 0.006 | 0.051 | |
| ntaxa-methods | 0.004 | 0.006 | 0.011 | |
| ordinate | 0 | 0 | 0 | |
| otu_table-methods | 0.001 | 0.001 | 0.001 | |
| parseTaxonomy-functions | 0.003 | 0.001 | 0.004 | |
| phy_tree-methods | 0.177 | 0.019 | 0.195 | |
| phyloseq | 0.023 | 0.006 | 0.030 | |
| phyloseq_to_deseq2 | 4.527 | 0.241 | 4.769 | |
| phyloseq_to_metagenomeSeq | 2.582 | 0.234 | 2.817 | |
| plot_bar | 4.302 | 0.292 | 4.599 | |
| plot_clusgap | 4.852 | 0.162 | 5.019 | |
| plot_heatmap | 10.618 | 0.372 | 11.046 | |
| plot_net | 9.574 | 2.822 | 5.786 | |
| plot_network | 4.142 | 0.053 | 4.200 | |
| plot_ordination | 0.932 | 0.088 | 1.020 | |
| plot_phyloseq-methods | 0.933 | 0.440 | 0.509 | |
| plot_richness | 6.023 | 0.920 | 6.949 | |
| plot_scree | 2.543 | 0.158 | 2.704 | |
| plot_tree | 1.988 | 0.815 | 1.154 | |
| prune_samples-methods | 0.610 | 0.166 | 0.777 | |
| prune_taxa-methods | 0.078 | 0.003 | 0.083 | |
| psmelt | 1.227 | 0.192 | 1.419 | |
| rank_names | 0.032 | 0.011 | 0.044 | |
| rarefy_even_depth | 0.132 | 0.008 | 0.141 | |
| read_tree | 0.033 | 0.002 | 0.035 | |
| read_tree_greengenes | 0.016 | 0.002 | 0.018 | |
| reconcile_categories | 0.000 | 0.001 | 0.001 | |
| refseq-methods | 0.245 | 0.029 | 0.274 | |
| rm_outlierf | 0.021 | 0.001 | 0.022 | |
| sample_data-methods | 0.059 | 0.012 | 0.070 | |
| sample_names-methods | 0.003 | 0.007 | 0.010 | |
| sample_sums | 0.029 | 0.019 | 0.049 | |
| sample_variables | 0.021 | 0.009 | 0.030 | |
| show-methods | 0.000 | 0.000 | 0.001 | |
| splat.phyloseq.objects | 0.000 | 0.001 | 0.000 | |
| subset_ord_plot | 0 | 0 | 0 | |
| subset_samples-methods | 0.000 | 0.000 | 0.001 | |
| subset_taxa-methods | 0 | 0 | 0 | |
| tax_glom | 0 | 0 | 0 | |
| tax_table-methods | 0.000 | 0.000 | 0.001 | |
| taxa_names-methods | 0.026 | 0.007 | 0.033 | |
| taxa_sums | 0.034 | 0.025 | 0.058 | |
| threshrank | 4.022 | 2.682 | 6.709 | |
| threshrankfun | 0.091 | 0.007 | 0.098 | |
| tip_glom | 2.482 | 1.145 | 1.420 | |
| topf | 0.021 | 0.002 | 0.022 | |
| topk | 0.022 | 0.001 | 0.022 | |
| topp | 0.024 | 0.001 | 0.026 | |
| transformcounts | 0.173 | 0.005 | 0.179 | |
| transpose-methods | 1.728 | 1.723 | 3.452 | |
| tree_layout | 3.390 | 0.881 | 1.154 | |