| Back to Multiple platform build/check report for BioC 3.11 |
|
This page was generated on 2020-10-17 11:55:21 -0400 (Sat, 17 Oct 2020).
| TO THE DEVELOPERS/MAINTAINERS OF THE peakPantheR PACKAGE: Please make sure to use the following settings in order to reproduce any error or warning you see on this page. |
| Package 1289/1905 | Hostname | OS / Arch | INSTALL | BUILD | CHECK | BUILD BIN | ||||||
| peakPantheR 1.2.0 Arnaud Wolfer
| malbec2 | Linux (Ubuntu 18.04.4 LTS) / x86_64 | OK | OK | [ OK ] | |||||||
| tokay2 | Windows Server 2012 R2 Standard / x64 | OK | OK | OK | OK | |||||||
| machv2 | macOS 10.14.6 Mojave / x86_64 | OK | OK | OK | OK |
| Package: peakPantheR |
| Version: 1.2.0 |
| Command: /home/biocbuild/bbs-3.11-bioc/R/bin/R CMD check --install=check:peakPantheR.install-out.txt --library=/home/biocbuild/bbs-3.11-bioc/R/library --no-vignettes --timings peakPantheR_1.2.0.tar.gz |
| StartedAt: 2020-10-17 04:00:32 -0400 (Sat, 17 Oct 2020) |
| EndedAt: 2020-10-17 04:14:49 -0400 (Sat, 17 Oct 2020) |
| EllapsedTime: 857.8 seconds |
| RetCode: 0 |
| Status: OK |
| CheckDir: peakPantheR.Rcheck |
| Warnings: 0 |
##############################################################################
##############################################################################
###
### Running command:
###
### /home/biocbuild/bbs-3.11-bioc/R/bin/R CMD check --install=check:peakPantheR.install-out.txt --library=/home/biocbuild/bbs-3.11-bioc/R/library --no-vignettes --timings peakPantheR_1.2.0.tar.gz
###
##############################################################################
##############################################################################
* using log directory ‘/home/biocbuild/bbs-3.11-bioc/meat/peakPantheR.Rcheck’
* using R version 4.0.3 (2020-10-10)
* using platform: x86_64-pc-linux-gnu (64-bit)
* using session charset: UTF-8
* using option ‘--no-vignettes’
* checking for file ‘peakPantheR/DESCRIPTION’ ... OK
* this is package ‘peakPantheR’ version ‘1.2.0’
* package encoding: UTF-8
* checking package namespace information ... OK
* checking package dependencies ... OK
* checking if this is a source package ... OK
* checking if there is a namespace ... OK
* checking for hidden files and directories ... OK
* checking for portable file names ... OK
* checking for sufficient/correct file permissions ... OK
* checking whether package ‘peakPantheR’ can be installed ... OK
* checking installed package size ... OK
* checking package directory ... OK
* checking ‘build’ directory ... OK
* checking DESCRIPTION meta-information ... OK
* checking top-level files ... OK
* checking for left-over files ... OK
* checking index information ... OK
* checking package subdirectories ... OK
* checking R files for non-ASCII characters ... OK
* checking R files for syntax errors ... OK
* checking whether the package can be loaded ... OK
* checking whether the package can be loaded with stated dependencies ... OK
* checking whether the package can be unloaded cleanly ... OK
* checking whether the namespace can be loaded with stated dependencies ... OK
* checking whether the namespace can be unloaded cleanly ... OK
* checking dependencies in R code ... OK
* checking S3 generic/method consistency ... OK
* checking replacement functions ... OK
* checking foreign function calls ... OK
* checking R code for possible problems ... OK
* checking Rd files ... OK
* checking Rd metadata ... OK
* checking Rd cross-references ... OK
* checking for missing documentation entries ... OK
* checking for code/documentation mismatches ... OK
* checking Rd \usage sections ... OK
* checking Rd contents ... OK
* checking for unstated dependencies in examples ... OK
* checking files in ‘vignettes’ ... OK
* checking examples ... OK
Examples with CPU (user + system) or elapsed time > 5s
user system elapsed
peakPantheR_ROIStatistics 15.613 0.168 15.781
peakPantheR_parallelAnnotation 13.846 0.040 13.895
EICs-peakPantheRAnnotation-method 11.444 0.263 11.936
outputAnnotationDiagnostic-peakPantheRAnnotation-method 11.333 0.036 11.436
outputAnnotationResult-peakPantheRAnnotation-method 10.414 0.028 10.442
* checking for unstated dependencies in ‘tests’ ... OK
* checking tests ...
Running ‘testthat.R’
OK
* checking for unstated dependencies in vignettes ... OK
* checking package vignettes in ‘inst/doc’ ... OK
* checking running R code from vignettes ... SKIPPED
* checking re-building of vignette outputs ... SKIPPED
* checking PDF version of manual ... OK
* DONE
Status: OK
peakPantheR.Rcheck/00install.out
############################################################################## ############################################################################## ### ### Running command: ### ### /home/biocbuild/bbs-3.11-bioc/R/bin/R CMD INSTALL peakPantheR ### ############################################################################## ############################################################################## * installing to library ‘/home/biocbuild/bbs-3.11-bioc/R/library’ * installing *source* package ‘peakPantheR’ ... ** using staged installation ** R ** inst ** byte-compile and prepare package for lazy loading ** help *** installing help indices *** copying figures ** building package indices ** installing vignettes ** testing if installed package can be loaded from temporary location ** testing if installed package can be loaded from final location ** testing if installed package keeps a record of temporary installation path * DONE (peakPantheR)
peakPantheR.Rcheck/tests/testthat.Rout
R version 4.0.3 (2020-10-10) -- "Bunny-Wunnies Freak Out"
Copyright (C) 2020 The R Foundation for Statistical Computing
Platform: x86_64-pc-linux-gnu (64-bit)
R is free software and comes with ABSOLUTELY NO WARRANTY.
You are welcome to redistribute it under certain conditions.
Type 'license()' or 'licence()' for distribution details.
R is a collaborative project with many contributors.
Type 'contributors()' for more information and
'citation()' on how to cite R or R packages in publications.
Type 'demo()' for some demos, 'help()' for on-line help, or
'help.start()' for an HTML browser interface to help.
Type 'q()' to quit R.
> library(testthat)
> library(peakPantheR)
This is peakPantheR version 1.2.0
>
> test_check("peakPantheR")
══ testthat results ═══════════════════════════════════════════════════════════
[ OK: 1245 | SKIPPED: 0 | WARNINGS: 0 | FAILED: 0 ]
>
> proc.time()
user system elapsed
554.928 4.656 724.596
peakPantheR.Rcheck/peakPantheR-Ex.timings
| name | user | system | elapsed | |
| EICs-peakPantheRAnnotation-method | 11.444 | 0.263 | 11.936 | |
| FIR-peakPantheRAnnotation-method | 0.206 | 0.012 | 0.219 | |
| ROI-peakPantheRAnnotation-method | 0.149 | 0.016 | 0.166 | |
| TIC-peakPantheRAnnotation-method | 0.237 | 0.004 | 0.242 | |
| acquisitionTime-peakPantheRAnnotation-method | 0.154 | 0.000 | 0.155 | |
| annotationDiagnosticPlots-peakPantheRAnnotation-method | 0.159 | 0.000 | 0.159 | |
| annotationParamsDiagnostic-peakPantheRAnnotation-method | 0.149 | 0.000 | 0.148 | |
| annotationTable-peakPantheRAnnotation-method | 0.15 | 0.00 | 0.15 | |
| cpdID-peakPantheRAnnotation-method | 0.154 | 0.000 | 0.154 | |
| cpdMetadata-peakPantheRAnnotation-method | 0.137 | 0.004 | 0.141 | |
| cpdName-peakPantheRAnnotation-method | 0.146 | 0.000 | 0.147 | |
| dataPoints-peakPantheRAnnotation-method | 0.143 | 0.000 | 0.143 | |
| filename-peakPantheRAnnotation-method | 0.145 | 0.000 | 0.145 | |
| filepath-peakPantheRAnnotation-method | 0.149 | 0.000 | 0.149 | |
| isAnnotated-peakPantheRAnnotation-method | 0.139 | 0.004 | 0.143 | |
| nbCompounds-peakPantheRAnnotation-method | 0.143 | 0.000 | 0.144 | |
| nbSamples-peakPantheRAnnotation-method | 0.160 | 0.004 | 0.164 | |
| outputAnnotationDiagnostic-peakPantheRAnnotation-method | 11.333 | 0.036 | 11.436 | |
| outputAnnotationResult-peakPantheRAnnotation-method | 10.414 | 0.028 | 10.442 | |
| peakFit-peakPantheRAnnotation-method | 0.19 | 0.00 | 0.19 | |
| peakPantheRAnnotation | 0.162 | 0.000 | 0.162 | |
| peakPantheR_ROIStatistics | 15.613 | 0.168 | 15.781 | |
| peakPantheR_loadAnnotationParamsCSV | 0.009 | 0.000 | 0.009 | |
| peakPantheR_parallelAnnotation | 13.846 | 0.040 | 13.895 | |
| peakPantheR_plotEICFit | 0.505 | 0.000 | 0.506 | |
| peakPantheR_plotPeakwidth | 0.638 | 0.000 | 0.638 | |
| peakPantheR_singleFileSearch | 4.366 | 0.032 | 4.406 | |
| peakTables-peakPantheRAnnotation-method | 0.189 | 0.000 | 0.189 | |
| resetAnnotation-peakPantheRAnnotation-method | 0.158 | 0.004 | 0.162 | |
| resetFIR-peakPantheRAnnotation-method | 0.005 | 0.000 | 0.005 | |
| spectraMetadata-peakPantheRAnnotation-method | 0.173 | 0.004 | 0.177 | |
| uROI-peakPantheRAnnotation-method | 0.164 | 0.008 | 0.172 | |
| uROIExist-peakPantheRAnnotation-method | 0.290 | 0.004 | 0.294 | |
| useFIR-peakPantheRAnnotation-method | 0.286 | 0.004 | 0.290 | |
| useUROI-peakPantheRAnnotation-method | 0.21 | 0.00 | 0.21 | |