| Back to Multiple platform build/check report for BioC 3.11 |
|
This page was generated on 2020-10-17 11:57:21 -0400 (Sat, 17 Oct 2020).
| TO THE DEVELOPERS/MAINTAINERS OF THE parody PACKAGE: Please make sure to use the following settings in order to reproduce any error or warning you see on this page. |
| Package 1267/1905 | Hostname | OS / Arch | INSTALL | BUILD | CHECK | BUILD BIN | ||||||
| parody 1.46.0 VJ Carey
| malbec2 | Linux (Ubuntu 18.04.4 LTS) / x86_64 | OK | OK | OK | |||||||
| tokay2 | Windows Server 2012 R2 Standard / x64 | OK | OK | OK | [ OK ] | |||||||
| machv2 | macOS 10.14.6 Mojave / x86_64 | OK | OK | OK | OK |
| Package: parody |
| Version: 1.46.0 |
| Command: rm -rf parody.buildbin-libdir && mkdir parody.buildbin-libdir && C:\Users\biocbuild\bbs-3.11-bioc\R\bin\R.exe CMD INSTALL --merge-multiarch --build --library=parody.buildbin-libdir parody_1.46.0.tar.gz |
| StartedAt: 2020-10-17 11:13:28 -0400 (Sat, 17 Oct 2020) |
| EndedAt: 2020-10-17 11:14:08 -0400 (Sat, 17 Oct 2020) |
| EllapsedTime: 40.0 seconds |
| RetCode: 0 |
| Status: OK |
| PackageFile: parody_1.46.0.zip |
| PackageFileSize: 355.7 KiB |
##############################################################################
##############################################################################
###
### Running command:
###
### rm -rf parody.buildbin-libdir && mkdir parody.buildbin-libdir && C:\Users\biocbuild\bbs-3.11-bioc\R\bin\R.exe CMD INSTALL --merge-multiarch --build --library=parody.buildbin-libdir parody_1.46.0.tar.gz
###
##############################################################################
##############################################################################
install for i386
* installing *source* package 'parody' ...
** using staged installation
** R
** data
** inst
** byte-compile and prepare package for lazy loading
** help
*** installing help indices
converting help for package 'parody'
finding HTML links ... done
box.scale html
bushfire html
calout.detect html
mv.calout.detect html
shorth html
tcost html
tukeyor html
** building package indices
** installing vignettes
** testing if installed package can be loaded from temporary location
** testing if installed package can be loaded from final location
** testing if installed package keeps a record of temporary installation path
install for x64
* installing *source* package 'parody' ...
** testing if installed package can be loaded
* MD5 sums
packaged installation of 'parody' as parody_1.46.0.zip
* DONE (parody)