| Back to Multiple platform build/check report for BioC 3.11 |
|
This page was generated on 2020-10-17 11:57:19 -0400 (Sat, 17 Oct 2020).
| TO THE DEVELOPERS/MAINTAINERS OF THE oneSENSE PACKAGE: Please make sure to use the following settings in order to reproduce any error or warning you see on this page. |
| Package 1233/1905 | Hostname | OS / Arch | INSTALL | BUILD | CHECK | BUILD BIN | ||||||
| oneSENSE 1.10.0 Yong Kee Tan
| malbec2 | Linux (Ubuntu 18.04.4 LTS) / x86_64 | OK | OK | WARNINGS | |||||||
| tokay2 | Windows Server 2012 R2 Standard / x64 | OK | OK | ERROR | [ OK ] | |||||||
| machv2 | macOS 10.14.6 Mojave / x86_64 | OK | OK | WARNINGS | OK |
| Package: oneSENSE |
| Version: 1.10.0 |
| Command: rm -rf oneSENSE.buildbin-libdir && mkdir oneSENSE.buildbin-libdir && C:\Users\biocbuild\bbs-3.11-bioc\R\bin\R.exe CMD INSTALL --merge-multiarch --build --library=oneSENSE.buildbin-libdir oneSENSE_1.10.0.tar.gz |
| StartedAt: 2020-10-17 11:11:19 -0400 (Sat, 17 Oct 2020) |
| EndedAt: 2020-10-17 11:11:56 -0400 (Sat, 17 Oct 2020) |
| EllapsedTime: 36.6 seconds |
| RetCode: 0 |
| Status: OK |
| PackageFile: oneSENSE_1.10.0.zip |
| PackageFileSize: 1.665 MiB |
##############################################################################
##############################################################################
###
### Running command:
###
### rm -rf oneSENSE.buildbin-libdir && mkdir oneSENSE.buildbin-libdir && C:\Users\biocbuild\bbs-3.11-bioc\R\bin\R.exe CMD INSTALL --merge-multiarch --build --library=oneSENSE.buildbin-libdir oneSENSE_1.10.0.tar.gz
###
##############################################################################
##############################################################################
install for i386
* installing *source* package 'oneSENSE' ...
** using staged installation
** R
** inst
** byte-compile and prepare package for lazy loading
** help
*** installing help indices
converting help for package 'oneSENSE'
finding HTML links ... done
FCStSNE html
OneSmapperFlour html
OneSmapperFreq1 html
OneSmapperFreq2 html
getCoords html
getParameters html
oneSENSE_GUI html
** building package indices
** installing vignettes
** testing if installed package can be loaded from temporary location
** testing if installed package can be loaded from final location
** testing if installed package keeps a record of temporary installation path
install for x64
* installing *source* package 'oneSENSE' ...
** testing if installed package can be loaded
* MD5 sums
packaged installation of 'oneSENSE' as oneSENSE_1.10.0.zip
* DONE (oneSENSE)