| Back to Multiple platform build/check report for BioC 3.11 | 
  | 
This page was generated on 2020-10-17 11:57:18 -0400 (Sat, 17 Oct 2020).
| TO THE DEVELOPERS/MAINTAINERS OF THE omicRexposome PACKAGE: Please make sure to use the following settings in order to reproduce any error or warning you see on this page. | 
| Package 1223/1905 | Hostname | OS / Arch | INSTALL | BUILD | CHECK | BUILD BIN | ||||||
| omicRexposome 1.10.0 Carles Hernandez-Ferrer 
  | malbec2 | Linux (Ubuntu 18.04.4 LTS) / x86_64 | OK | OK | OK | |||||||
| tokay2 | Windows Server 2012 R2 Standard / x64 | [ OK ] | OK | OK | OK | |||||||
| machv2 | macOS 10.14.6 Mojave / x86_64 | OK | OK | OK | OK | 
| Package: omicRexposome | 
| Version: 1.10.0 | 
| Command: C:\cygwin\bin\curl.exe -O https://malbec2.bioconductor.org/BBS/3.11/bioc/src/contrib/omicRexposome_1.10.0.tar.gz && rm -rf omicRexposome.buildbin-libdir && mkdir omicRexposome.buildbin-libdir && C:\Users\biocbuild\bbs-3.11-bioc\R\bin\R.exe CMD INSTALL --merge-multiarch --build --library=omicRexposome.buildbin-libdir omicRexposome_1.10.0.tar.gz && C:\Users\biocbuild\bbs-3.11-bioc\R\bin\R.exe CMD INSTALL omicRexposome_1.10.0.zip && rm omicRexposome_1.10.0.tar.gz omicRexposome_1.10.0.zip | 
| StartedAt: 2020-10-16 18:38:07 -0400 (Fri, 16 Oct 2020) | 
| EndedAt: 2020-10-16 18:41:01 -0400 (Fri, 16 Oct 2020) | 
| EllapsedTime: 173.3 seconds | 
| RetCode: 0 | 
| Status: OK | 
##############################################################################
##############################################################################
###
### Running command:
###
###   C:\cygwin\bin\curl.exe -O https://malbec2.bioconductor.org/BBS/3.11/bioc/src/contrib/omicRexposome_1.10.0.tar.gz && rm -rf omicRexposome.buildbin-libdir && mkdir omicRexposome.buildbin-libdir && C:\Users\biocbuild\bbs-3.11-bioc\R\bin\R.exe CMD INSTALL --merge-multiarch --build --library=omicRexposome.buildbin-libdir omicRexposome_1.10.0.tar.gz && C:\Users\biocbuild\bbs-3.11-bioc\R\bin\R.exe CMD INSTALL omicRexposome_1.10.0.zip && rm omicRexposome_1.10.0.tar.gz omicRexposome_1.10.0.zip
###
##############################################################################
##############################################################################
  % Total    % Received % Xferd  Average Speed   Time    Time     Time  Current
                                 Dload  Upload   Total   Spent    Left  Speed
  0     0    0     0    0     0      0      0 --:--:-- --:--:-- --:--:--     0
100 1355k  100 1355k    0     0  5487k      0 --:--:-- --:--:-- --:--:-- 5649k
install for i386
* installing *source* package 'omicRexposome' ...
** using staged installation
** R
** data
*** moving datasets to lazyload DB
Registered S3 method overwritten by 'pryr':
  method      from
  print.bytes Rcpp
** inst
** byte-compile and prepare package for lazy loading
** help
*** installing help indices
  converting help for package 'omicRexposome'
    finding HTML links ... done
    add_cls-methods                         html  
    finding level-2 HTML links ... done
    add_exp-methods                         html  
    asr                                     html  
    association-methods                     html  
    crossomics-methods                      html  
    crs                                     html  
    getIntegration-methods                  html  
    mds                                     html  
    omicRexposome                           html  
    plotAssociation-methods                 html  
    plotHits-methods                        html  
    plotIntegration-methods                 html  
    plotLambda-methods                      html  
    snpToContinuous                         html  
    tableHits-methods                       html  
    tableLambda-methods                     html  
** building package indices
** installing vignettes
** testing if installed package can be loaded from temporary location
** testing if installed package can be loaded from final location
** testing if installed package keeps a record of temporary installation path
install for x64
* installing *source* package 'omicRexposome' ...
** testing if installed package can be loaded
* MD5 sums
packaged installation of 'omicRexposome' as omicRexposome_1.10.0.zip
* DONE (omicRexposome)
* installing to library 'C:/Users/biocbuild/bbs-3.11-bioc/R/library'
package 'omicRexposome' successfully unpacked and MD5 sums checked