| Back to Multiple platform build/check report for BioC 3.11 | 
  | 
This page was generated on 2020-10-17 11:57:18 -0400 (Sat, 17 Oct 2020).
| TO THE DEVELOPERS/MAINTAINERS OF THE oligoClasses PACKAGE: Please make sure to use the following settings in order to reproduce any error or warning you see on this page. | 
| Package 1216/1905 | Hostname | OS / Arch | INSTALL | BUILD | CHECK | BUILD BIN | ||||||
| oligoClasses 1.50.4 Benilton Carvalho 
  | malbec2 | Linux (Ubuntu 18.04.4 LTS) / x86_64 | OK | OK | WARNINGS | |||||||
| tokay2 | Windows Server 2012 R2 Standard / x64 | OK | [ OK ] | WARNINGS | OK | |||||||
| machv2 | macOS 10.14.6 Mojave / x86_64 | OK | OK | WARNINGS | OK | 
| Package: oligoClasses | 
| Version: 1.50.4 | 
| Command: chmod a+r oligoClasses -R && C:\Users\biocbuild\bbs-3.11-bioc\R\bin\R.exe CMD build --keep-empty-dirs --no-resave-data oligoClasses | 
| StartedAt: 2020-10-16 23:12:50 -0400 (Fri, 16 Oct 2020) | 
| EndedAt: 2020-10-16 23:12:54 -0400 (Fri, 16 Oct 2020) | 
| EllapsedTime: 4.3 seconds | 
| RetCode: 0 | 
| Status: OK | 
| PackageFile: oligoClasses_1.50.4.tar.gz | 
| PackageFileSize: 364.5 KiB | 
############################################################################## ############################################################################## ### ### Running command: ### ### chmod a+r oligoClasses -R && C:\Users\biocbuild\bbs-3.11-bioc\R\bin\R.exe CMD build --keep-empty-dirs --no-resave-data oligoClasses ### ############################################################################## ############################################################################## * checking for file 'oligoClasses/DESCRIPTION' ... OK * preparing 'oligoClasses': * checking DESCRIPTION meta-information ... OK * checking for LF line-endings in source and make files and shell scripts * checking for empty or unneeded directories * looking to see if a 'data/datalist' file should be added * building 'oligoClasses_1.50.4.tar.gz'