| Back to Multiple platform build/check report for BioC 3.11 |
|
This page was generated on 2020-10-17 11:57:17 -0400 (Sat, 17 Oct 2020).
| TO THE DEVELOPERS/MAINTAINERS OF THE nondetects PACKAGE: Please make sure to use the following settings in order to reproduce any error or warning you see on this page. |
| Package 1198/1905 | Hostname | OS / Arch | INSTALL | BUILD | CHECK | BUILD BIN | ||||||
| nondetects 2.18.0 Valeriia Sherina
| malbec2 | Linux (Ubuntu 18.04.4 LTS) / x86_64 | OK | OK | OK | |||||||
| tokay2 | Windows Server 2012 R2 Standard / x64 | [ OK ] | OK | OK | OK | |||||||
| machv2 | macOS 10.14.6 Mojave / x86_64 | OK | OK | OK | OK |
| Package: nondetects |
| Version: 2.18.0 |
| Command: C:\cygwin\bin\curl.exe -O https://malbec2.bioconductor.org/BBS/3.11/bioc/src/contrib/nondetects_2.18.0.tar.gz && rm -rf nondetects.buildbin-libdir && mkdir nondetects.buildbin-libdir && C:\Users\biocbuild\bbs-3.11-bioc\R\bin\R.exe CMD INSTALL --merge-multiarch --build --library=nondetects.buildbin-libdir nondetects_2.18.0.tar.gz && C:\Users\biocbuild\bbs-3.11-bioc\R\bin\R.exe CMD INSTALL nondetects_2.18.0.zip && rm nondetects_2.18.0.tar.gz nondetects_2.18.0.zip |
| StartedAt: 2020-10-16 17:38:51 -0400 (Fri, 16 Oct 2020) |
| EndedAt: 2020-10-16 17:39:39 -0400 (Fri, 16 Oct 2020) |
| EllapsedTime: 48.7 seconds |
| RetCode: 0 |
| Status: OK |
##############################################################################
##############################################################################
###
### Running command:
###
### C:\cygwin\bin\curl.exe -O https://malbec2.bioconductor.org/BBS/3.11/bioc/src/contrib/nondetects_2.18.0.tar.gz && rm -rf nondetects.buildbin-libdir && mkdir nondetects.buildbin-libdir && C:\Users\biocbuild\bbs-3.11-bioc\R\bin\R.exe CMD INSTALL --merge-multiarch --build --library=nondetects.buildbin-libdir nondetects_2.18.0.tar.gz && C:\Users\biocbuild\bbs-3.11-bioc\R\bin\R.exe CMD INSTALL nondetects_2.18.0.zip && rm nondetects_2.18.0.tar.gz nondetects_2.18.0.zip
###
##############################################################################
##############################################################################
% Total % Received % Xferd Average Speed Time Time Time Current
Dload Upload Total Spent Left Speed
0 0 0 0 0 0 0 0 --:--:-- --:--:-- --:--:-- 0
100 117k 100 117k 0 0 1712k 0 --:--:-- --:--:-- --:--:-- 1902k
install for i386
* installing *source* package 'nondetects' ...
** using staged installation
** R
** data
*** moving datasets to lazyload DB
** inst
** byte-compile and prepare package for lazy loading
** help
*** installing help indices
converting help for package 'nondetects'
finding HTML links ... done
nature2008 html
oncogene2013 html
qpcrImpute html
sagmb2011 html
** building package indices
** installing vignettes
'nondetects.Rmd' using 'UTF-8'
** testing if installed package can be loaded from temporary location
** testing if installed package can be loaded from final location
** testing if installed package keeps a record of temporary installation path
install for x64
* installing *source* package 'nondetects' ...
** testing if installed package can be loaded
* MD5 sums
packaged installation of 'nondetects' as nondetects_2.18.0.zip
* DONE (nondetects)
* installing to library 'C:/Users/biocbuild/bbs-3.11-bioc/R/library'
package 'nondetects' successfully unpacked and MD5 sums checked