| Back to Multiple platform build/check report for BioC 3.11 |
|
This page was generated on 2020-01-16 13:30:28 -0500 (Thu, 16 Jan 2020).
| Package 1138/1818 | Hostname | OS / Arch | INSTALL | BUILD | CHECK | BUILD BIN | ||||||
Holger Froehlich
| malbec2 | Linux (Ubuntu 18.04.3 LTS) / x86_64 | OK | OK | ERROR | |||||||
| tokay2 | Windows Server 2012 R2 Standard / x64 | OK | OK | ERROR | OK | |||||||
| celaya2 | OS X 10.11.6 El Capitan / x86_64 | OK | [ OK ] | ERROR | OK |
| Package: nem |
| Version: 2.61.1 |
| Command: /Library/Frameworks/R.framework/Versions/Current/Resources/bin/R CMD build --keep-empty-dirs --no-resave-data nem |
| StartedAt: 2020-01-15 19:58:36 -0500 (Wed, 15 Jan 2020) |
| EndedAt: 2020-01-15 20:00:04 -0500 (Wed, 15 Jan 2020) |
| EllapsedTime: 87.8 seconds |
| RetCode: 0 |
| Status: OK |
| PackageFile: nem_2.61.1.tar.gz |
| PackageFileSize: 7.914 MiB |
##############################################################################
##############################################################################
###
### Running command:
###
### /Library/Frameworks/R.framework/Versions/Current/Resources/bin/R CMD build --keep-empty-dirs --no-resave-data nem
###
##############################################################################
##############################################################################
* checking for file ‘nem/DESCRIPTION’ ... OK
* preparing ‘nem’:
* checking DESCRIPTION meta-information ... OK
* cleaning src
* installing the package to build vignettes
* creating vignettes ... OK
Warning: ‘inst/doc’ file
‘nem.Rnw’
ignored as vignettes have been rebuilt.
Run R CMD build with --no-build-vignettes to prevent rebuilding.
* cleaning src
* checking for LF line-endings in source and make files and shell scripts
* checking for empty or unneeded directories
* looking to see if a ‘data/datalist’ file should be added
* building ‘nem_2.61.1.tar.gz’