| Back to Multiple platform build/check report for BioC 3.11 |
|
This page was generated on 2020-10-17 11:55:15 -0400 (Sat, 17 Oct 2020).
| TO THE DEVELOPERS/MAINTAINERS OF THE nanotatoR PACKAGE: Please make sure to use the following settings in order to reproduce any error or warning you see on this page. |
| Package 1172/1905 | Hostname | OS / Arch | INSTALL | BUILD | CHECK | BUILD BIN | ||||||
| nanotatoR 1.4.0 Surajit Bhattacharya
| malbec2 | Linux (Ubuntu 18.04.4 LTS) / x86_64 | OK | OK | [ OK ] | |||||||
| tokay2 | Windows Server 2012 R2 Standard / x64 | OK | OK | OK | OK | |||||||
| machv2 | macOS 10.14.6 Mojave / x86_64 | OK | OK | OK | OK |
| Package: nanotatoR |
| Version: 1.4.0 |
| Command: /home/biocbuild/bbs-3.11-bioc/R/bin/R CMD check --install=check:nanotatoR.install-out.txt --library=/home/biocbuild/bbs-3.11-bioc/R/library --no-vignettes --timings nanotatoR_1.4.0.tar.gz |
| StartedAt: 2020-10-17 03:35:55 -0400 (Sat, 17 Oct 2020) |
| EndedAt: 2020-10-17 03:40:12 -0400 (Sat, 17 Oct 2020) |
| EllapsedTime: 256.5 seconds |
| RetCode: 0 |
| Status: OK |
| CheckDir: nanotatoR.Rcheck |
| Warnings: 0 |
##############################################################################
##############################################################################
###
### Running command:
###
### /home/biocbuild/bbs-3.11-bioc/R/bin/R CMD check --install=check:nanotatoR.install-out.txt --library=/home/biocbuild/bbs-3.11-bioc/R/library --no-vignettes --timings nanotatoR_1.4.0.tar.gz
###
##############################################################################
##############################################################################
* using log directory ‘/home/biocbuild/bbs-3.11-bioc/meat/nanotatoR.Rcheck’
* using R version 4.0.3 (2020-10-10)
* using platform: x86_64-pc-linux-gnu (64-bit)
* using session charset: UTF-8
* using option ‘--no-vignettes’
* checking for file ‘nanotatoR/DESCRIPTION’ ... OK
* this is package ‘nanotatoR’ version ‘1.4.0’
* package encoding: UTF-8
* checking package namespace information ... OK
* checking package dependencies ... OK
* checking if this is a source package ... OK
* checking if there is a namespace ... OK
* checking for hidden files and directories ... OK
* checking for portable file names ... OK
* checking for sufficient/correct file permissions ... OK
* checking whether package ‘nanotatoR’ can be installed ... OK
* checking installed package size ... OK
* checking package directory ... OK
* checking ‘build’ directory ... OK
* checking DESCRIPTION meta-information ... OK
* checking top-level files ... OK
* checking for left-over files ... OK
* checking index information ... OK
* checking package subdirectories ... OK
* checking R files for non-ASCII characters ... OK
* checking R files for syntax errors ... OK
* checking whether the package can be loaded ... OK
* checking whether the package can be loaded with stated dependencies ... OK
* checking whether the package can be unloaded cleanly ... OK
* checking whether the namespace can be loaded with stated dependencies ... OK
* checking whether the namespace can be unloaded cleanly ... OK
* checking dependencies in R code ... OK
* checking S3 generic/method consistency ... OK
* checking replacement functions ... OK
* checking foreign function calls ... OK
* checking R code for possible problems ... OK
* checking Rd files ... OK
* checking Rd metadata ... OK
* checking Rd cross-references ... OK
* checking for missing documentation entries ... OK
* checking for code/documentation mismatches ... OK
* checking Rd \usage sections ... OK
* checking Rd contents ... OK
* checking for unstated dependencies in examples ... OK
* checking files in ‘vignettes’ ... OK
* checking examples ... OK
Examples with CPU (user + system) or elapsed time > 5s
user system elapsed
gene_list_generation 4.15 0.031 7.655
* checking for unstated dependencies in ‘tests’ ... OK
* checking tests ...
Running ‘testthat.R’
OK
* checking for unstated dependencies in vignettes ... OK
* checking package vignettes in ‘inst/doc’ ... OK
* checking running R code from vignettes ... SKIPPED
* checking re-building of vignette outputs ... SKIPPED
* checking PDF version of manual ... OK
* DONE
Status: OK
nanotatoR.Rcheck/00install.out
############################################################################## ############################################################################## ### ### Running command: ### ### /home/biocbuild/bbs-3.11-bioc/R/bin/R CMD INSTALL nanotatoR ### ############################################################################## ############################################################################## * installing to library ‘/home/biocbuild/bbs-3.11-bioc/R/library’ * installing *source* package ‘nanotatoR’ ... ** using staged installation ** R ** inst ** byte-compile and prepare package for lazy loading ** help *** installing help indices ** building package indices ** installing vignettes ** testing if installed package can be loaded from temporary location ** testing if installed package can be loaded from final location ** testing if installed package keeps a record of temporary installation path * DONE (nanotatoR)
nanotatoR.Rcheck/tests/testthat.Rout
R version 4.0.3 (2020-10-10) -- "Bunny-Wunnies Freak Out"
Copyright (C) 2020 The R Foundation for Statistical Computing
Platform: x86_64-pc-linux-gnu (64-bit)
R is free software and comes with ABSOLUTELY NO WARRANTY.
You are welcome to redistribute it under certain conditions.
Type 'license()' or 'licence()' for distribution details.
R is a collaborative project with many contributors.
Type 'contributors()' for more information and
'citation()' on how to cite R or R packages in publications.
Type 'demo()' for some demos, 'help()' for on-line help, or
'help.start()' for an HTML browser interface to help.
Type 'q()' to quit R.
> library(testthat)
> library(nanotatoR)
>
> test_check("nanotatoR")
══ testthat results ═══════════════════════════════════════════════════════════
[ OK: 0 | SKIPPED: 0 | WARNINGS: 0 | FAILED: 0 ]
>
> proc.time()
user system elapsed
12.108 0.292 12.386
nanotatoR.Rcheck/nanotatoR-Ex.timings
| name | user | system | elapsed | |
| DGV_extraction | 0 | 0 | 0 | |
| Decipher_extraction | 0.357 | 0.024 | 0.391 | |
| buildrunBNBedFiles | 0.130 | 0.000 | 0.131 | |
| clinvar_gene | 3.010 | 0.092 | 4.703 | |
| cohortFrequency | 0.245 | 0.000 | 0.257 | |
| compSmapbed | 0.201 | 0.008 | 0.209 | |
| gene_extraction | 0.305 | 0.000 | 0.834 | |
| gene_list_generation | 4.150 | 0.031 | 7.655 | |
| gtr_gene | 0.355 | 0.003 | 1.289 | |
| internalFrequency | 0.970 | 0.004 | 0.989 | |
| makeMergedSVData | 0.254 | 0.004 | 0.264 | |
| makeMergedSmapData | 0.002 | 0.000 | 0.002 | |
| nanotatoR | 0.001 | 0.000 | 0.001 | |
| nonOverlapGenes | 0.523 | 0.004 | 0.527 | |
| omim_gene | 0.333 | 0.000 | 1.303 | |
| overlapGenes | 0.460 | 0.004 | 0.464 | |
| readBNBedFiles | 0.006 | 0.000 | 0.006 | |
| readSMap | 0.060 | 0.012 | 0.072 | |
| run_bionano_filter | 0.001 | 0.000 | 0.001 | |