| Back to Multiple platform build/check report for BioC 3.11 |
|
This page was generated on 2020-10-17 11:57:14 -0400 (Sat, 17 Oct 2020).
| TO THE DEVELOPERS/MAINTAINERS OF THE multiscan PACKAGE: Please make sure to use the following settings in order to reproduce any error or warning you see on this page. |
| Package 1158/1905 | Hostname | OS / Arch | INSTALL | BUILD | CHECK | BUILD BIN | ||||||
| multiscan 1.48.0 Mizanur Khondoker
| malbec2 | Linux (Ubuntu 18.04.4 LTS) / x86_64 | OK | OK | OK | |||||||
| tokay2 | Windows Server 2012 R2 Standard / x64 | OK | OK | OK | [ OK ] | |||||||
| machv2 | macOS 10.14.6 Mojave / x86_64 | OK | OK | OK | OK |
| Package: multiscan |
| Version: 1.48.0 |
| Command: rm -rf multiscan.buildbin-libdir && mkdir multiscan.buildbin-libdir && C:\Users\biocbuild\bbs-3.11-bioc\R\bin\R.exe CMD INSTALL --merge-multiarch --build --library=multiscan.buildbin-libdir multiscan_1.48.0.tar.gz |
| StartedAt: 2020-10-17 11:06:45 -0400 (Sat, 17 Oct 2020) |
| EndedAt: 2020-10-17 11:07:26 -0400 (Sat, 17 Oct 2020) |
| EllapsedTime: 41.0 seconds |
| RetCode: 0 |
| Status: OK |
| PackageFile: multiscan_1.48.0.zip |
| PackageFileSize: 639.4 KiB |
##############################################################################
##############################################################################
###
### Running command:
###
### rm -rf multiscan.buildbin-libdir && mkdir multiscan.buildbin-libdir && C:\Users\biocbuild\bbs-3.11-bioc\R\bin\R.exe CMD INSTALL --merge-multiarch --build --library=multiscan.buildbin-libdir multiscan_1.48.0.tar.gz
###
##############################################################################
##############################################################################
install for i386
* installing *source* package 'multiscan' ...
** using staged installation
** libs
"C:/rtools40/mingw32/bin/"gcc -I"C:/Users/BIOCBU~1/BBS-3~1.11-/R/include" -DNDEBUG -I"C:/extsoft/include" -O2 -Wall -std=gnu99 -mfpmath=sse -msse2 -mstackrealign -c multiscan.c -o multiscan.o
C:/rtools40/mingw32/bin/gcc -shared -s -static-libgcc -o multiscan.dll tmp.def multiscan.o -LC:/extsoft/lib/i386 -LC:/extsoft/lib -LC:/Users/BIOCBU~1/BBS-3~1.11-/R/bin/i386 -lR
installing to C:/Users/biocbuild/bbs-3.11-bioc/meat/multiscan.buildbin-libdir/00LOCK-multiscan/00new/multiscan/libs/i386
** R
** data
** inst
** byte-compile and prepare package for lazy loading
** help
*** installing help indices
converting help for package 'multiscan'
finding HTML links ... done
multiscan html
murine html
plot.multiscan html
** building package indices
** installing vignettes
** testing if installed package can be loaded from temporary location
*** Loaded multiscan Version 1.48.0 ***
Type 'vignette("multiscan")' to view the package vignette.
** testing if installed package can be loaded from final location
*** Loaded multiscan Version 1.48.0 ***
Type 'vignette("multiscan")' to view the package vignette.
** testing if installed package keeps a record of temporary installation path
install for x64
* installing *source* package 'multiscan' ...
** libs
"C:/rtools40/mingw64/bin/"gcc -I"C:/Users/BIOCBU~1/BBS-3~1.11-/R/include" -DNDEBUG -I"C:/extsoft/include" -O2 -Wall -std=gnu99 -mfpmath=sse -msse2 -mstackrealign -c multiscan.c -o multiscan.o
C:/rtools40/mingw64/bin/gcc -shared -s -static-libgcc -o multiscan.dll tmp.def multiscan.o -LC:/extsoft/lib/x64 -LC:/extsoft/lib -LC:/Users/BIOCBU~1/BBS-3~1.11-/R/bin/x64 -lR
installing to C:/Users/biocbuild/bbs-3.11-bioc/meat/multiscan.buildbin-libdir/multiscan/libs/x64
** testing if installed package can be loaded
*** Loaded multiscan Version 1.48.0 ***
Type 'vignette("multiscan")' to view the package vignette.
* MD5 sums
packaged installation of 'multiscan' as multiscan_1.48.0.zip
* DONE (multiscan)