| Back to Multiple platform build/check report for BioC 3.11 | 
  | 
This page was generated on 2020-10-17 11:57:12 -0400 (Sat, 17 Oct 2020).
| TO THE DEVELOPERS/MAINTAINERS OF THE msmsEDA PACKAGE: Please make sure to use the following settings in order to reproduce any error or warning you see on this page. | 
| Package 1139/1905 | Hostname | OS / Arch | INSTALL | BUILD | CHECK | BUILD BIN | ||||||
| msmsEDA 1.26.0 Josep Gregori 
  | malbec2 | Linux (Ubuntu 18.04.4 LTS) / x86_64 | OK | OK | OK | |||||||
| tokay2 | Windows Server 2012 R2 Standard / x64 | OK | OK | OK | [ OK ] | |||||||
| machv2 | macOS 10.14.6 Mojave / x86_64 | OK | OK | OK | OK | 
| Package: msmsEDA | 
| Version: 1.26.0 | 
| Command: rm -rf msmsEDA.buildbin-libdir && mkdir msmsEDA.buildbin-libdir && C:\Users\biocbuild\bbs-3.11-bioc\R\bin\R.exe CMD INSTALL --merge-multiarch --build --library=msmsEDA.buildbin-libdir msmsEDA_1.26.0.tar.gz | 
| StartedAt: 2020-10-17 11:05:31 -0400 (Sat, 17 Oct 2020) | 
| EndedAt: 2020-10-17 11:06:09 -0400 (Sat, 17 Oct 2020) | 
| EllapsedTime: 37.5 seconds | 
| RetCode: 0 | 
| Status: OK | 
| PackageFile: msmsEDA_1.26.0.zip | 
| PackageFileSize: 421.8 KiB | 
##############################################################################
##############################################################################
###
### Running command:
###
###   rm -rf msmsEDA.buildbin-libdir && mkdir msmsEDA.buildbin-libdir && C:\Users\biocbuild\bbs-3.11-bioc\R\bin\R.exe CMD INSTALL --merge-multiarch --build --library=msmsEDA.buildbin-libdir msmsEDA_1.26.0.tar.gz
###
##############################################################################
##############################################################################
install for i386
* installing *source* package 'msmsEDA' ...
** using staged installation
** R
** data
** inst
** byte-compile and prepare package for lazy loading
** help
*** installing help indices
  converting help for package 'msmsEDA'
    finding HTML links ... done
    batch.neutralize                        html  
    finding level-2 HTML links ... done
    count.stats                             html  
    counts.hc                               html  
    counts.heatmap                          html  
    counts.pca                              html  
    disp.estimates                          html  
    filter.flags                            html  
    gene.table                              html  
    msms.dataset                            html  
    msmsEDA-package                         html  
    norm.counts                             html  
    pnms                                    html  
    pp.msms.data                            html  
    spc.barplots                            html  
    spc.boxplots                            html  
    spc.densityplots                        html  
    spc.scatterplot                         html  
** building package indices
** installing vignettes
** testing if installed package can be loaded from temporary location
** testing if installed package can be loaded from final location
** testing if installed package keeps a record of temporary installation path
install for x64
* installing *source* package 'msmsEDA' ...
** testing if installed package can be loaded
* MD5 sums
packaged installation of 'msmsEDA' as msmsEDA_1.26.0.zip
* DONE (msmsEDA)