| Back to Multiple platform build/check report for BioC 3.11 |
|
This page was generated on 2020-10-17 11:57:10 -0400 (Sat, 17 Oct 2020).
| TO THE DEVELOPERS/MAINTAINERS OF THE mogsa PACKAGE: Please make sure to use the following settings in order to reproduce any error or warning you see on this page. |
| Package 1117/1905 | Hostname | OS / Arch | INSTALL | BUILD | CHECK | BUILD BIN | ||||||
| mogsa 1.22.1 Chen Meng
| malbec2 | Linux (Ubuntu 18.04.4 LTS) / x86_64 | OK | OK | OK | |||||||
| tokay2 | Windows Server 2012 R2 Standard / x64 | OK | OK | [ OK ] | OK | |||||||
| machv2 | macOS 10.14.6 Mojave / x86_64 | OK | OK | OK | OK |
| Package: mogsa |
| Version: 1.22.1 |
| Command: C:\Users\biocbuild\bbs-3.11-bioc\R\bin\R.exe CMD check --force-multiarch --install=check:mogsa.install-out.txt --library=C:\Users\biocbuild\bbs-3.11-bioc\R\library --no-vignettes --timings mogsa_1.22.1.tar.gz |
| StartedAt: 2020-10-17 06:11:50 -0400 (Sat, 17 Oct 2020) |
| EndedAt: 2020-10-17 06:15:23 -0400 (Sat, 17 Oct 2020) |
| EllapsedTime: 213.8 seconds |
| RetCode: 0 |
| Status: OK |
| CheckDir: mogsa.Rcheck |
| Warnings: 0 |
############################################################################## ############################################################################## ### ### Running command: ### ### C:\Users\biocbuild\bbs-3.11-bioc\R\bin\R.exe CMD check --force-multiarch --install=check:mogsa.install-out.txt --library=C:\Users\biocbuild\bbs-3.11-bioc\R\library --no-vignettes --timings mogsa_1.22.1.tar.gz ### ############################################################################## ############################################################################## * using log directory 'C:/Users/biocbuild/bbs-3.11-bioc/meat/mogsa.Rcheck' * using R version 4.0.3 (2020-10-10) * using platform: x86_64-w64-mingw32 (64-bit) * using session charset: ISO8859-1 * using option '--no-vignettes' * checking for file 'mogsa/DESCRIPTION' ... OK * checking extension type ... Package * this is package 'mogsa' version '1.22.1' * checking package namespace information ... OK * checking package dependencies ... OK * checking if this is a source package ... OK * checking if there is a namespace ... OK * checking for hidden files and directories ... OK * checking for portable file names ... OK * checking whether package 'mogsa' can be installed ... OK * checking installed package size ... OK * checking package directory ... OK * checking 'build' directory ... OK * checking DESCRIPTION meta-information ... OK * checking top-level files ... OK * checking for left-over files ... OK * checking index information ... OK * checking package subdirectories ... OK * checking R files for non-ASCII characters ... OK * checking R files for syntax errors ... OK * loading checks for arch 'i386' ** checking whether the package can be loaded ... OK ** checking whether the package can be loaded with stated dependencies ... OK ** checking whether the package can be unloaded cleanly ... OK ** checking whether the namespace can be loaded with stated dependencies ... OK ** checking whether the namespace can be unloaded cleanly ... OK * loading checks for arch 'x64' ** checking whether the package can be loaded ... OK ** checking whether the package can be loaded with stated dependencies ... OK ** checking whether the package can be unloaded cleanly ... OK ** checking whether the namespace can be loaded with stated dependencies ... OK ** checking whether the namespace can be unloaded cleanly ... OK * checking dependencies in R code ... OK * checking S3 generic/method consistency ... OK * checking replacement functions ... OK * checking foreign function calls ... OK * checking R code for possible problems ... OK * checking Rd files ... OK * checking Rd metadata ... OK * checking Rd cross-references ... OK * checking for missing documentation entries ... OK * checking for code/documentation mismatches ... OK * checking Rd \usage sections ... OK * checking Rd contents ... OK * checking for unstated dependencies in examples ... OK * checking contents of 'data' directory ... OK * checking data for non-ASCII characters ... OK * checking data for ASCII and uncompressed saves ... OK * checking files in 'vignettes' ... OK * checking examples ... ** running examples for arch 'i386' ... OK ** running examples for arch 'x64' ... OK * checking for unstated dependencies in vignettes ... OK * checking package vignettes in 'inst/doc' ... OK * checking running R code from vignettes ... SKIPPED * checking re-building of vignette outputs ... SKIPPED * checking PDF version of manual ... OK * DONE Status: OK
mogsa.Rcheck/00install.out
##############################################################################
##############################################################################
###
### Running command:
###
### C:\cygwin\bin\curl.exe -O https://malbec2.bioconductor.org/BBS/3.11/bioc/src/contrib/mogsa_1.22.1.tar.gz && rm -rf mogsa.buildbin-libdir && mkdir mogsa.buildbin-libdir && C:\Users\biocbuild\bbs-3.11-bioc\R\bin\R.exe CMD INSTALL --merge-multiarch --build --library=mogsa.buildbin-libdir mogsa_1.22.1.tar.gz && C:\Users\biocbuild\bbs-3.11-bioc\R\bin\R.exe CMD INSTALL mogsa_1.22.1.zip && rm mogsa_1.22.1.tar.gz mogsa_1.22.1.zip
###
##############################################################################
##############################################################################
% Total % Received % Xferd Average Speed Time Time Time Current
Dload Upload Total Spent Left Speed
0 0 0 0 0 0 0 0 --:--:-- --:--:-- --:--:-- 0
100 300k 100 300k 0 0 2929k 0 --:--:-- --:--:-- --:--:-- 3126k
install for i386
* installing *source* package 'mogsa' ...
** using staged installation
** R
** data
** inst
** byte-compile and prepare package for lazy loading
** help
*** installing help indices
converting help for package 'mogsa'
finding HTML links ... done
GIS html
NCI60_4array_supdata html
NCI60_4arrays html
annotate.gs html
biSoftK html
bootMbpca html
bootMbpcaK html
bootMoa html
box.gs.feature html
combine-methods html
decompose.gs.group html
decompose.gs.ind html
deflat html
distMoa html
getmgsa html
matpower html
mbpca html
mgsa-class html
moGap html
moa-class html
moa html
moa.sup-class html
moaCoef html
moaScore html
mogsa-package html
mogsa html
msvd html
nipalsSoftK html
pairwise.rv html
plot-methods html
plotGS html
prepGraphite html
prepMsigDB html
prepSupMoa html
print-methods html
processOpt html
show-methods html
softK html
summary-methods html
sup.moa html
toMoa html
wsvd html
** building package indices
** installing vignettes
** testing if installed package can be loaded from temporary location
** testing if installed package can be loaded from final location
** testing if installed package keeps a record of temporary installation path
install for x64
* installing *source* package 'mogsa' ...
** testing if installed package can be loaded
* MD5 sums
packaged installation of 'mogsa' as mogsa_1.22.1.zip
* DONE (mogsa)
* installing to library 'C:/Users/biocbuild/bbs-3.11-bioc/R/library'
package 'mogsa' successfully unpacked and MD5 sums checked
|
mogsa.Rcheck/examples_i386/mogsa-Ex.timings
|
mogsa.Rcheck/examples_x64/mogsa-Ex.timings
|