| Back to Multiple platform build/check report for BioC 3.11 |
|
This page was generated on 2020-10-17 11:55:10 -0400 (Sat, 17 Oct 2020).
| TO THE DEVELOPERS/MAINTAINERS OF THE minfi PACKAGE: Please make sure to use the following settings in order to reproduce any error or warning you see on this page. |
| Package 1085/1905 | Hostname | OS / Arch | INSTALL | BUILD | CHECK | BUILD BIN | ||||||
| minfi 1.34.0 Kasper Daniel Hansen
| malbec2 | Linux (Ubuntu 18.04.4 LTS) / x86_64 | OK | OK | [ OK ] | |||||||
| tokay2 | Windows Server 2012 R2 Standard / x64 | OK | OK | WARNINGS | OK | |||||||
| machv2 | macOS 10.14.6 Mojave / x86_64 | OK | OK | OK | OK |
| Package: minfi |
| Version: 1.34.0 |
| Command: /home/biocbuild/bbs-3.11-bioc/R/bin/R CMD check --install=check:minfi.install-out.txt --library=/home/biocbuild/bbs-3.11-bioc/R/library --no-vignettes --timings minfi_1.34.0.tar.gz |
| StartedAt: 2020-10-17 03:14:40 -0400 (Sat, 17 Oct 2020) |
| EndedAt: 2020-10-17 03:24:16 -0400 (Sat, 17 Oct 2020) |
| EllapsedTime: 576.3 seconds |
| RetCode: 0 |
| Status: OK |
| CheckDir: minfi.Rcheck |
| Warnings: 0 |
##############################################################################
##############################################################################
###
### Running command:
###
### /home/biocbuild/bbs-3.11-bioc/R/bin/R CMD check --install=check:minfi.install-out.txt --library=/home/biocbuild/bbs-3.11-bioc/R/library --no-vignettes --timings minfi_1.34.0.tar.gz
###
##############################################################################
##############################################################################
* using log directory ‘/home/biocbuild/bbs-3.11-bioc/meat/minfi.Rcheck’
* using R version 4.0.3 (2020-10-10)
* using platform: x86_64-pc-linux-gnu (64-bit)
* using session charset: UTF-8
* using option ‘--no-vignettes’
* checking for file ‘minfi/DESCRIPTION’ ... OK
* this is package ‘minfi’ version ‘1.34.0’
* checking package namespace information ... OK
* checking package dependencies ... OK
* checking if this is a source package ... OK
* checking if there is a namespace ... OK
* checking for hidden files and directories ... OK
* checking for portable file names ... OK
* checking for sufficient/correct file permissions ... OK
* checking whether package ‘minfi’ can be installed ... OK
* checking installed package size ... OK
* checking package directory ... OK
* checking ‘build’ directory ... OK
* checking DESCRIPTION meta-information ... OK
* checking top-level files ... OK
* checking for left-over files ... OK
* checking index information ... OK
* checking package subdirectories ... OK
* checking R files for non-ASCII characters ... OK
* checking R files for syntax errors ... OK
* checking whether the package can be loaded ... OK
* checking whether the package can be loaded with stated dependencies ... OK
* checking whether the package can be unloaded cleanly ... OK
* checking whether the namespace can be loaded with stated dependencies ... OK
* checking whether the namespace can be unloaded cleanly ... OK
* checking dependencies in R code ... NOTE
Unexported objects imported by ':::' calls:
‘DelayedArray:::get_verbose_block_processing’
‘DelayedArray:::normarg_grid’ ‘bumphunter:::.getEstimate’
See the note in ?`:::` about the use of this operator.
There are ::: calls to the package's namespace in its code. A package
almost never needs to use ::: for its own objects:
‘.guessArrayTypes’
* checking S3 generic/method consistency ... OK
* checking replacement functions ... OK
* checking foreign function calls ... OK
* checking R code for possible problems ... OK
* checking Rd files ... OK
* checking Rd metadata ... OK
* checking Rd cross-references ... OK
* checking for missing documentation entries ... OK
* checking for code/documentation mismatches ... OK
* checking Rd \usage sections ... OK
* checking Rd contents ... OK
* checking for unstated dependencies in examples ... OK
* checking files in ‘vignettes’ ... OK
* checking examples ... OK
Examples with CPU (user + system) or elapsed time > 5s
user system elapsed
combineArrays 74.193 2.586 79.766
bumphunter 32.497 1.725 34.232
read.metharray.exp 9.120 0.012 9.132
read.metharray 5.671 0.012 5.684
* checking for unstated dependencies in ‘tests’ ... OK
* checking tests ...
Running ‘runTests.R’
OK
* checking for unstated dependencies in vignettes ... OK
* checking package vignettes in ‘inst/doc’ ... OK
* checking running R code from vignettes ... SKIPPED
* checking re-building of vignette outputs ... SKIPPED
* checking PDF version of manual ... OK
* DONE
Status: 1 NOTE
See
‘/home/biocbuild/bbs-3.11-bioc/meat/minfi.Rcheck/00check.log’
for details.
minfi.Rcheck/00install.out
############################################################################## ############################################################################## ### ### Running command: ### ### /home/biocbuild/bbs-3.11-bioc/R/bin/R CMD INSTALL minfi ### ############################################################################## ############################################################################## * installing to library ‘/home/biocbuild/bbs-3.11-bioc/R/library’ * installing *source* package ‘minfi’ ... ** using staged installation ** R ** inst ** byte-compile and prepare package for lazy loading ** help *** installing help indices ** building package indices ** installing vignettes ** testing if installed package can be loaded from temporary location ** testing if installed package can be loaded from final location ** testing if installed package keeps a record of temporary installation path * DONE (minfi)
minfi.Rcheck/tests/runTests.Rout
R version 4.0.3 (2020-10-10) -- "Bunny-Wunnies Freak Out"
Copyright (C) 2020 The R Foundation for Statistical Computing
Platform: x86_64-pc-linux-gnu (64-bit)
R is free software and comes with ABSOLUTELY NO WARRANTY.
You are welcome to redistribute it under certain conditions.
Type 'license()' or 'licence()' for distribution details.
R is a collaborative project with many contributors.
Type 'contributors()' for more information and
'citation()' on how to cite R or R packages in publications.
Type 'demo()' for some demos, 'help()' for on-line help, or
'help.start()' for an HTML browser interface to help.
Type 'q()' to quit R.
> require("minfi") || stop("unable to load minfi")
Loading required package: minfi
Loading required package: BiocGenerics
Loading required package: parallel
Attaching package: 'BiocGenerics'
The following objects are masked from 'package:parallel':
clusterApply, clusterApplyLB, clusterCall, clusterEvalQ,
clusterExport, clusterMap, parApply, parCapply, parLapply,
parLapplyLB, parRapply, parSapply, parSapplyLB
The following objects are masked from 'package:stats':
IQR, mad, sd, var, xtabs
The following objects are masked from 'package:base':
Filter, Find, Map, Position, Reduce, anyDuplicated, append,
as.data.frame, basename, cbind, colnames, dirname, do.call,
duplicated, eval, evalq, get, grep, grepl, intersect, is.unsorted,
lapply, mapply, match, mget, order, paste, pmax, pmax.int, pmin,
pmin.int, rank, rbind, rownames, sapply, setdiff, sort, table,
tapply, union, unique, unsplit, which, which.max, which.min
Loading required package: GenomicRanges
Loading required package: stats4
Loading required package: S4Vectors
Attaching package: 'S4Vectors'
The following object is masked from 'package:base':
expand.grid
Loading required package: IRanges
Loading required package: GenomeInfoDb
Loading required package: SummarizedExperiment
Loading required package: Biobase
Welcome to Bioconductor
Vignettes contain introductory material; view with
'browseVignettes()'. To cite Bioconductor, see
'citation("Biobase")', and for packages 'citation("pkgname")'.
Loading required package: DelayedArray
Loading required package: matrixStats
Attaching package: 'matrixStats'
The following objects are masked from 'package:Biobase':
anyMissing, rowMedians
Attaching package: 'DelayedArray'
The following objects are masked from 'package:matrixStats':
colMaxs, colMins, colRanges, rowMaxs, rowMins, rowRanges
The following objects are masked from 'package:base':
aperm, apply, rowsum
Loading required package: Biostrings
Loading required package: XVector
Attaching package: 'Biostrings'
The following object is masked from 'package:base':
strsplit
Loading required package: bumphunter
Loading required package: foreach
Loading required package: iterators
Loading required package: locfit
locfit 1.5-9.4 2020-03-24
Setting options('download.file.method.GEOquery'='auto')
Setting options('GEOquery.inmemory.gpl'=FALSE)
[1] TRUE
> BiocGenerics:::testPackage("minfi")
Loading required package: minfiData
Loading required package: IlluminaHumanMethylation450kmanifest
Loading required package: IlluminaHumanMethylation450kanno.ilmn12.hg19
Loading required package: digest
RUNIT TEST PROTOCOL -- Sat Oct 17 03:24:11 2020
***********************************************
Number of test functions: 10
Number of errors: 0
Number of failures: 0
1 Test Suite :
minfi RUnit Tests - 10 test functions, 0 errors, 0 failures
Number of test functions: 10
Number of errors: 0
Number of failures: 0
>
> proc.time()
user system elapsed
46.955 1.137 50.877
minfi.Rcheck/minfi-Ex.timings
| name | user | system | elapsed | |
| GenomicMethylSet-class | 0.002 | 0.000 | 0.001 | |
| GenomicRatioSet-class | 0.001 | 0.000 | 0.001 | |
| IlluminaMethylationManifest-class | 4.401 | 0.084 | 4.486 | |
| MethylSet-class | 0.002 | 0.000 | 0.001 | |
| RGChannelSet-class | 0.001 | 0.000 | 0.001 | |
| RatioSet-class | 0.000 | 0.001 | 0.001 | |
| bumphunter | 32.497 | 1.725 | 34.232 | |
| combineArrays | 74.193 | 2.586 | 79.766 | |
| compartments | 4.311 | 0.220 | 4.531 | |
| controlStripPlot | 2.823 | 0.044 | 3.062 | |
| convertArray | 1.335 | 0.008 | 1.343 | |
| densityBeanPlot | 2.628 | 0.008 | 2.635 | |
| densityPlot | 4.815 | 0.024 | 4.839 | |
| detectionP | 0.351 | 0.004 | 0.355 | |
| dmpFinder | 0.163 | 0.000 | 0.163 | |
| estimateCellCounts | 0.001 | 0.000 | 0.000 | |
| fixMethOutliers | 1.081 | 0.024 | 1.106 | |
| gaphunter | 0.154 | 0.000 | 0.154 | |
| getAnnotation | 2.318 | 0.004 | 2.363 | |
| getGenomicRatioSetFromGEO | 0 | 0 | 0 | |
| getQC | 0.297 | 0.000 | 0.310 | |
| getSex | 1.148 | 0.000 | 1.209 | |
| logit2 | 0.000 | 0.000 | 0.001 | |
| makeGenomicRatioSetFromMatrix | 0.424 | 0.000 | 0.424 | |
| mapToGenome-methods | 0.291 | 0.000 | 0.291 | |
| mdsPlot | 0.23 | 0.00 | 0.23 | |
| minfiQC | 3.874 | 0.040 | 3.913 | |
| plotBetasByType | 0.000 | 0.000 | 0.001 | |
| plotCpg | 0.176 | 0.004 | 0.180 | |
| preprocessFunnorm | 4.005 | 0.008 | 4.014 | |
| preprocessIllumina | 3.056 | 0.024 | 3.080 | |
| preprocessNoob | 0.61 | 0.00 | 0.61 | |
| preprocessQuantile | 0.759 | 0.000 | 0.767 | |
| preprocessRaw | 3.139 | 0.024 | 3.163 | |
| preprocessSwan | 0.405 | 0.000 | 0.405 | |
| qcReport | 0.045 | 0.000 | 0.046 | |
| ratioConvert-methods | 0.071 | 0.004 | 0.074 | |
| read.metharray | 5.671 | 0.012 | 5.684 | |
| read.metharray.exp | 9.120 | 0.012 | 9.132 | |
| read.metharray.sheet | 0.081 | 0.000 | 0.081 | |
| readGEORawFile | 0.001 | 0.000 | 0.000 | |
| readTCGA | 0 | 0 | 0 | |
| subsetByLoci | 0.506 | 0.004 | 0.510 | |
| utils | 0.145 | 0.000 | 0.145 | |