| Back to Multiple platform build/check report for BioC 3.11 |
|
This page was generated on 2020-10-17 11:55:09 -0400 (Sat, 17 Oct 2020).
| TO THE DEVELOPERS/MAINTAINERS OF THE microbiome PACKAGE: Please make sure to use the following settings in order to reproduce any error or warning you see on this page. |
| Package 1076/1905 | Hostname | OS / Arch | INSTALL | BUILD | CHECK | BUILD BIN | ||||||
| microbiome 1.10.0 Leo Lahti
| malbec2 | Linux (Ubuntu 18.04.4 LTS) / x86_64 | OK | OK | [ OK ] | |||||||
| tokay2 | Windows Server 2012 R2 Standard / x64 | OK | OK | OK | OK | |||||||
| machv2 | macOS 10.14.6 Mojave / x86_64 | OK | OK | OK | OK |
| Package: microbiome |
| Version: 1.10.0 |
| Command: /home/biocbuild/bbs-3.11-bioc/R/bin/R CMD check --install=check:microbiome.install-out.txt --library=/home/biocbuild/bbs-3.11-bioc/R/library --no-vignettes --timings microbiome_1.10.0.tar.gz |
| StartedAt: 2020-10-17 03:12:12 -0400 (Sat, 17 Oct 2020) |
| EndedAt: 2020-10-17 03:15:24 -0400 (Sat, 17 Oct 2020) |
| EllapsedTime: 191.7 seconds |
| RetCode: 0 |
| Status: OK |
| CheckDir: microbiome.Rcheck |
| Warnings: 0 |
############################################################################## ############################################################################## ### ### Running command: ### ### /home/biocbuild/bbs-3.11-bioc/R/bin/R CMD check --install=check:microbiome.install-out.txt --library=/home/biocbuild/bbs-3.11-bioc/R/library --no-vignettes --timings microbiome_1.10.0.tar.gz ### ############################################################################## ############################################################################## * using log directory ‘/home/biocbuild/bbs-3.11-bioc/meat/microbiome.Rcheck’ * using R version 4.0.3 (2020-10-10) * using platform: x86_64-pc-linux-gnu (64-bit) * using session charset: UTF-8 * using option ‘--no-vignettes’ * checking for file ‘microbiome/DESCRIPTION’ ... OK * checking extension type ... Package * this is package ‘microbiome’ version ‘1.10.0’ * package encoding: UTF-8 * checking package namespace information ... OK * checking package dependencies ... OK * checking if this is a source package ... OK * checking if there is a namespace ... OK * checking for hidden files and directories ... OK * checking for portable file names ... OK * checking for sufficient/correct file permissions ... OK * checking whether package ‘microbiome’ can be installed ... OK * checking installed package size ... OK * checking package directory ... OK * checking ‘build’ directory ... OK * checking DESCRIPTION meta-information ... OK * checking top-level files ... OK * checking for left-over files ... OK * checking index information ... OK * checking package subdirectories ... OK * checking R files for non-ASCII characters ... OK * checking R files for syntax errors ... OK * checking whether the package can be loaded ... OK * checking whether the package can be loaded with stated dependencies ... OK * checking whether the package can be unloaded cleanly ... OK * checking whether the namespace can be loaded with stated dependencies ... OK * checking whether the namespace can be unloaded cleanly ... OK * checking dependencies in R code ... OK * checking S3 generic/method consistency ... OK * checking replacement functions ... OK * checking foreign function calls ... OK * checking R code for possible problems ... OK * checking Rd files ... OK * checking Rd metadata ... OK * checking Rd cross-references ... OK * checking for missing documentation entries ... OK * checking for code/documentation mismatches ... OK * checking Rd \usage sections ... OK * checking Rd contents ... OK * checking for unstated dependencies in examples ... OK * checking contents of ‘data’ directory ... OK * checking data for non-ASCII characters ... OK * checking data for ASCII and uncompressed saves ... OK * checking files in ‘vignettes’ ... OK * checking examples ... OK * checking for unstated dependencies in ‘tests’ ... OK * checking tests ... Running ‘testthat.R’ OK * checking for unstated dependencies in vignettes ... OK * checking package vignettes in ‘inst/doc’ ... OK * checking running R code from vignettes ... SKIPPED * checking re-building of vignette outputs ... SKIPPED * checking PDF version of manual ... OK * DONE Status: OK
microbiome.Rcheck/00install.out
############################################################################## ############################################################################## ### ### Running command: ### ### /home/biocbuild/bbs-3.11-bioc/R/bin/R CMD INSTALL microbiome ### ############################################################################## ############################################################################## * installing to library ‘/home/biocbuild/bbs-3.11-bioc/R/library’ * installing *source* package ‘microbiome’ ... ** using staged installation ** R ** data ** inst ** byte-compile and prepare package for lazy loading ** help *** installing help indices ** building package indices ** installing vignettes ** testing if installed package can be loaded from temporary location ** testing if installed package can be loaded from final location ** testing if installed package keeps a record of temporary installation path * DONE (microbiome)
microbiome.Rcheck/tests/testthat.Rout
R version 4.0.3 (2020-10-10) -- "Bunny-Wunnies Freak Out"
Copyright (C) 2020 The R Foundation for Statistical Computing
Platform: x86_64-pc-linux-gnu (64-bit)
R is free software and comes with ABSOLUTELY NO WARRANTY.
You are welcome to redistribute it under certain conditions.
Type 'license()' or 'licence()' for distribution details.
R is a collaborative project with many contributors.
Type 'contributors()' for more information and
'citation()' on how to cite R or R packages in publications.
Type 'demo()' for some demos, 'help()' for on-line help, or
'help.start()' for an HTML browser interface to help.
Type 'q()' to quit R.
> library(testthat)
> test_check("microbiome")
Loading required package: microbiome
Loading required package: phyloseq
Loading required package: ggplot2
microbiome R package (microbiome.github.com)
Copyright (C) 2011-2020 Leo Lahti,
Sudarshan Shetty et al. <microbiome.github.io>
Attaching package: 'microbiome'
The following object is masked from 'package:ggplot2':
alpha
The following object is masked from 'package:base':
transform
══ testthat results ═══════════════════════════════════════════════════════════
[ OK: 75 | SKIPPED: 1 | WARNINGS: 0 | FAILED: 0 ]
>
> proc.time()
user system elapsed
11.373 0.293 11.663
microbiome.Rcheck/microbiome-Ex.timings
| name | user | system | elapsed | |
| abundances | 0.014 | 0.000 | 0.013 | |
| aggregate_rare | 0.323 | 0.004 | 0.327 | |
| aggregate_taxa | 0.091 | 0.004 | 0.096 | |
| aggregate_top_taxa | 0.238 | 0.012 | 0.249 | |
| alpha | 0.014 | 0.000 | 0.014 | |
| associate | 0.037 | 0.007 | 0.045 | |
| baseline | 0.061 | 0.000 | 0.061 | |
| bfratio | 0.130 | 0.012 | 0.141 | |
| bimodality | 0.002 | 0.000 | 0.002 | |
| bimodality_sarle | 0.000 | 0.000 | 0.001 | |
| boxplot_abundance | 0.088 | 0.004 | 0.093 | |
| chunk_reorder | 0 | 0 | 0 | |
| cmat2table | 0.073 | 0.000 | 0.072 | |
| collapse_replicates | 0.038 | 0.004 | 0.042 | |
| core | 0.04 | 0.00 | 0.04 | |
| core_abundance | 0.031 | 0.004 | 0.034 | |
| core_matrix | 0 | 0 | 0 | |
| core_members | 0.443 | 0.000 | 0.443 | |
| coverage | 0.032 | 0.000 | 0.032 | |
| default_colors | 0.000 | 0.000 | 0.001 | |
| densityplot | 0 | 0 | 0 | |
| divergence | 0.512 | 0.002 | 0.513 | |
| diversities | 0.012 | 0.000 | 0.012 | |
| diversity | 0.011 | 0.000 | 0.011 | |
| dominance | 0.009 | 0.000 | 0.009 | |
| dominant | 0.01 | 0.00 | 0.01 | |
| estimate_stability | 0.000 | 0.000 | 0.001 | |
| evenness | 0.007 | 0.000 | 0.007 | |
| find_optima | 0 | 0 | 0 | |
| gktau | 0.012 | 0.000 | 0.012 | |
| global | 0.009 | 0.000 | 0.009 | |
| group_age | 0.022 | 0.000 | 0.023 | |
| group_bmi | 0.000 | 0.000 | 0.001 | |
| heat | 0.049 | 0.008 | 0.057 | |
| hotplot | 0.116 | 0.008 | 0.124 | |
| inequality | 0.028 | 0.008 | 0.036 | |
| intermediate_stability | 0.556 | 0.000 | 0.556 | |
| is_compositional | 0.084 | 0.004 | 0.089 | |
| log_modulo_skewness | 0.179 | 0.000 | 0.178 | |
| low_abundance | 0.016 | 0.004 | 0.019 | |
| map_levels | 0.068 | 0.000 | 0.069 | |
| merge_taxa2 | 0.041 | 0.000 | 0.041 | |
| meta | 0.006 | 0.004 | 0.009 | |
| microbiome-package | 0.015 | 0.000 | 0.054 | |
| multimodality | 0 | 0 | 0 | |
| neat | 0.103 | 0.004 | 0.108 | |
| neatsort | 0.292 | 0.000 | 0.292 | |
| plot_atlas | 0.068 | 0.000 | 0.069 | |
| plot_composition | 0.345 | 0.000 | 0.345 | |
| plot_core | 0.103 | 0.000 | 0.103 | |
| plot_density | 0.055 | 0.000 | 0.055 | |
| plot_frequencies | 0.031 | 0.004 | 0.036 | |
| plot_landscape | 1.269 | 0.004 | 1.273 | |
| plot_regression | 0.146 | 0.000 | 0.145 | |
| plot_taxa_prevalence | 0.257 | 0.000 | 0.256 | |
| plot_tipping | 0.093 | 0.000 | 0.092 | |
| potential_analysis | 0.035 | 0.000 | 0.034 | |
| potential_univariate | 0 | 0 | 0 | |
| prevalence | 0.012 | 0.000 | 0.011 | |
| quiet | 0.001 | 0.000 | 0.000 | |
| rare | 0.016 | 0.004 | 0.019 | |
| rare_abundance | 0.033 | 0.000 | 0.033 | |
| rare_members | 0.009 | 0.000 | 0.009 | |
| rarity | 0.069 | 0.000 | 0.069 | |
| read_biom2phyloseq | 0.001 | 0.000 | 0.000 | |
| read_csv2phyloseq | 0 | 0 | 0 | |
| read_mothur2phyloseq | 0.000 | 0.000 | 0.001 | |
| read_phyloseq | 0 | 0 | 0 | |
| readcount | 0.007 | 0.000 | 0.006 | |
| remove_samples | 0.014 | 0.000 | 0.013 | |
| remove_taxa | 0.013 | 0.004 | 0.017 | |
| richness | 0.01 | 0.00 | 0.01 | |
| spreadplot | 0.070 | 0.004 | 0.074 | |
| summarize_phyloseq | 0.016 | 0.000 | 0.017 | |
| taxa | 0.006 | 0.000 | 0.006 | |
| time_normalize | 0.033 | 0.000 | 0.032 | |
| time_sort | 0.118 | 0.004 | 0.122 | |
| timesplit | 0.097 | 0.004 | 0.100 | |
| top | 0.007 | 0.000 | 0.007 | |
| top_taxa | 0.007 | 0.000 | 0.006 | |
| transform | 0.054 | 0.000 | 0.054 | |
| write_phyloseq | 0 | 0 | 0 | |
| ztransform | 0 | 0 | 0 | |