| Back to Multiple platform build/check report for BioC 3.11 | 
  | 
This page was generated on 2020-10-17 11:57:07 -0400 (Sat, 17 Oct 2020).
| TO THE DEVELOPERS/MAINTAINERS OF THE miRcomp PACKAGE: Please make sure to use the following settings in order to reproduce any error or warning you see on this page. | 
| Package 1091/1905 | Hostname | OS / Arch | INSTALL | BUILD | CHECK | BUILD BIN | ||||||
| miRcomp 1.18.0 Matthew N. McCall 
  | malbec2 | Linux (Ubuntu 18.04.4 LTS) / x86_64 | OK | OK | WARNINGS | |||||||
| tokay2 | Windows Server 2012 R2 Standard / x64 | OK | OK | WARNINGS | [ OK ] | |||||||
| machv2 | macOS 10.14.6 Mojave / x86_64 | OK | OK | WARNINGS | OK | 
| Package: miRcomp | 
| Version: 1.18.0 | 
| Command: rm -rf miRcomp.buildbin-libdir && mkdir miRcomp.buildbin-libdir && C:\Users\biocbuild\bbs-3.11-bioc\R\bin\R.exe CMD INSTALL --merge-multiarch --build --library=miRcomp.buildbin-libdir miRcomp_1.18.0.tar.gz | 
| StartedAt: 2020-10-17 11:02:34 -0400 (Sat, 17 Oct 2020) | 
| EndedAt: 2020-10-17 11:03:13 -0400 (Sat, 17 Oct 2020) | 
| EllapsedTime: 39.6 seconds | 
| RetCode: 0 | 
| Status: OK | 
| PackageFile: miRcomp_1.18.0.zip | 
| PackageFileSize: 2.582 MiB | 
##############################################################################
##############################################################################
###
### Running command:
###
###   rm -rf miRcomp.buildbin-libdir && mkdir miRcomp.buildbin-libdir && C:\Users\biocbuild\bbs-3.11-bioc\R\bin\R.exe CMD INSTALL --merge-multiarch --build --library=miRcomp.buildbin-libdir miRcomp_1.18.0.tar.gz
###
##############################################################################
##############################################################################
install for i386
* installing *source* package 'miRcomp' ...
** using staged installation
** R
** data
** inst
** byte-compile and prepare package for lazy loading
** help
*** installing help indices
  converting help for package 'miRcomp'
    finding HTML links ... done
    accuracy                                html  
    completeFeatures                        html  
    expressionComp                          html  
    lifetech                                html  
    limitOfDetection                        html  
    miRcompShinyApp                         html  
    precision                               html  
    qpcRb4                                  html  
    qpcRb5                                  html  
    qpcRdefault                             html  
    qpcRl5                                  html  
    qpcRlinexp                              html  
    qualityAssessment                       html  
    titrationResponse                       html  
** building package indices
** installing vignettes
** testing if installed package can be loaded from temporary location
** testing if installed package can be loaded from final location
** testing if installed package keeps a record of temporary installation path
install for x64
* installing *source* package 'miRcomp' ...
** testing if installed package can be loaded
* MD5 sums
packaged installation of 'miRcomp' as miRcomp_1.18.0.zip
* DONE (miRcomp)