| Back to Multiple platform build/check report for BioC 3.11 |
|
This page was generated on 2020-10-17 11:57:08 -0400 (Sat, 17 Oct 2020).
| TO THE DEVELOPERS/MAINTAINERS OF THE miRSM PACKAGE: Please make sure to use the following settings in order to reproduce any error or warning you see on this page. |
| Package 1098/1905 | Hostname | OS / Arch | INSTALL | BUILD | CHECK | BUILD BIN | ||||||
| miRSM 1.6.4 Junpeng Zhang
| malbec2 | Linux (Ubuntu 18.04.4 LTS) / x86_64 | OK | OK | OK | |||||||
| tokay2 | Windows Server 2012 R2 Standard / x64 | [ OK ] | OK | OK | OK | |||||||
| machv2 | macOS 10.14.6 Mojave / x86_64 | OK | OK | OK | OK |
| Package: miRSM |
| Version: 1.6.4 |
| Command: C:\cygwin\bin\curl.exe -O https://malbec2.bioconductor.org/BBS/3.11/bioc/src/contrib/miRSM_1.6.4.tar.gz && rm -rf miRSM.buildbin-libdir && mkdir miRSM.buildbin-libdir && C:\Users\biocbuild\bbs-3.11-bioc\R\bin\R.exe CMD INSTALL --merge-multiarch --build --library=miRSM.buildbin-libdir miRSM_1.6.4.tar.gz && C:\Users\biocbuild\bbs-3.11-bioc\R\bin\R.exe CMD INSTALL miRSM_1.6.4.zip && rm miRSM_1.6.4.tar.gz miRSM_1.6.4.zip |
| StartedAt: 2020-10-16 18:57:32 -0400 (Fri, 16 Oct 2020) |
| EndedAt: 2020-10-16 19:00:50 -0400 (Fri, 16 Oct 2020) |
| EllapsedTime: 198.3 seconds |
| RetCode: 0 |
| Status: OK |
##############################################################################
##############################################################################
###
### Running command:
###
### C:\cygwin\bin\curl.exe -O https://malbec2.bioconductor.org/BBS/3.11/bioc/src/contrib/miRSM_1.6.4.tar.gz && rm -rf miRSM.buildbin-libdir && mkdir miRSM.buildbin-libdir && C:\Users\biocbuild\bbs-3.11-bioc\R\bin\R.exe CMD INSTALL --merge-multiarch --build --library=miRSM.buildbin-libdir miRSM_1.6.4.tar.gz && C:\Users\biocbuild\bbs-3.11-bioc\R\bin\R.exe CMD INSTALL miRSM_1.6.4.zip && rm miRSM_1.6.4.tar.gz miRSM_1.6.4.zip
###
##############################################################################
##############################################################################
% Total % Received % Xferd Average Speed Time Time Time Current
Dload Upload Total Spent Left Speed
0 0 0 0 0 0 0 0 --:--:-- --:--:-- --:--:-- 0
100 642k 100 642k 0 0 9754k 0 --:--:-- --:--:-- --:--:-- 10.4M
install for i386
* installing *source* package 'miRSM' ...
** using staged installation
** libs
"C:/rtools40/mingw32/bin/"gcc -I"C:/Users/BIOCBU~1/BBS-3~1.11-/R/include" -DNDEBUG -I"C:/extsoft/include" -O2 -Wall -std=gnu99 -mfpmath=sse -msse2 -mstackrealign -c complex.c -o complex.o
"C:/rtools40/mingw32/bin/"gcc -I"C:/Users/BIOCBU~1/BBS-3~1.11-/R/include" -DNDEBUG -I"C:/extsoft/include" -O2 -Wall -std=gnu99 -mfpmath=sse -msse2 -mstackrealign -c registerDynamicSymbol.c -o registerDynamicSymbol.o
C:/rtools40/mingw32/bin/gcc -shared -s -static-libgcc -o miRSM.dll tmp.def complex.o registerDynamicSymbol.o -LC:/extsoft/lib/i386 -LC:/extsoft/lib -LC:/Users/BIOCBU~1/BBS-3~1.11-/R/bin/i386 -lR
installing to C:/Users/biocbuild/bbs-3.11-bioc/meat/miRSM.buildbin-libdir/00LOCK-miRSM/00new/miRSM/libs/i386
** R
** data
** byte-compile and prepare package for lazy loading
** help
*** installing help indices
converting help for package 'miRSM'
finding HTML links ... done
BRCA_genes html
ceRExp html
cor_binary html
mRExp html
miRExp html
miRSM html
miRTarget html
module_CEA html
module_Coexpress html
module_FA html
module_GFA html
module_NMF html
module_ProNet html
module_Validate html
module_WGCNA html
module_biclust html
module_clust html
module_igraph html
module_miRdistribute html
module_miRsponge html
module_miRtarget html
share_miRs html
** building package indices
** installing vignettes
** testing if installed package can be loaded from temporary location
** testing if installed package can be loaded from final location
** testing if installed package keeps a record of temporary installation path
install for x64
* installing *source* package 'miRSM' ...
** libs
"C:/rtools40/mingw64/bin/"gcc -I"C:/Users/BIOCBU~1/BBS-3~1.11-/R/include" -DNDEBUG -I"C:/extsoft/include" -O2 -Wall -std=gnu99 -mfpmath=sse -msse2 -mstackrealign -c complex.c -o complex.o
"C:/rtools40/mingw64/bin/"gcc -I"C:/Users/BIOCBU~1/BBS-3~1.11-/R/include" -DNDEBUG -I"C:/extsoft/include" -O2 -Wall -std=gnu99 -mfpmath=sse -msse2 -mstackrealign -c registerDynamicSymbol.c -o registerDynamicSymbol.o
C:/rtools40/mingw64/bin/gcc -shared -s -static-libgcc -o miRSM.dll tmp.def complex.o registerDynamicSymbol.o -LC:/extsoft/lib/x64 -LC:/extsoft/lib -LC:/Users/BIOCBU~1/BBS-3~1.11-/R/bin/x64 -lR
installing to C:/Users/biocbuild/bbs-3.11-bioc/meat/miRSM.buildbin-libdir/miRSM/libs/x64
** testing if installed package can be loaded
* MD5 sums
packaged installation of 'miRSM' as miRSM_1.6.4.zip
* DONE (miRSM)
* installing to library 'C:/Users/biocbuild/bbs-3.11-bioc/R/library'
package 'miRSM' successfully unpacked and MD5 sums checked