| Back to Multiple platform build/check report for BioC 3.11 |
|
This page was generated on 2020-10-17 11:57:08 -0400 (Sat, 17 Oct 2020).
| TO THE DEVELOPERS/MAINTAINERS OF THE miRNAtap PACKAGE: Please make sure to use the following settings in order to reproduce any error or warning you see on this page. |
| Package 1097/1905 | Hostname | OS / Arch | INSTALL | BUILD | CHECK | BUILD BIN | ||||||
| miRNAtap 1.22.0 T. Ian Simpson
| malbec2 | Linux (Ubuntu 18.04.4 LTS) / x86_64 | OK | OK | OK | |||||||
| tokay2 | Windows Server 2012 R2 Standard / x64 | [ OK ] | OK | OK | OK | |||||||
| machv2 | macOS 10.14.6 Mojave / x86_64 | OK | OK | OK | OK |
| Package: miRNAtap |
| Version: 1.22.0 |
| Command: C:\cygwin\bin\curl.exe -O https://malbec2.bioconductor.org/BBS/3.11/bioc/src/contrib/miRNAtap_1.22.0.tar.gz && rm -rf miRNAtap.buildbin-libdir && mkdir miRNAtap.buildbin-libdir && C:\Users\biocbuild\bbs-3.11-bioc\R\bin\R.exe CMD INSTALL --merge-multiarch --build --library=miRNAtap.buildbin-libdir miRNAtap_1.22.0.tar.gz && C:\Users\biocbuild\bbs-3.11-bioc\R\bin\R.exe CMD INSTALL miRNAtap_1.22.0.zip && rm miRNAtap_1.22.0.tar.gz miRNAtap_1.22.0.zip |
| StartedAt: 2020-10-16 17:12:12 -0400 (Fri, 16 Oct 2020) |
| EndedAt: 2020-10-16 17:12:50 -0400 (Fri, 16 Oct 2020) |
| EllapsedTime: 37.6 seconds |
| RetCode: 0 |
| Status: OK |
##############################################################################
##############################################################################
###
### Running command:
###
### C:\cygwin\bin\curl.exe -O https://malbec2.bioconductor.org/BBS/3.11/bioc/src/contrib/miRNAtap_1.22.0.tar.gz && rm -rf miRNAtap.buildbin-libdir && mkdir miRNAtap.buildbin-libdir && C:\Users\biocbuild\bbs-3.11-bioc\R\bin\R.exe CMD INSTALL --merge-multiarch --build --library=miRNAtap.buildbin-libdir miRNAtap_1.22.0.tar.gz && C:\Users\biocbuild\bbs-3.11-bioc\R\bin\R.exe CMD INSTALL miRNAtap_1.22.0.zip && rm miRNAtap_1.22.0.tar.gz miRNAtap_1.22.0.zip
###
##############################################################################
##############################################################################
% Total % Received % Xferd Average Speed Time Time Time Current
Dload Upload Total Spent Left Speed
0 0 0 0 0 0 0 0 --:--:-- --:--:-- --:--:-- 0
100 16918 100 16918 0 0 261k 0 --:--:-- --:--:-- --:--:-- 289k
install for i386
* installing *source* package 'miRNAtap' ...
** using staged installation
** R
** byte-compile and prepare package for lazy loading
** help
*** installing help indices
converting help for package 'miRNAtap'
finding HTML links ... done
MirnaDb-class html
aggregateRanks html
getPredictedTargets html
getTargetsFromSource html
miRNAtap html
translate html
** building package indices
** installing vignettes
** testing if installed package can be loaded from temporary location
** testing if installed package can be loaded from final location
** testing if installed package keeps a record of temporary installation path
install for x64
* installing *source* package 'miRNAtap' ...
** testing if installed package can be loaded
* MD5 sums
packaged installation of 'miRNAtap' as miRNAtap_1.22.0.zip
* DONE (miRNAtap)
* installing to library 'C:/Users/biocbuild/bbs-3.11-bioc/R/library'
package 'miRNAtap' successfully unpacked and MD5 sums checked