| Back to Multiple platform build/check report for BioC 3.11 |
|
This page was generated on 2020-10-17 11:57:08 -0400 (Sat, 17 Oct 2020).
| TO THE DEVELOPERS/MAINTAINERS OF THE miRLAB PACKAGE: Please make sure to use the following settings in order to reproduce any error or warning you see on this page. |
| Package 1093/1905 | Hostname | OS / Arch | INSTALL | BUILD | CHECK | BUILD BIN | ||||||
| miRLAB 1.18.0 Thuc Duy Le
| malbec2 | Linux (Ubuntu 18.04.4 LTS) / x86_64 | OK | OK | OK | |||||||
| tokay2 | Windows Server 2012 R2 Standard / x64 | OK | OK | OK | [ OK ] | |||||||
| machv2 | macOS 10.14.6 Mojave / x86_64 | OK | OK | OK | OK |
| Package: miRLAB |
| Version: 1.18.0 |
| Command: rm -rf miRLAB.buildbin-libdir && mkdir miRLAB.buildbin-libdir && C:\Users\biocbuild\bbs-3.11-bioc\R\bin\R.exe CMD INSTALL --merge-multiarch --build --library=miRLAB.buildbin-libdir miRLAB_1.18.0.tar.gz |
| StartedAt: 2020-10-17 11:02:42 -0400 (Sat, 17 Oct 2020) |
| EndedAt: 2020-10-17 11:04:04 -0400 (Sat, 17 Oct 2020) |
| EllapsedTime: 82.5 seconds |
| RetCode: 0 |
| Status: OK |
| PackageFile: miRLAB_1.18.0.zip |
| PackageFileSize: 348.9 KiB |
##############################################################################
##############################################################################
###
### Running command:
###
### rm -rf miRLAB.buildbin-libdir && mkdir miRLAB.buildbin-libdir && C:\Users\biocbuild\bbs-3.11-bioc\R\bin\R.exe CMD INSTALL --merge-multiarch --build --library=miRLAB.buildbin-libdir miRLAB_1.18.0.tar.gz
###
##############################################################################
##############################################################################
install for i386
* installing *source* package 'miRLAB' ...
** using staged installation
** R
** inst
** byte-compile and prepare package for lazy loading
** help
*** installing help indices
converting help for package 'miRLAB'
finding HTML links ... done
Borda html
BordaTopk html
Dcov html
DiffExpAnalysis html
Elastic html
Extopk html
GOBPenrichment html
Hoeffding html
ICPPam50 html
IDA html
ImputeNormData html
KEGGenrichment html
Kendall html
Lasso html
MI html
Pearson html
ProMISe html
RDC html
Read html
ReadExtResult html
Spearman html
Standardise html
ValidateAll html
Validation html
ValidationT html
Zscore html
bRank html
convert html
experiment html
filterAndCompare html
getData html
identifymiRTargetsByEnsemble html
identifymiRTargetsByICPPam50 html
miRLAB-package html
readHeader html
** building package indices
** installing vignettes
** testing if installed package can be loaded from temporary location
** testing if installed package can be loaded from final location
** testing if installed package keeps a record of temporary installation path
install for x64
* installing *source* package 'miRLAB' ...
** testing if installed package can be loaded
* MD5 sums
packaged installation of 'miRLAB' as miRLAB_1.18.0.zip
* DONE (miRLAB)