| Back to Multiple platform build/check report for BioC 3.11 |
|
This page was generated on 2020-01-16 13:49:22 -0500 (Thu, 16 Jan 2020).
| Package 1010/1818 | Hostname | OS / Arch | INSTALL | BUILD | CHECK | BUILD BIN | ||||||
| methimpute 1.9.0 Aaron Taudt
| malbec2 | Linux (Ubuntu 18.04.3 LTS) / x86_64 | OK | OK | OK | |||||||
| tokay2 | Windows Server 2012 R2 Standard / x64 | OK | OK | OK | OK | |||||||
| celaya2 | OS X 10.11.6 El Capitan / x86_64 | OK | OK | [ OK ] | OK |
| Package: methimpute |
| Version: 1.9.0 |
| Command: /Library/Frameworks/R.framework/Versions/Current/Resources/bin/R CMD check --install=check:methimpute.install-out.txt --library=/Library/Frameworks/R.framework/Versions/Current/Resources/library --no-vignettes --timings methimpute_1.9.0.tar.gz |
| StartedAt: 2020-01-16 06:18:33 -0500 (Thu, 16 Jan 2020) |
| EndedAt: 2020-01-16 06:22:46 -0500 (Thu, 16 Jan 2020) |
| EllapsedTime: 252.4 seconds |
| RetCode: 0 |
| Status: OK |
| CheckDir: methimpute.Rcheck |
| Warnings: 0 |
##############################################################################
##############################################################################
###
### Running command:
###
### /Library/Frameworks/R.framework/Versions/Current/Resources/bin/R CMD check --install=check:methimpute.install-out.txt --library=/Library/Frameworks/R.framework/Versions/Current/Resources/library --no-vignettes --timings methimpute_1.9.0.tar.gz
###
##############################################################################
##############################################################################
* using log directory ‘/Users/biocbuild/bbs-3.11-bioc/meat/methimpute.Rcheck’
* using R Under development (unstable) (2019-12-14 r77572)
* using platform: x86_64-apple-darwin15.6.0 (64-bit)
* using session charset: UTF-8
* using option ‘--no-vignettes’
* checking for file ‘methimpute/DESCRIPTION’ ... OK
* checking extension type ... Package
* this is package ‘methimpute’ version ‘1.9.0’
* checking package namespace information ... OK
* checking package dependencies ... OK
* checking if this is a source package ... OK
* checking if there is a namespace ... OK
* checking for hidden files and directories ... OK
* checking for portable file names ... OK
* checking for sufficient/correct file permissions ... OK
* checking whether package ‘methimpute’ can be installed ... OK
* checking installed package size ... OK
* checking package directory ... OK
* checking ‘build’ directory ... OK
* checking DESCRIPTION meta-information ... OK
* checking top-level files ... OK
* checking for left-over files ... OK
* checking index information ... OK
* checking package subdirectories ... OK
* checking R files for non-ASCII characters ... OK
* checking R files for syntax errors ... OK
* checking whether the package can be loaded ... OK
* checking whether the package can be loaded with stated dependencies ... OK
* checking whether the package can be unloaded cleanly ... OK
* checking whether the namespace can be loaded with stated dependencies ... OK
* checking whether the namespace can be unloaded cleanly ... OK
* checking dependencies in R code ... OK
* checking S3 generic/method consistency ... OK
* checking replacement functions ... OK
* checking foreign function calls ... OK
* checking R code for possible problems ... OK
* checking Rd files ... OK
* checking Rd metadata ... OK
* checking Rd cross-references ... OK
* checking for missing documentation entries ... OK
* checking for code/documentation mismatches ... OK
* checking Rd \usage sections ... OK
* checking Rd contents ... OK
* checking for unstated dependencies in examples ... OK
* checking contents of ‘data’ directory ... OK
* checking data for non-ASCII characters ... OK
* checking data for ASCII and uncompressed saves ... OK
* checking line endings in C/C++/Fortran sources/headers ... OK
* checking line endings in Makefiles ... OK
* checking compilation flags in Makevars ... OK
* checking for GNU extensions in Makefiles ... OK
* checking for portable use of $(BLAS_LIBS) and $(LAPACK_LIBS) ... OK
* checking use of PKG_*FLAGS in Makefiles ... OK
* checking compiled code ... NOTE
Note: information on .o files is not available
* checking sizes of PDF files under ‘inst/doc’ ... OK
* checking files in ‘vignettes’ ... OK
* checking examples ... OK
Examples with CPU (user + system) or elapsed time > 5s
user system elapsed
plotting 29.656 0.911 28.712
extractCytosinesFromFASTA 11.739 0.566 12.307
callMethylationSeparate 6.911 0.823 5.991
collapseBins 5.355 0.126 5.482
callMethylation 4.874 0.455 3.361
* checking for unstated dependencies in vignettes ... OK
* checking package vignettes in ‘inst/doc’ ... OK
* checking running R code from vignettes ... SKIPPED
* checking re-building of vignette outputs ... SKIPPED
* checking PDF version of manual ... OK
* DONE
Status: 1 NOTE
See
‘/Users/biocbuild/bbs-3.11-bioc/meat/methimpute.Rcheck/00check.log’
for details.
methimpute.Rcheck/00install.out
##############################################################################
##############################################################################
###
### Running command:
###
### /Library/Frameworks/R.framework/Versions/Current/Resources/bin/R CMD INSTALL methimpute
###
##############################################################################
##############################################################################
* installing to library ‘/Library/Frameworks/R.framework/Versions/4.0/Resources/library’
* installing *source* package ‘methimpute’ ...
** using staged installation
** libs
clang++ -std=gnu++11 -I"/Library/Frameworks/R.framework/Resources/include" -DNDEBUG -I'/Library/Frameworks/R.framework/Versions/4.0/Resources/library/Rcpp/include' -isysroot /Library/Developer/CommandLineTools/SDKs/MacOSX.sdk -I/usr/local/include -fopenmp -fPIC -Wall -g -O2 -c RcppExports.cpp -o RcppExports.o
clang++ -std=gnu++11 -I"/Library/Frameworks/R.framework/Resources/include" -DNDEBUG -I'/Library/Frameworks/R.framework/Versions/4.0/Resources/library/Rcpp/include' -isysroot /Library/Developer/CommandLineTools/SDKs/MacOSX.sdk -I/usr/local/include -fopenmp -fPIC -Wall -g -O2 -c densities.cpp -o densities.o
In file included from densities.cpp:1:
./densities.h:98:10: warning: 'BinomialTest::getLogDensityAt' hides overloaded virtual function [-Woverloaded-virtual]
double getLogDensityAt(int test, int total);
^
./densities.h:31:18: note: hidden overloaded virtual function 'Density::getLogDensityAt' declared here: different number of parameters (1 vs 2)
virtual double getLogDensityAt(int) { return(0); };
^
./densities.h:224:10: warning: 'Beta::getLogDensityAt' hides overloaded virtual function [-Woverloaded-virtual]
double getLogDensityAt(double x);
^
./densities.h:31:18: note: hidden overloaded virtual function 'Density::getLogDensityAt' declared here: type mismatch at 1st parameter ('int' vs 'double')
virtual double getLogDensityAt(int) { return(0); };
^
2 warnings generated.
clang++ -std=gnu++11 -I"/Library/Frameworks/R.framework/Resources/include" -DNDEBUG -I'/Library/Frameworks/R.framework/Versions/4.0/Resources/library/Rcpp/include' -isysroot /Library/Developer/CommandLineTools/SDKs/MacOSX.sdk -I/usr/local/include -fopenmp -fPIC -Wall -g -O2 -c fitHMM.cpp -o fitHMM.o
In file included from fitHMM.cpp:2:
In file included from ./scalehmm.h:4:
./densities.h:98:10: warning: 'BinomialTest::getLogDensityAt' hides overloaded virtual function [-Woverloaded-virtual]
double getLogDensityAt(int test, int total);
^
./densities.h:31:18: note: hidden overloaded virtual function 'Density::getLogDensityAt' declared here: different number of parameters (1 vs 2)
virtual double getLogDensityAt(int) { return(0); };
^
./densities.h:224:10: warning: 'Beta::getLogDensityAt' hides overloaded virtual function [-Woverloaded-virtual]
double getLogDensityAt(double x);
^
./densities.h:31:18: note: hidden overloaded virtual function 'Density::getLogDensityAt' declared here: type mismatch at 1st parameter ('int' vs 'double')
virtual double getLogDensityAt(int) { return(0); };
^
2 warnings generated.
clang++ -std=gnu++11 -I"/Library/Frameworks/R.framework/Resources/include" -DNDEBUG -I'/Library/Frameworks/R.framework/Versions/4.0/Resources/library/Rcpp/include' -isysroot /Library/Developer/CommandLineTools/SDKs/MacOSX.sdk -I/usr/local/include -fopenmp -fPIC -Wall -g -O2 -c fitHMM_context.cpp -o fitHMM_context.o
In file included from fitHMM_context.cpp:2:
In file included from ./hmm_context.h:4:
./densities.h:98:10: warning: 'BinomialTest::getLogDensityAt' hides overloaded virtual function [-Woverloaded-virtual]
double getLogDensityAt(int test, int total);
^
./densities.h:31:18: note: hidden overloaded virtual function 'Density::getLogDensityAt' declared here: different number of parameters (1 vs 2)
virtual double getLogDensityAt(int) { return(0); };
^
./densities.h:224:10: warning: 'Beta::getLogDensityAt' hides overloaded virtual function [-Woverloaded-virtual]
double getLogDensityAt(double x);
^
./densities.h:31:18: note: hidden overloaded virtual function 'Density::getLogDensityAt' declared here: type mismatch at 1st parameter ('int' vs 'double')
virtual double getLogDensityAt(int) { return(0); };
^
2 warnings generated.
clang++ -std=gnu++11 -I"/Library/Frameworks/R.framework/Resources/include" -DNDEBUG -I'/Library/Frameworks/R.framework/Versions/4.0/Resources/library/Rcpp/include' -isysroot /Library/Developer/CommandLineTools/SDKs/MacOSX.sdk -I/usr/local/include -fopenmp -fPIC -Wall -g -O2 -c hmm_context.cpp -o hmm_context.o
In file included from hmm_context.cpp:1:
In file included from ./hmm_context.h:4:
./densities.h:98:10: warning: 'BinomialTest::getLogDensityAt' hides overloaded virtual function [-Woverloaded-virtual]
double getLogDensityAt(int test, int total);
^
./densities.h:31:18: note: hidden overloaded virtual function 'Density::getLogDensityAt' declared here: different number of parameters (1 vs 2)
virtual double getLogDensityAt(int) { return(0); };
^
./densities.h:224:10: warning: 'Beta::getLogDensityAt' hides overloaded virtual function [-Woverloaded-virtual]
double getLogDensityAt(double x);
^
./densities.h:31:18: note: hidden overloaded virtual function 'Density::getLogDensityAt' declared here: type mismatch at 1st parameter ('int' vs 'double')
virtual double getLogDensityAt(int) { return(0); };
^
2 warnings generated.
clang -I"/Library/Frameworks/R.framework/Resources/include" -DNDEBUG -I'/Library/Frameworks/R.framework/Versions/4.0/Resources/library/Rcpp/include' -isysroot /Library/Developer/CommandLineTools/SDKs/MacOSX.sdk -I/usr/local/include -fPIC -Wall -g -O2 -c methimpute_init.c -o methimpute_init.o
clang++ -std=gnu++11 -I"/Library/Frameworks/R.framework/Resources/include" -DNDEBUG -I'/Library/Frameworks/R.framework/Versions/4.0/Resources/library/Rcpp/include' -isysroot /Library/Developer/CommandLineTools/SDKs/MacOSX.sdk -I/usr/local/include -fopenmp -fPIC -Wall -g -O2 -c scalehmm.cpp -o scalehmm.o
In file included from scalehmm.cpp:1:
In file included from ./scalehmm.h:4:
./densities.h:98:10: warning: 'BinomialTest::getLogDensityAt' hides overloaded virtual function [-Woverloaded-virtual]
double getLogDensityAt(int test, int total);
^
./densities.h:31:18: note: hidden overloaded virtual function 'Density::getLogDensityAt' declared here: different number of parameters (1 vs 2)
virtual double getLogDensityAt(int) { return(0); };
^
./densities.h:224:10: warning: 'Beta::getLogDensityAt' hides overloaded virtual function [-Woverloaded-virtual]
double getLogDensityAt(double x);
^
./densities.h:31:18: note: hidden overloaded virtual function 'Density::getLogDensityAt' declared here: type mismatch at 1st parameter ('int' vs 'double')
virtual double getLogDensityAt(int) { return(0); };
^
2 warnings generated.
clang++ -std=gnu++11 -dynamiclib -Wl,-headerpad_max_install_names -undefined dynamic_lookup -single_module -multiply_defined suppress -L/Library/Frameworks/R.framework/Resources/lib -L/usr/local/lib -o methimpute.so RcppExports.o densities.o fitHMM.o fitHMM_context.o hmm_context.o methimpute_init.o scalehmm.o -fopenmp -F/Library/Frameworks/R.framework/.. -framework R -Wl,-framework -Wl,CoreFoundation
installing to /Library/Frameworks/R.framework/Versions/4.0/Resources/library/00LOCK-methimpute/00new/methimpute/libs
** R
** data
** inst
** byte-compile and prepare package for lazy loading
** help
*** installing help indices
** building package indices
** installing vignettes
** testing if installed package can be loaded from temporary location
** checking absolute paths in shared objects and dynamic libraries
** testing if installed package can be loaded from final location
** testing if installed package keeps a record of temporary installation path
* DONE (methimpute)
methimpute.Rcheck/methimpute-Ex.timings
| name | user | system | elapsed | |
| arabidopsis_TEs | 0.130 | 0.009 | 0.138 | |
| arabidopsis_chromosomes | 0.006 | 0.005 | 0.010 | |
| arabidopsis_genes | 0.024 | 0.007 | 0.031 | |
| arabidopsis_toydata | 0.202 | 0.026 | 0.228 | |
| binning | 4.337 | 0.614 | 4.950 | |
| binomialTestMethylation | 0.252 | 0.057 | 0.309 | |
| callMethylation | 4.874 | 0.455 | 3.361 | |
| callMethylationSeparate | 6.911 | 0.823 | 5.991 | |
| collapseBins | 5.355 | 0.126 | 5.482 | |
| distanceCorrelation | 2.131 | 0.232 | 2.364 | |
| estimateTransDist | 2.279 | 0.190 | 2.472 | |
| exportMethylome | 0.001 | 0.000 | 0.001 | |
| extractCytosinesFromFASTA | 11.739 | 0.566 | 12.307 | |
| getDistinctColors | 0.048 | 0.004 | 0.053 | |
| getStateColors | 0.018 | 0.000 | 0.019 | |
| import | 1.216 | 0.130 | 1.130 | |
| importRene | 0.091 | 0.003 | 0.094 | |
| inflateMethylome | 0.973 | 0.175 | 0.913 | |
| loadFromFiles | 0.162 | 0.018 | 0.180 | |
| plotting | 29.656 | 0.911 | 28.712 | |