| Back to Multiple platform build/check report for BioC 3.11 |
|
This page was generated on 2020-10-17 11:57:03 -0400 (Sat, 17 Oct 2020).
| TO THE DEVELOPERS/MAINTAINERS OF THE metaMS PACKAGE: Please make sure to use the following settings in order to reproduce any error or warning you see on this page. |
| Package 1040/1905 | Hostname | OS / Arch | INSTALL | BUILD | CHECK | BUILD BIN | ||||||
| metaMS 1.24.0 Yann Guitton
| malbec2 | Linux (Ubuntu 18.04.4 LTS) / x86_64 | OK | OK | OK | |||||||
| tokay2 | Windows Server 2012 R2 Standard / x64 | OK | OK | OK | [ OK ] | |||||||
| machv2 | macOS 10.14.6 Mojave / x86_64 | OK | OK | OK | OK |
| Package: metaMS |
| Version: 1.24.0 |
| Command: rm -rf metaMS.buildbin-libdir && mkdir metaMS.buildbin-libdir && C:\Users\biocbuild\bbs-3.11-bioc\R\bin\R.exe CMD INSTALL --merge-multiarch --build --library=metaMS.buildbin-libdir metaMS_1.24.0.tar.gz |
| StartedAt: 2020-10-17 10:59:09 -0400 (Sat, 17 Oct 2020) |
| EndedAt: 2020-10-17 11:00:25 -0400 (Sat, 17 Oct 2020) |
| EllapsedTime: 75.7 seconds |
| RetCode: 0 |
| Status: OK |
| PackageFile: metaMS_1.24.0.zip |
| PackageFileSize: 4.187 MiB |
##############################################################################
##############################################################################
###
### Running command:
###
### rm -rf metaMS.buildbin-libdir && mkdir metaMS.buildbin-libdir && C:\Users\biocbuild\bbs-3.11-bioc\R\bin\R.exe CMD INSTALL --merge-multiarch --build --library=metaMS.buildbin-libdir metaMS_1.24.0.tar.gz
###
##############################################################################
##############################################################################
install for i386
* installing *source* package 'metaMS' ...
** using staged installation
** R
** data
** inst
** byte-compile and prepare package for lazy loading
Warning message:
replacing previous import 'xcms::plot' by 'graphics::plot' when loading 'CAMERA'
** help
*** installing help indices
converting help for package 'metaMS'
finding HTML links ... done
AnnotateTable html
FEMsettings html
finding level-2 HTML links ... done
GCresults html
LCDBtest html
LCresults html
addRI html
alignmentLC html
annotations2tab html
constructExpPseudoSpectra html
createSTDdbGC html
createSTDdbLC html
errf html
exptable html
getAnnotationLC html
getAnnotationMat html
getFeatureInfo html
getPeakTable html
match2ExtDB html
matchExpSpec html
matchSamples2DB html
matchSamples2Samples html
metaMS-package html
metaMSsettings-class html
metaSetting-methods html
msp html
peakDetection html
plotPseudoSpectrum html
printString html
processStandards html
readStdInfo html
removeDoubleMasses html
runCAMERA html
runGC html
runLC html
threeStdsDB html
treat.DB html
** building package indices
** installing vignettes
** testing if installed package can be loaded from temporary location
Warning: replacing previous import 'xcms::plot' by 'graphics::plot' when loading 'CAMERA'
** testing if installed package can be loaded from final location
Warning: replacing previous import 'xcms::plot' by 'graphics::plot' when loading 'CAMERA'
** testing if installed package keeps a record of temporary installation path
install for x64
* installing *source* package 'metaMS' ...
** testing if installed package can be loaded
Warning: replacing previous import 'xcms::plot' by 'graphics::plot' when loading 'CAMERA'
* MD5 sums
packaged installation of 'metaMS' as metaMS_1.24.0.zip
* DONE (metaMS)