| Back to Multiple platform build/check report for BioC 3.11 | 
  | 
This page was generated on 2020-10-17 11:57:01 -0400 (Sat, 17 Oct 2020).
| TO THE DEVELOPERS/MAINTAINERS OF THE mdp PACKAGE: Please make sure to use the following settings in order to reproduce any error or warning you see on this page. | 
| Package 1012/1905 | Hostname | OS / Arch | INSTALL | BUILD | CHECK | BUILD BIN | ||||||
| mdp 1.8.0 Helder Nakaya 
  | malbec2 | Linux (Ubuntu 18.04.4 LTS) / x86_64 | OK | OK | OK | |||||||
| tokay2 | Windows Server 2012 R2 Standard / x64 | OK | OK | OK | [ OK ] | |||||||
| machv2 | macOS 10.14.6 Mojave / x86_64 | OK | OK | OK | OK | 
| Package: mdp | 
| Version: 1.8.0 | 
| Command: rm -rf mdp.buildbin-libdir && mkdir mdp.buildbin-libdir && C:\Users\biocbuild\bbs-3.11-bioc\R\bin\R.exe CMD INSTALL --merge-multiarch --build --library=mdp.buildbin-libdir mdp_1.8.0.tar.gz | 
| StartedAt: 2020-10-17 10:57:20 -0400 (Sat, 17 Oct 2020) | 
| EndedAt: 2020-10-17 10:58:10 -0400 (Sat, 17 Oct 2020) | 
| EllapsedTime: 50.8 seconds | 
| RetCode: 0 | 
| Status: OK | 
| PackageFile: mdp_1.8.0.zip | 
| PackageFileSize: 3.804 MiB | 
##############################################################################
##############################################################################
###
### Running command:
###
###   rm -rf mdp.buildbin-libdir && mkdir mdp.buildbin-libdir && C:\Users\biocbuild\bbs-3.11-bioc\R\bin\R.exe CMD INSTALL --merge-multiarch --build --library=mdp.buildbin-libdir mdp_1.8.0.tar.gz
###
##############################################################################
##############################################################################
install for i386
* installing *source* package 'mdp' ...
** using staged installation
** R
** data
*** moving datasets to lazyload DB
** inst
** byte-compile and prepare package for lazy loading
** help
*** installing help indices
  converting help for package 'mdp'
    finding HTML links ... done
    compute_gene_score                      html  
    compute_perturbed_genes                 html  
    compute_sample_scores                   html  
    compute_zscore                          html  
    example_data                            html  
    example_pheno                           html  
    mdp                                     html  
    pathway_summary                         html  
    sample_data                             html  
    sample_plot                             html  
** building package indices
** installing vignettes
** testing if installed package can be loaded from temporary location
** testing if installed package can be loaded from final location
** testing if installed package keeps a record of temporary installation path
install for x64
* installing *source* package 'mdp' ...
** testing if installed package can be loaded
* MD5 sums
packaged installation of 'mdp' as mdp_1.8.0.zip
* DONE (mdp)