| Back to Multiple platform build/check report for BioC 3.11 |
|
This page was generated on 2020-10-17 11:57:00 -0400 (Sat, 17 Oct 2020).
| TO THE DEVELOPERS/MAINTAINERS OF THE massiR PACKAGE: Please make sure to use the following settings in order to reproduce any error or warning you see on this page. |
| Package 992/1905 | Hostname | OS / Arch | INSTALL | BUILD | CHECK | BUILD BIN | ||||||
| massiR 1.24.0 Sam Buckberry
| malbec2 | Linux (Ubuntu 18.04.4 LTS) / x86_64 | OK | OK | OK | |||||||
| tokay2 | Windows Server 2012 R2 Standard / x64 | [ OK ] | OK | OK | OK | |||||||
| machv2 | macOS 10.14.6 Mojave / x86_64 | OK | OK | OK | OK |
| Package: massiR |
| Version: 1.24.0 |
| Command: C:\cygwin\bin\curl.exe -O https://malbec2.bioconductor.org/BBS/3.11/bioc/src/contrib/massiR_1.24.0.tar.gz && rm -rf massiR.buildbin-libdir && mkdir massiR.buildbin-libdir && C:\Users\biocbuild\bbs-3.11-bioc\R\bin\R.exe CMD INSTALL --merge-multiarch --build --library=massiR.buildbin-libdir massiR_1.24.0.tar.gz && C:\Users\biocbuild\bbs-3.11-bioc\R\bin\R.exe CMD INSTALL massiR_1.24.0.zip && rm massiR_1.24.0.tar.gz massiR_1.24.0.zip |
| StartedAt: 2020-10-16 17:11:16 -0400 (Fri, 16 Oct 2020) |
| EndedAt: 2020-10-16 17:11:53 -0400 (Fri, 16 Oct 2020) |
| EllapsedTime: 37.2 seconds |
| RetCode: 0 |
| Status: OK |
##############################################################################
##############################################################################
###
### Running command:
###
### C:\cygwin\bin\curl.exe -O https://malbec2.bioconductor.org/BBS/3.11/bioc/src/contrib/massiR_1.24.0.tar.gz && rm -rf massiR.buildbin-libdir && mkdir massiR.buildbin-libdir && C:\Users\biocbuild\bbs-3.11-bioc\R\bin\R.exe CMD INSTALL --merge-multiarch --build --library=massiR.buildbin-libdir massiR_1.24.0.tar.gz && C:\Users\biocbuild\bbs-3.11-bioc\R\bin\R.exe CMD INSTALL massiR_1.24.0.zip && rm massiR_1.24.0.tar.gz massiR_1.24.0.zip
###
##############################################################################
##############################################################################
% Total % Received % Xferd Average Speed Time Time Time Current
Dload Upload Total Spent Left Speed
0 0 0 0 0 0 0 0 --:--:-- --:--:-- --:--:-- 0
100 916k 100 916k 0 0 3838k 0 --:--:-- --:--:-- --:--:-- 3968k
install for i386
* installing *source* package 'massiR' ...
** using staged installation
** R
** data
*** moving datasets to lazyload DB
** inst
** byte-compile and prepare package for lazy loading
** help
*** installing help indices
converting help for package 'massiR'
finding HTML links ... done
massi.test.dataset html
massi.test.probes html
massiR-package html
massi_cluster html
massi_cluster_plot html
massi_dip html
massi_eset html
massi_select html
massi_y html
massi_y_plot html
y_probes html
** building package indices
** installing vignettes
** testing if installed package can be loaded from temporary location
** testing if installed package can be loaded from final location
** testing if installed package keeps a record of temporary installation path
install for x64
* installing *source* package 'massiR' ...
** testing if installed package can be loaded
* MD5 sums
packaged installation of 'massiR' as massiR_1.24.0.zip
* DONE (massiR)
* installing to library 'C:/Users/biocbuild/bbs-3.11-bioc/R/library'
package 'massiR' successfully unpacked and MD5 sums checked