| Back to Multiple platform build/check report for BioC 3.11 |
|
This page was generated on 2020-10-17 11:55:03 -0400 (Sat, 17 Oct 2020).
| TO THE DEVELOPERS/MAINTAINERS OF THE maigesPack PACKAGE: Please make sure to use the following settings in order to reproduce any error or warning you see on this page. |
| Package 977/1905 | Hostname | OS / Arch | INSTALL | BUILD | CHECK | BUILD BIN | ||||||
| maigesPack 1.52.0 Gustavo H. Esteves
| malbec2 | Linux (Ubuntu 18.04.4 LTS) / x86_64 | OK | OK | [ OK ] | |||||||
| tokay2 | Windows Server 2012 R2 Standard / x64 | OK | OK | WARNINGS | OK | |||||||
| machv2 | macOS 10.14.6 Mojave / x86_64 | OK | OK | OK | OK |
| Package: maigesPack |
| Version: 1.52.0 |
| Command: /home/biocbuild/bbs-3.11-bioc/R/bin/R CMD check --install=check:maigesPack.install-out.txt --library=/home/biocbuild/bbs-3.11-bioc/R/library --no-vignettes --timings maigesPack_1.52.0.tar.gz |
| StartedAt: 2020-10-17 02:46:00 -0400 (Sat, 17 Oct 2020) |
| EndedAt: 2020-10-17 02:48:07 -0400 (Sat, 17 Oct 2020) |
| EllapsedTime: 126.5 seconds |
| RetCode: 0 |
| Status: OK |
| CheckDir: maigesPack.Rcheck |
| Warnings: 0 |
##############################################################################
##############################################################################
###
### Running command:
###
### /home/biocbuild/bbs-3.11-bioc/R/bin/R CMD check --install=check:maigesPack.install-out.txt --library=/home/biocbuild/bbs-3.11-bioc/R/library --no-vignettes --timings maigesPack_1.52.0.tar.gz
###
##############################################################################
##############################################################################
* using log directory ‘/home/biocbuild/bbs-3.11-bioc/meat/maigesPack.Rcheck’
* using R version 4.0.3 (2020-10-10)
* using platform: x86_64-pc-linux-gnu (64-bit)
* using session charset: UTF-8
* using option ‘--no-vignettes’
* checking for file ‘maigesPack/DESCRIPTION’ ... OK
* this is package ‘maigesPack’ version ‘1.52.0’
* checking package namespace information ... OK
* checking package dependencies ... OK
* checking if this is a source package ... OK
* checking if there is a namespace ... OK
* checking for hidden files and directories ... NOTE
Found the following hidden files and directories:
.BBSoptions
These were most likely included in error. See section ‘Package
structure’ in the ‘Writing R Extensions’ manual.
* checking for portable file names ... OK
* checking for sufficient/correct file permissions ... OK
* checking whether package ‘maigesPack’ can be installed ... OK
* checking installed package size ... OK
* checking package directory ... OK
* checking ‘build’ directory ... OK
* checking DESCRIPTION meta-information ... NOTE
Malformed Description field: should contain one or more complete sentences.
* checking top-level files ... OK
* checking for left-over files ... OK
* checking index information ... OK
* checking package subdirectories ... OK
* checking R files for non-ASCII characters ... OK
* checking R files for syntax errors ... OK
* checking whether the package can be loaded ... OK
* checking whether the package can be loaded with stated dependencies ... OK
* checking whether the package can be unloaded cleanly ... OK
* checking whether the namespace can be loaded with stated dependencies ... OK
* checking whether the namespace can be unloaded cleanly ... OK
* checking dependencies in R code ... NOTE
'library' or 'require' calls in package code:
‘OLIN’ ‘annotate’ ‘rgl’
Please use :: or requireNamespace() instead.
See section 'Suggested packages' in the 'Writing R Extensions' manual.
* checking S3 generic/method consistency ... OK
* checking replacement functions ... OK
* checking foreign function calls ... OK
* checking R code for possible problems ... NOTE
activeMod: no visible global function definition for ‘sessionInfo’
activeModScoreHTML: no visible binding for global variable ‘data’
activeNet: no visible global function definition for ‘sessionInfo’
activeNetScoreHTML: no visible binding for global variable ‘data’
blackBlue: no visible global function definition for ‘col2rgb’
blackBlue: no visible global function definition for ‘rgb’
classifyKNN: no visible global function definition for ‘sessionInfo’
classifyKNNsc: no visible global function definition for ‘sessionInfo’
classifyLDA: no visible global function definition for ‘sessionInfo’
classifyLDAsc: no visible global function definition for ‘sessionInfo’
classifySVM: no visible global function definition for ‘sessionInfo’
classifySVMsc: no visible global function definition for ‘sessionInfo’
createMaigesRaw: no visible global function definition for
‘sessionInfo’
createTDMS: no visible global function definition for ‘write.table’
deGenes2by2BootT: no visible global function definition for
‘sessionInfo’
deGenes2by2Ttest: no visible global function definition for
‘sessionInfo’
deGenes2by2Wilcox: no visible global function definition for
‘sessionInfo’
deGenesANOVA: no visible global function definition for ‘sessionInfo’
designANOVA: no visible global function definition for ‘sessionInfo’
greenRed: no visible global function definition for ‘col2rgb’
greenRed: no visible global function definition for ‘rgb’
loadData: no visible global function definition for ‘read.table’
loadData: no visible global function definition for ‘sessionInfo’
normLoc: no visible global function definition for ‘sessionInfo’
normOLIN: no visible global function definition for ‘sessionInfo’
normRepLoess: no visible global function definition for ‘sessionInfo’
normScaleLimma: no visible global function definition for ‘sessionInfo’
normScaleMarray: no visible global function definition for
‘sessionInfo’
print.maiges: no visible global function definition for ‘str’
print.maigesANOVA: no visible global function definition for ‘str’
print.maigesPreRaw: no visible global function definition for ‘str’
print.maigesRaw: no visible global function definition for ‘str’
relNet2TGF.maigesRelNetB: no visible global function definition for
‘write.table’
relNet2TGF.maigesRelNetM: no visible global function definition for
‘write.table’
relNetworkB: no visible global function definition for ‘sessionInfo’
relNetworkM: no visible global function definition for ‘sessionInfo’
selSpots: no visible global function definition for ‘sessionInfo’
summarizeReplicates: no visible global function definition for
‘sessionInfo’
tableClass: no visible global function definition for ‘write.table’
tablesDE: no visible global function definition for ‘setRepository’
tablesDE: no visible global function definition for ‘write.table’
Undefined global functions or variables:
col2rgb data read.table rgb sessionInfo setRepository str write.table
Consider adding
importFrom("grDevices", "col2rgb", "rgb")
importFrom("utils", "data", "read.table", "sessionInfo", "str",
"write.table")
to your NAMESPACE file.
* checking Rd files ... OK
* checking Rd metadata ... OK
* checking Rd cross-references ... OK
* checking for missing documentation entries ... OK
* checking for code/documentation mismatches ... OK
* checking Rd \usage sections ... OK
* checking Rd contents ... OK
* checking for unstated dependencies in examples ... OK
* checking contents of ‘data’ directory ... OK
* checking data for non-ASCII characters ... OK
* checking data for ASCII and uncompressed saves ... OK
* checking line endings in C/C++/Fortran sources/headers ... OK
* checking compiled code ... NOTE
Note: information on .o files is not available
* checking files in ‘vignettes’ ... OK
* checking examples ... OK
Examples with CPU (user + system) or elapsed time > 5s
user system elapsed
plot-methods 8.260 0.133 9.265
normScaleLimma 6.678 0.188 6.866
* checking for unstated dependencies in vignettes ... OK
* checking package vignettes in ‘inst/doc’ ... OK
* checking running R code from vignettes ... SKIPPED
* checking re-building of vignette outputs ... SKIPPED
* checking PDF version of manual ... OK
* DONE
Status: 5 NOTEs
See
‘/home/biocbuild/bbs-3.11-bioc/meat/maigesPack.Rcheck/00check.log’
for details.
maigesPack.Rcheck/00install.out
############################################################################## ############################################################################## ### ### Running command: ### ### /home/biocbuild/bbs-3.11-bioc/R/bin/R CMD INSTALL maigesPack ### ############################################################################## ############################################################################## * installing to library ‘/home/biocbuild/bbs-3.11-bioc/R/library’ * installing *source* package ‘maigesPack’ ... ** using staged installation ** libs gcc -I"/home/biocbuild/bbs-3.11-bioc/R/include" -DNDEBUG -I/usr/local/include -fpic -g -O2 -Wall -c Minfo.c -o Minfo.o gcc -I"/home/biocbuild/bbs-3.11-bioc/R/include" -DNDEBUG -I/usr/local/include -fpic -g -O2 -Wall -c bootstrapT.c -o bootstrapT.o gcc -I"/home/biocbuild/bbs-3.11-bioc/R/include" -DNDEBUG -I/usr/local/include -fpic -g -O2 -Wall -c register.c -o register.o gcc -I"/home/biocbuild/bbs-3.11-bioc/R/include" -DNDEBUG -I/usr/local/include -fpic -g -O2 -Wall -c robustCorr.c -o robustCorr.o gcc -I"/home/biocbuild/bbs-3.11-bioc/R/include" -DNDEBUG -I/usr/local/include -fpic -g -O2 -Wall -c stats.c -o stats.o gcc -shared -L/home/biocbuild/bbs-3.11-bioc/R/lib -L/usr/local/lib -o maigesPack.so Minfo.o bootstrapT.o register.o robustCorr.o stats.o -L/home/biocbuild/bbs-3.11-bioc/R/lib -lR installing to /home/biocbuild/bbs-3.11-bioc/R/library/00LOCK-maigesPack/00new/maigesPack/libs ** R ** data ** byte-compile and prepare package for lazy loading ** help *** installing help indices ** building package indices ** installing vignettes ** testing if installed package can be loaded from temporary location ** checking absolute paths in shared objects and dynamic libraries ** testing if installed package can be loaded from final location ** testing if installed package keeps a record of temporary installation path * DONE (maigesPack)
maigesPack.Rcheck/maigesPack-Ex.timings
| name | user | system | elapsed | |
| MI | 0.004 | 0.000 | 0.004 | |
| activeMod | 1.403 | 0.008 | 1.411 | |
| activeModScoreHTML | 0.463 | 0.000 | 0.464 | |
| activeNet | 2.478 | 0.048 | 2.527 | |
| activeNetScoreHTML | 3.479 | 0.008 | 3.489 | |
| addGeneGrps | 0.000 | 0.000 | 0.001 | |
| addPaths | 0 | 0 | 0 | |
| bootstrapCor | 0.030 | 0.000 | 0.029 | |
| bootstrapMI | 0.159 | 0.000 | 0.160 | |
| bootstrapT | 0.002 | 0.000 | 0.003 | |
| boxplot-methods | 2.171 | 0.080 | 2.253 | |
| bracketMethods | 0.156 | 0.012 | 0.168 | |
| calcA | 0.133 | 0.072 | 0.206 | |
| calcW | 0.134 | 0.060 | 0.194 | |
| classifyKNN | 0.21 | 0.00 | 0.21 | |
| classifyKNNsc | 0.368 | 0.004 | 0.372 | |
| classifyLDA | 0.932 | 0.008 | 0.941 | |
| classifyLDAsc | 1.601 | 0.004 | 1.604 | |
| classifySVM | 0.583 | 0.004 | 0.588 | |
| classifySVMsc | 0.979 | 0.008 | 0.986 | |
| coerce-methods | 0.143 | 0.008 | 0.152 | |
| compCorr | 0 | 0 | 0 | |
| createMaigesRaw | 0.272 | 0.008 | 0.279 | |
| deGenes2by2BootT | 0.426 | 0.000 | 0.427 | |
| deGenes2by2Ttest | 0.181 | 0.004 | 0.185 | |
| deGenes2by2Wilcox | 0.195 | 0.000 | 0.195 | |
| deGenesANOVA | 0.155 | 0.000 | 0.155 | |
| designANOVA | 0.104 | 0.000 | 0.104 | |
| dim-methods | 0.061 | 0.000 | 0.061 | |
| getLabels | 0.077 | 0.003 | 0.079 | |
| hierM | 1.542 | 0.012 | 1.454 | |
| hierMde | 1.698 | 0.012 | 1.709 | |
| image-methods | 1.333 | 0.016 | 1.349 | |
| kmeansM | 1.186 | 0.025 | 1.192 | |
| kmeansMde | 0.263 | 0.008 | 0.270 | |
| loadData | 0 | 0 | 0 | |
| normLoc | 1.793 | 0.011 | 1.804 | |
| normOLIN | 0.067 | 0.000 | 0.067 | |
| normRepLoess | 0.047 | 0.012 | 0.059 | |
| normScaleLimma | 6.678 | 0.188 | 6.866 | |
| normScaleMarray | 1.417 | 0.075 | 1.493 | |
| plot-methods | 8.260 | 0.133 | 9.265 | |
| plotGenePair | 0.140 | 0.004 | 0.144 | |
| print-methods | 0.205 | 0.000 | 0.205 | |
| relNet2TGF | 0.18 | 0.00 | 0.18 | |
| relNetworkB | 1.786 | 0.008 | 1.794 | |
| relNetworkM | 0.085 | 0.004 | 0.089 | |
| robustCorr | 0.001 | 0.000 | 0.000 | |
| selSpots | 0.174 | 0.000 | 0.175 | |
| show-methods | 0.124 | 0.004 | 0.128 | |
| somM | 1.589 | 0.020 | 1.614 | |
| somMde | 0.347 | 0.004 | 0.354 | |
| summarizeReplicates | 1.787 | 0.008 | 1.796 | |
| summary-methods | 0.181 | 0.012 | 0.193 | |
| tableClass | 0.763 | 0.008 | 0.771 | |
| tablesDE | 3.722 | 0.088 | 3.810 | |