| Back to Multiple platform build/check report for BioC 3.11 |
|
This page was generated on 2020-10-17 11:57:00 -0400 (Sat, 17 Oct 2020).
| TO THE DEVELOPERS/MAINTAINERS OF THE maSigPro PACKAGE: Please make sure to use the following settings in order to reproduce any error or warning you see on this page. |
| Package 989/1905 | Hostname | OS / Arch | INSTALL | BUILD | CHECK | BUILD BIN | ||||||
| maSigPro 1.60.0 Maria Jose Nueda
| malbec2 | Linux (Ubuntu 18.04.4 LTS) / x86_64 | OK | OK | OK | |||||||
| tokay2 | Windows Server 2012 R2 Standard / x64 | OK | OK | OK | [ OK ] | |||||||
| machv2 | macOS 10.14.6 Mojave / x86_64 | OK | OK | OK | OK |
| Package: maSigPro |
| Version: 1.60.0 |
| Command: rm -rf maSigPro.buildbin-libdir && mkdir maSigPro.buildbin-libdir && C:\Users\biocbuild\bbs-3.11-bioc\R\bin\R.exe CMD INSTALL --merge-multiarch --build --library=maSigPro.buildbin-libdir maSigPro_1.60.0.tar.gz |
| StartedAt: 2020-10-17 10:55:53 -0400 (Sat, 17 Oct 2020) |
| EndedAt: 2020-10-17 10:56:32 -0400 (Sat, 17 Oct 2020) |
| EllapsedTime: 39.8 seconds |
| RetCode: 0 |
| Status: OK |
| PackageFile: maSigPro_1.60.0.zip |
| PackageFileSize: 1.724 MiB |
##############################################################################
##############################################################################
###
### Running command:
###
### rm -rf maSigPro.buildbin-libdir && mkdir maSigPro.buildbin-libdir && C:\Users\biocbuild\bbs-3.11-bioc\R\bin\R.exe CMD INSTALL --merge-multiarch --build --library=maSigPro.buildbin-libdir maSigPro_1.60.0.tar.gz
###
##############################################################################
##############################################################################
install for i386
* installing *source* package 'maSigPro' ...
** using staged installation
** R
** data
** inst
** byte-compile and prepare package for lazy loading
** help
*** installing help indices
converting help for package 'maSigPro'
finding HTML links ... done
ISOdata html
ISOdesign html
IsoModel html
IsoPlot html
NBdata html
NBdesign html
PlotGroups html
PlotProfiles html
PodiumChange html
T.fit html
average.rows html
data.abiotic html
edesign.abiotic html
edesignCT html
edesignDR html
get.siggenes html
getDS html
getDSPatterns html
i.rank html
maSigPro html
maSigProUsersGuide html
make.design.matrix html
p.vector html
position html
reg.coeffs html
see.genes html
seeDS html
stepback html
stepfor html
suma2Venn html
tableDS html
two.ways.stepback html
two.ways.stepfor html
** building package indices
** installing vignettes
** testing if installed package can be loaded from temporary location
** testing if installed package can be loaded from final location
** testing if installed package keeps a record of temporary installation path
install for x64
* installing *source* package 'maSigPro' ...
** testing if installed package can be loaded
* MD5 sums
packaged installation of 'maSigPro' as maSigPro_1.60.0.zip
* DONE (maSigPro)