| Back to Multiple platform build/check report for BioC 3.11 |
|
This page was generated on 2020-10-17 11:56:56 -0400 (Sat, 17 Oct 2020).
| TO THE DEVELOPERS/MAINTAINERS OF THE kimod PACKAGE: Please make sure to use the following settings in order to reproduce any error or warning you see on this page. |
| Package 923/1905 | Hostname | OS / Arch | INSTALL | BUILD | CHECK | BUILD BIN | ||||||
M L Zingaretti
| malbec2 | Linux (Ubuntu 18.04.4 LTS) / x86_64 | OK | OK | ERROR | |||||||
| tokay2 | Windows Server 2012 R2 Standard / x64 | OK | OK | ERROR | [ OK ] | |||||||
| machv2 | macOS 10.14.6 Mojave / x86_64 | OK | OK | ERROR | OK |
| Package: kimod |
| Version: 1.16.0 |
| Command: rm -rf kimod.buildbin-libdir && mkdir kimod.buildbin-libdir && C:\Users\biocbuild\bbs-3.11-bioc\R\bin\R.exe CMD INSTALL --merge-multiarch --build --library=kimod.buildbin-libdir kimod_1.16.0.tar.gz |
| StartedAt: 2020-10-17 10:51:45 -0400 (Sat, 17 Oct 2020) |
| EndedAt: 2020-10-17 10:52:32 -0400 (Sat, 17 Oct 2020) |
| EllapsedTime: 46.8 seconds |
| RetCode: 0 |
| Status: OK |
| PackageFile: kimod_1.16.0.zip |
| PackageFileSize: 1.005 MiB |
##############################################################################
##############################################################################
###
### Running command:
###
### rm -rf kimod.buildbin-libdir && mkdir kimod.buildbin-libdir && C:\Users\biocbuild\bbs-3.11-bioc\R\bin\R.exe CMD INSTALL --merge-multiarch --build --library=kimod.buildbin-libdir kimod_1.16.0.tar.gz
###
##############################################################################
##############################################################################
install for i386
* installing *source* package 'kimod' ...
** using staged installation
** R
** data
*** moving datasets to lazyload DB
** inst
** byte-compile and prepare package for lazy loading
** help
*** installing help indices
converting help for package 'kimod'
finding HTML links ... done
BootPlot html
Bootstrap-Class html
Bootstrap-print.Boot html
Bootstrap-summary html
DiStatis-Bootstrap html
DiStatis-Class html
DiStatis-CompPlot html
DiStatis-DiStatis html
DiStatis-PanelPlot html
DiStatis-RVPlot html
DiStatis-SelectVar html
DiStatis-TrajPlot html
DiStatis-print html
DiStatis-summary html
GroupProj-Class html
GroupProj-print html
GroupProj-summary html
GroupProj html
NCI60Selec html
NCI60Selec_ESet html
SelectVar-Biplot html
SelectVar-Class html
SelectVar-print html
SelectVar-summary html
winesassesors html
** building package indices
** installing vignettes
** testing if installed package can be loaded from temporary location
Warning: Package 'kimod' is deprecated and will be removed from Bioconductor
version 3.12
** testing if installed package can be loaded from final location
Warning: Package 'kimod' is deprecated and will be removed from Bioconductor
version 3.12
** testing if installed package keeps a record of temporary installation path
install for x64
* installing *source* package 'kimod' ...
** testing if installed package can be loaded
Warning: Package 'kimod' is deprecated and will be removed from Bioconductor
version 3.12
* MD5 sums
packaged installation of 'kimod' as kimod_1.16.0.zip
* DONE (kimod)