| Back to Multiple platform build/check report for BioC 3.11 | 
  | 
This page was generated on 2020-01-16 13:31:27 -0500 (Thu, 16 Jan 2020).
| Package 872/1818 | Hostname | OS / Arch | INSTALL | BUILD | CHECK | BUILD BIN | ||||||
| iterativeBMAsurv 1.45.0 Ka Yee Yeung 
  | malbec2 | Linux (Ubuntu 18.04.3 LTS) / x86_64 | OK | OK | OK | |||||||
| tokay2 | Windows Server 2012 R2 Standard / x64 | OK | OK | OK | OK | |||||||
| celaya2 | OS X 10.11.6 El Capitan / x86_64 | OK | OK | [ OK ] | OK | 
| Package: iterativeBMAsurv | 
| Version: 1.45.0 | 
| Command: /Library/Frameworks/R.framework/Versions/Current/Resources/bin/R CMD check --install=check:iterativeBMAsurv.install-out.txt --library=/Library/Frameworks/R.framework/Versions/Current/Resources/library --no-vignettes --timings iterativeBMAsurv_1.45.0.tar.gz | 
| StartedAt: 2020-01-16 05:45:38 -0500 (Thu, 16 Jan 2020) | 
| EndedAt: 2020-01-16 05:48:27 -0500 (Thu, 16 Jan 2020) | 
| EllapsedTime: 169.8 seconds | 
| RetCode: 0 | 
| Status: OK | 
| CheckDir: iterativeBMAsurv.Rcheck | 
| Warnings: 0 | 
##############################################################################
##############################################################################
###
### Running command:
###
###   /Library/Frameworks/R.framework/Versions/Current/Resources/bin/R CMD check --install=check:iterativeBMAsurv.install-out.txt --library=/Library/Frameworks/R.framework/Versions/Current/Resources/library --no-vignettes --timings iterativeBMAsurv_1.45.0.tar.gz
###
##############################################################################
##############################################################################
* using log directory ‘/Users/biocbuild/bbs-3.11-bioc/meat/iterativeBMAsurv.Rcheck’
* using R Under development (unstable) (2019-12-14 r77572)
* using platform: x86_64-apple-darwin15.6.0 (64-bit)
* using session charset: UTF-8
* using option ‘--no-vignettes’
* checking for file ‘iterativeBMAsurv/DESCRIPTION’ ... OK
* checking extension type ... Package
* this is package ‘iterativeBMAsurv’ version ‘1.45.0’
* checking package namespace information ... OK
* checking package dependencies ... OK
* checking if this is a source package ... OK
* checking if there is a namespace ... OK
* checking for hidden files and directories ... OK
* checking for portable file names ... OK
* checking for sufficient/correct file permissions ... OK
* checking whether package ‘iterativeBMAsurv’ can be installed ... OK
* checking installed package size ... OK
* checking package directory ... OK
* checking ‘build’ directory ... OK
* checking DESCRIPTION meta-information ... NOTE
Package listed in more than one of Depends, Imports, Suggests, Enhances:
  ‘survival’
A package should be listed in only one of these fields.
* checking top-level files ... OK
* checking for left-over files ... OK
* checking index information ... OK
* checking package subdirectories ... OK
* checking R files for non-ASCII characters ... OK
* checking R files for syntax errors ... OK
* checking whether the package can be loaded ... OK
* checking whether the package can be loaded with stated dependencies ... OK
* checking whether the package can be unloaded cleanly ... OK
* checking whether the namespace can be loaded with stated dependencies ... OK
* checking whether the namespace can be unloaded cleanly ... OK
* checking dependencies in R code ... NOTE
Packages in Depends field not imported from:
  ‘BMA’ ‘leaps’ ‘splines’
  These packages need to be imported from (in the NAMESPACE file)
  for when this namespace is loaded but not attached.
* checking S3 generic/method consistency ... OK
* checking replacement functions ... OK
* checking foreign function calls ... OK
* checking R code for possible problems ... NOTE
iterateBMAsurv.train: no visible global function definition for
  ‘bic.surv’
iterateBMAsurv.train.wrapper: no visible global function definition for
  ‘bic.surv’
Undefined global functions or variables:
  bic.surv
* checking Rd files ... NOTE
prepare_Rd: predictBicSurv.Rd:46: Dropping empty section \note
prepare_Rd: predictiveAssessCategory.Rd:52: Dropping empty section \note
prepare_Rd: printTopGenes.Rd:49: Dropping empty section \note
prepare_Rd: singleGeneCoxph.Rd:54: Dropping empty section \note
prepare_Rd: testCens.Rd:13-14: Dropping empty section \details
prepare_Rd: testSurv.Rd:13-14: Dropping empty section \details
prepare_Rd: trainCens.Rd:13-14: Dropping empty section \details
prepare_Rd: trainSurv.Rd:13-14: Dropping empty section \details
* checking Rd metadata ... OK
* checking Rd cross-references ... OK
* checking for missing documentation entries ... OK
* checking for code/documentation mismatches ... OK
* checking Rd \usage sections ... OK
* checking Rd contents ... OK
* checking for unstated dependencies in examples ... OK
* checking contents of ‘data’ directory ... OK
* checking data for non-ASCII characters ... OK
* checking data for ASCII and uncompressed saves ... OK
* checking sizes of PDF files under ‘inst/doc’ ... OK
* checking files in ‘vignettes’ ... OK
* checking examples ... OK
Examples with CPU (user + system) or elapsed time > 5s
                               user system elapsed
imageplot.iterate.bma.surv   24.681  0.247  24.945
predictiveAssessCategory     12.551  0.224  12.779
iterateBMAsurv.train         12.237  0.183  12.456
predictBicSurv               11.112  0.168  11.281
iterateBMAsurv.train.wrapper 10.830  0.096  10.928
* checking for unstated dependencies in vignettes ... OK
* checking package vignettes in ‘inst/doc’ ... OK
* checking running R code from vignettes ... SKIPPED
* checking re-building of vignette outputs ... SKIPPED
* checking PDF version of manual ... OK
* DONE
Status: 4 NOTEs
See
  ‘/Users/biocbuild/bbs-3.11-bioc/meat/iterativeBMAsurv.Rcheck/00check.log’
for details.
iterativeBMAsurv.Rcheck/00install.out
############################################################################## ############################################################################## ### ### Running command: ### ### /Library/Frameworks/R.framework/Versions/Current/Resources/bin/R CMD INSTALL iterativeBMAsurv ### ############################################################################## ############################################################################## * installing to library ‘/Library/Frameworks/R.framework/Versions/4.0/Resources/library’ * installing *source* package ‘iterativeBMAsurv’ ... ** using staged installation ** R ** data ** byte-compile and prepare package for lazy loading ** help *** installing help indices ** building package indices ** installing vignettes ** testing if installed package can be loaded from temporary location ** testing if installed package can be loaded from final location ** testing if installed package keeps a record of temporary installation path * DONE (iterativeBMAsurv)
iterativeBMAsurv.Rcheck/iterativeBMAsurv-Ex.timings
| name | user | system | elapsed | |
| crossVal | 3.378 | 0.111 | 3.491 | |
| imageplot.iterate.bma.surv | 24.681 | 0.247 | 24.945 | |
| iterateBMAsurv.train | 12.237 | 0.183 | 12.456 | |
| iterateBMAsurv.train.predict.assess | 1.628 | 0.086 | 1.715 | |
| iterateBMAsurv.train.wrapper | 10.830 | 0.096 | 10.928 | |
| iterativeBMAsurv-package | 4.492 | 0.176 | 4.669 | |
| predictBicSurv | 11.112 | 0.168 | 11.281 | |
| predictiveAssessCategory | 12.551 | 0.224 | 12.779 | |
| printTopGenes | 0.769 | 0.013 | 0.782 | |
| singleGeneCoxph | 0.704 | 0.016 | 0.720 | |