| Back to Multiple platform build/check report for BioC 3.11 | 
  | 
This page was generated on 2020-10-17 11:56:53 -0400 (Sat, 17 Oct 2020).
| TO THE DEVELOPERS/MAINTAINERS OF THE intansv PACKAGE: Please make sure to use the following settings in order to reproduce any error or warning you see on this page. | 
| Package 881/1905 | Hostname | OS / Arch | INSTALL | BUILD | CHECK | BUILD BIN | ||||||
| intansv 1.28.0 Wen Yao 
  | malbec2 | Linux (Ubuntu 18.04.4 LTS) / x86_64 | OK | OK | OK | |||||||
| tokay2 | Windows Server 2012 R2 Standard / x64 | OK | OK | OK | [ OK ] | |||||||
| machv2 | macOS 10.14.6 Mojave / x86_64 | OK | OK | OK | OK | 
| Package: intansv | 
| Version: 1.28.0 | 
| Command: rm -rf intansv.buildbin-libdir && mkdir intansv.buildbin-libdir && C:\Users\biocbuild\bbs-3.11-bioc\R\bin\R.exe CMD INSTALL --merge-multiarch --build --library=intansv.buildbin-libdir intansv_1.28.0.tar.gz | 
| StartedAt: 2020-10-17 10:48:57 -0400 (Sat, 17 Oct 2020) | 
| EndedAt: 2020-10-17 10:50:13 -0400 (Sat, 17 Oct 2020) | 
| EllapsedTime: 76.1 seconds | 
| RetCode: 0 | 
| Status: OK | 
| PackageFile: intansv_1.28.0.zip | 
| PackageFileSize: 774.3 KiB | 
##############################################################################
##############################################################################
###
### Running command:
###
###   rm -rf intansv.buildbin-libdir && mkdir intansv.buildbin-libdir && C:\Users\biocbuild\bbs-3.11-bioc\R\bin\R.exe CMD INSTALL --merge-multiarch --build --library=intansv.buildbin-libdir intansv_1.28.0.tar.gz
###
##############################################################################
##############################################################################
install for i386
* installing *source* package 'intansv' ...
** using staged installation
** R
** inst
** byte-compile and prepare package for lazy loading
** help
*** installing help indices
  converting help for package 'intansv'
    finding HTML links ... done
    methodsMerge                            html  
    plotChromosome                          html  
    plotRegion                              html  
    readBreakDancer                         html  
    readCnvnator                            html  
    readDelly                               html  
    readLumpy                               html  
    readPindel                              html  
    readSoftSearch                          html  
    readSvseq                               html  
    svAnnotation                            html  
** building package indices
** installing vignettes
** testing if installed package can be loaded from temporary location
** testing if installed package can be loaded from final location
** testing if installed package keeps a record of temporary installation path
install for x64
* installing *source* package 'intansv' ...
** testing if installed package can be loaded
* MD5 sums
packaged installation of 'intansv' as intansv_1.28.0.zip
* DONE (intansv)