| Back to Multiple platform build/check report for BioC 3.11 |
|
This page was generated on 2020-01-16 13:32:46 -0500 (Thu, 16 Jan 2020).
| Package 831/1818 | Hostname | OS / Arch | INSTALL | BUILD | CHECK | BUILD BIN | ||||||
| imageHTS 1.37.0 Joseph Barry
| malbec2 | Linux (Ubuntu 18.04.3 LTS) / x86_64 | OK | OK | OK | |||||||
| tokay2 | Windows Server 2012 R2 Standard / x64 | OK | OK | OK | OK | |||||||
| celaya2 | OS X 10.11.6 El Capitan / x86_64 | OK | OK | [ OK ] | OK |
| Package: imageHTS |
| Version: 1.37.0 |
| Command: /Library/Frameworks/R.framework/Versions/Current/Resources/bin/R CMD check --install=check:imageHTS.install-out.txt --library=/Library/Frameworks/R.framework/Versions/Current/Resources/library --no-vignettes --timings imageHTS_1.37.0.tar.gz |
| StartedAt: 2020-01-16 05:33:56 -0500 (Thu, 16 Jan 2020) |
| EndedAt: 2020-01-16 05:39:05 -0500 (Thu, 16 Jan 2020) |
| EllapsedTime: 309.7 seconds |
| RetCode: 0 |
| Status: OK |
| CheckDir: imageHTS.Rcheck |
| Warnings: 0 |
##############################################################################
##############################################################################
###
### Running command:
###
### /Library/Frameworks/R.framework/Versions/Current/Resources/bin/R CMD check --install=check:imageHTS.install-out.txt --library=/Library/Frameworks/R.framework/Versions/Current/Resources/library --no-vignettes --timings imageHTS_1.37.0.tar.gz
###
##############################################################################
##############################################################################
* using log directory ‘/Users/biocbuild/bbs-3.11-bioc/meat/imageHTS.Rcheck’
* using R Under development (unstable) (2019-12-14 r77572)
* using platform: x86_64-apple-darwin15.6.0 (64-bit)
* using session charset: UTF-8
* using option ‘--no-vignettes’
* checking for file ‘imageHTS/DESCRIPTION’ ... OK
* this is package ‘imageHTS’ version ‘1.37.0’
* checking package namespace information ... OK
* checking package dependencies ... OK
* checking if this is a source package ... OK
* checking if there is a namespace ... OK
* checking for hidden files and directories ... NOTE
Found the following hidden files and directories:
.BBSoptions
These were most likely included in error. See section ‘Package
structure’ in the ‘Writing R Extensions’ manual.
* checking for portable file names ... OK
* checking for sufficient/correct file permissions ... OK
* checking whether package ‘imageHTS’ can be installed ... OK
* checking installed package size ... OK
* checking package directory ... OK
* checking ‘build’ directory ... OK
* checking DESCRIPTION meta-information ... OK
* checking top-level files ... OK
* checking for left-over files ... OK
* checking index information ... OK
* checking package subdirectories ... OK
* checking R files for non-ASCII characters ... OK
* checking R files for syntax errors ... OK
* checking whether the package can be loaded ... OK
* checking whether the package can be loaded with stated dependencies ... OK
* checking whether the package can be unloaded cleanly ... OK
* checking whether the namespace can be loaded with stated dependencies ... OK
* checking whether the namespace can be unloaded cleanly ... OK
* checking dependencies in R code ... OK
* checking S3 generic/method consistency ... OK
* checking replacement functions ... OK
* checking foreign function calls ... OK
* checking R code for possible problems ... OK
* checking Rd files ... OK
* checking Rd metadata ... OK
* checking Rd cross-references ... OK
* checking for missing documentation entries ... OK
* checking for code/documentation mismatches ... OK
* checking Rd \usage sections ... OK
* checking Rd contents ... OK
* checking for unstated dependencies in examples ... OK
* checking sizes of PDF files under ‘inst/doc’ ... OK
* checking files in ‘vignettes’ ... OK
* checking examples ... OK
Examples with CPU (user + system) or elapsed time > 5s
user system elapsed
extractFeatures 16.763 1.404 18.168
countObjects 10.299 0.549 10.861
segmentWells 7.388 0.461 7.850
segmentYeastBF 4.921 1.290 6.213
getWellFeatures 5.297 0.015 5.312
fileHTS 3.592 0.036 6.210
* checking for unstated dependencies in vignettes ... OK
* checking package vignettes in ‘inst/doc’ ... OK
* checking running R code from vignettes ... SKIPPED
* checking re-building of vignette outputs ... SKIPPED
* checking PDF version of manual ... OK
* DONE
Status: 1 NOTE
See
‘/Users/biocbuild/bbs-3.11-bioc/meat/imageHTS.Rcheck/00check.log’
for details.
imageHTS.Rcheck/00install.out
############################################################################## ############################################################################## ### ### Running command: ### ### /Library/Frameworks/R.framework/Versions/Current/Resources/bin/R CMD INSTALL imageHTS ### ############################################################################## ############################################################################## * installing to library ‘/Library/Frameworks/R.framework/Versions/4.0/Resources/library’ * installing *source* package ‘imageHTS’ ... ** using staged installation ** R ** inst ** byte-compile and prepare package for lazy loading ** help *** installing help indices ** building package indices ** installing vignettes ** testing if installed package can be loaded from temporary location ** testing if installed package can be loaded from final location ** testing if installed package keeps a record of temporary installation path * DONE (imageHTS)
imageHTS.Rcheck/imageHTS-Ex.timings
| name | user | system | elapsed | |
| collectCellFeatures | 0.000 | 0.001 | 0.000 | |
| countObjects | 10.299 | 0.549 | 10.861 | |
| extractFeatures | 16.763 | 1.404 | 18.168 | |
| fileHTS | 3.592 | 0.036 | 6.210 | |
| getImageConf | 1.823 | 0.004 | 1.827 | |
| getUnames | 4.437 | 0.009 | 4.447 | |
| getWellFeatures | 5.297 | 0.015 | 5.312 | |
| highlightSegmentation | 0.000 | 0.000 | 0.001 | |
| installCellPicker | 2.321 | 0.022 | 2.349 | |
| makeCellHTS | 0.001 | 0.001 | 0.002 | |
| parseDCF | 0.002 | 0.001 | 0.003 | |
| parseImageConf | 1.659 | 0.006 | 1.664 | |
| popCellPicker | 1.751 | 0.002 | 1.754 | |
| prw2uname | 0.005 | 0.001 | 0.006 | |
| readLearnTS | 0.001 | 0.000 | 0.000 | |
| segmentATH | 0.000 | 0.000 | 0.001 | |
| segmentWells | 7.388 | 0.461 | 7.850 | |
| segmentYeastBF | 4.921 | 1.290 | 6.213 | |
| summarizeWells | 0 | 0 | 0 | |
| zprime | 3.758 | 0.026 | 3.787 | |