| Back to Multiple platform build/check report for BioC 3.11 |
|
This page was generated on 2020-10-17 11:56:51 -0400 (Sat, 17 Oct 2020).
| TO THE DEVELOPERS/MAINTAINERS OF THE ideal PACKAGE: Please make sure to use the following settings in order to reproduce any error or warning you see on this page. |
| Package 854/1905 | Hostname | OS / Arch | INSTALL | BUILD | CHECK | BUILD BIN | ||||||
| ideal 1.12.1 Federico Marini
| malbec2 | Linux (Ubuntu 18.04.4 LTS) / x86_64 | OK | OK | OK | |||||||
| tokay2 | Windows Server 2012 R2 Standard / x64 | [ OK ] | OK | OK | OK | |||||||
| machv2 | macOS 10.14.6 Mojave / x86_64 | OK | OK | OK | OK |
| Package: ideal |
| Version: 1.12.1 |
| Command: C:\cygwin\bin\curl.exe -O https://malbec2.bioconductor.org/BBS/3.11/bioc/src/contrib/ideal_1.12.1.tar.gz && rm -rf ideal.buildbin-libdir && mkdir ideal.buildbin-libdir && C:\Users\biocbuild\bbs-3.11-bioc\R\bin\R.exe CMD INSTALL --merge-multiarch --build --library=ideal.buildbin-libdir ideal_1.12.1.tar.gz && C:\Users\biocbuild\bbs-3.11-bioc\R\bin\R.exe CMD INSTALL ideal_1.12.1.zip && rm ideal_1.12.1.tar.gz ideal_1.12.1.zip |
| StartedAt: 2020-10-16 19:30:22 -0400 (Fri, 16 Oct 2020) |
| EndedAt: 2020-10-16 19:32:09 -0400 (Fri, 16 Oct 2020) |
| EllapsedTime: 107.8 seconds |
| RetCode: 0 |
| Status: OK |
##############################################################################
##############################################################################
###
### Running command:
###
### C:\cygwin\bin\curl.exe -O https://malbec2.bioconductor.org/BBS/3.11/bioc/src/contrib/ideal_1.12.1.tar.gz && rm -rf ideal.buildbin-libdir && mkdir ideal.buildbin-libdir && C:\Users\biocbuild\bbs-3.11-bioc\R\bin\R.exe CMD INSTALL --merge-multiarch --build --library=ideal.buildbin-libdir ideal_1.12.1.tar.gz && C:\Users\biocbuild\bbs-3.11-bioc\R\bin\R.exe CMD INSTALL ideal_1.12.1.zip && rm ideal_1.12.1.tar.gz ideal_1.12.1.zip
###
##############################################################################
##############################################################################
% Total % Received % Xferd Average Speed Time Time Time Current
Dload Upload Total Spent Left Speed
0 0 0 0 0 0 0 0 --:--:-- --:--:-- --:--:-- 0
100 3962k 100 3962k 0 0 31.8M 0 --:--:-- --:--:-- --:--:-- 33.6M
install for i386
* installing *source* package 'ideal' ...
** using staged installation
** R
** inst
** byte-compile and prepare package for lazy loading
groupGOTerms: GOBPTerm, GOMFTerm, GOCCTerm environments built.
** help
*** installing help indices
converting help for package 'ideal'
finding HTML links ... done
deseqresult2DEgenes html
finding level-2 HTML links ... done
deseqresult2tbl html
ggplotCounts html
goseqTable html
ideal-pkg html
ideal html
plot_ma html
plot_volcano html
read_gmt html
sepguesser html
sig_heatmap html
wrapup_for_iSEE html
** building package indices
** installing vignettes
** testing if installed package can be loaded from temporary location
groupGOTerms: GOBPTerm, GOMFTerm, GOCCTerm environments built.
** testing if installed package can be loaded from final location
groupGOTerms: GOBPTerm, GOMFTerm, GOCCTerm environments built.
** testing if installed package keeps a record of temporary installation path
install for x64
* installing *source* package 'ideal' ...
** testing if installed package can be loaded
groupGOTerms: GOBPTerm, GOMFTerm, GOCCTerm environments built.
* MD5 sums
packaged installation of 'ideal' as ideal_1.12.1.zip
* DONE (ideal)
* installing to library 'C:/Users/biocbuild/bbs-3.11-bioc/R/library'
package 'ideal' successfully unpacked and MD5 sums checked