| Back to Multiple platform build/check report for BioC 3.11 |
|
This page was generated on 2020-10-17 11:56:50 -0400 (Sat, 17 Oct 2020).
| TO THE DEVELOPERS/MAINTAINERS OF THE ibh PACKAGE: Please make sure to use the following settings in order to reproduce any error or warning you see on this page. |
| Package 844/1905 | Hostname | OS / Arch | INSTALL | BUILD | CHECK | BUILD BIN | ||||||
| ibh 1.36.0 Kircicegi Korkmaz
| malbec2 | Linux (Ubuntu 18.04.4 LTS) / x86_64 | OK | OK | OK | |||||||
| tokay2 | Windows Server 2012 R2 Standard / x64 | [ OK ] | OK | OK | OK | |||||||
| machv2 | macOS 10.14.6 Mojave / x86_64 | OK | OK | OK | OK |
| Package: ibh |
| Version: 1.36.0 |
| Command: C:\cygwin\bin\curl.exe -O https://malbec2.bioconductor.org/BBS/3.11/bioc/src/contrib/ibh_1.36.0.tar.gz && rm -rf ibh.buildbin-libdir && mkdir ibh.buildbin-libdir && C:\Users\biocbuild\bbs-3.11-bioc\R\bin\R.exe CMD INSTALL --merge-multiarch --build --library=ibh.buildbin-libdir ibh_1.36.0.tar.gz && C:\Users\biocbuild\bbs-3.11-bioc\R\bin\R.exe CMD INSTALL ibh_1.36.0.zip && rm ibh_1.36.0.tar.gz ibh_1.36.0.zip |
| StartedAt: 2020-10-16 16:47:17 -0400 (Fri, 16 Oct 2020) |
| EndedAt: 2020-10-16 16:47:52 -0400 (Fri, 16 Oct 2020) |
| EllapsedTime: 35.1 seconds |
| RetCode: 0 |
| Status: OK |
##############################################################################
##############################################################################
###
### Running command:
###
### C:\cygwin\bin\curl.exe -O https://malbec2.bioconductor.org/BBS/3.11/bioc/src/contrib/ibh_1.36.0.tar.gz && rm -rf ibh.buildbin-libdir && mkdir ibh.buildbin-libdir && C:\Users\biocbuild\bbs-3.11-bioc\R\bin\R.exe CMD INSTALL --merge-multiarch --build --library=ibh.buildbin-libdir ibh_1.36.0.tar.gz && C:\Users\biocbuild\bbs-3.11-bioc\R\bin\R.exe CMD INSTALL ibh_1.36.0.zip && rm ibh_1.36.0.tar.gz ibh_1.36.0.zip
###
##############################################################################
##############################################################################
% Total % Received % Xferd Average Speed Time Time Time Current
Dload Upload Total Spent Left Speed
0 0 0 0 0 0 0 0 --:--:-- --:--:-- --:--:-- 0
0 0 0 0 0 0 0 0 --:--:-- --:--:-- --:--:-- 0
100 6262 100 6262 0 0 58637 0 --:--:-- --:--:-- --:--:-- 62000
install for i386
* installing *source* package 'ibh' ...
** using staged installation
** R
** byte-compile and prepare package for lazy loading
** help
*** installing help indices
converting help for package 'ibh'
finding HTML links ... done
findEntry html
ibh-package html
ibh html
ibhBioGRID html
ibhClusterEval html
ibhClusterEvalBioGRID html
ibhForMultipleGeneLists html
ibhForMultipleGeneListsBioGRID html
readDirectedInteractionsFromCsv html
readUndirectedInteractionsFromCsv html
** building package indices
** installing vignettes
** testing if installed package can be loaded from temporary location
** testing if installed package can be loaded from final location
** testing if installed package keeps a record of temporary installation path
install for x64
* installing *source* package 'ibh' ...
** testing if installed package can be loaded
* MD5 sums
packaged installation of 'ibh' as ibh_1.36.0.zip
* DONE (ibh)
* installing to library 'C:/Users/biocbuild/bbs-3.11-bioc/R/library'
package 'ibh' successfully unpacked and MD5 sums checked