| Back to Multiple platform build/check report for BioC 3.11 | 
  | 
This page was generated on 2020-10-17 11:54:56 -0400 (Sat, 17 Oct 2020).
| TO THE DEVELOPERS/MAINTAINERS OF THE hopach PACKAGE: Please make sure to use the following settings in order to reproduce any error or warning you see on this page. | 
| Package 830/1905 | Hostname | OS / Arch | INSTALL | BUILD | CHECK | BUILD BIN | ||||||
| hopach 2.48.0 Katherine S. Pollard 
  | malbec2 | Linux (Ubuntu 18.04.4 LTS) / x86_64 | OK | OK | [ OK ] | |||||||
| tokay2 | Windows Server 2012 R2 Standard / x64 | OK | OK | OK | OK | |||||||
| machv2 | macOS 10.14.6 Mojave / x86_64 | OK | OK | OK | OK | 
| Package: hopach | 
| Version: 2.48.0 | 
| Command: /home/biocbuild/bbs-3.11-bioc/R/bin/R CMD check --install=check:hopach.install-out.txt --library=/home/biocbuild/bbs-3.11-bioc/R/library --no-vignettes --timings hopach_2.48.0.tar.gz | 
| StartedAt: 2020-10-17 02:14:02 -0400 (Sat, 17 Oct 2020) | 
| EndedAt: 2020-10-17 02:15:19 -0400 (Sat, 17 Oct 2020) | 
| EllapsedTime: 76.6 seconds | 
| RetCode: 0 | 
| Status: OK | 
| CheckDir: hopach.Rcheck | 
| Warnings: 0 | 
##############################################################################
##############################################################################
###
### Running command:
###
###   /home/biocbuild/bbs-3.11-bioc/R/bin/R CMD check --install=check:hopach.install-out.txt --library=/home/biocbuild/bbs-3.11-bioc/R/library --no-vignettes --timings hopach_2.48.0.tar.gz
###
##############################################################################
##############################################################################
* using log directory ‘/home/biocbuild/bbs-3.11-bioc/meat/hopach.Rcheck’
* using R version 4.0.3 (2020-10-10)
* using platform: x86_64-pc-linux-gnu (64-bit)
* using session charset: UTF-8
* using option ‘--no-vignettes’
* checking for file ‘hopach/DESCRIPTION’ ... OK
* this is package ‘hopach’ version ‘2.48.0’
* checking package namespace information ... OK
* checking package dependencies ... OK
* checking if this is a source package ... OK
* checking if there is a namespace ... OK
* checking for hidden files and directories ... OK
* checking for portable file names ... OK
* checking for sufficient/correct file permissions ... OK
* checking whether package ‘hopach’ can be installed ... OK
* checking installed package size ... OK
* checking package directory ... OK
* checking ‘build’ directory ... OK
* checking DESCRIPTION meta-information ... OK
* checking top-level files ... OK
* checking for left-over files ... OK
* checking index information ... OK
* checking package subdirectories ... OK
* checking R files for non-ASCII characters ... OK
* checking R files for syntax errors ... OK
* checking whether the package can be loaded ... OK
* checking whether the package can be loaded with stated dependencies ... OK
* checking whether the package can be unloaded cleanly ... OK
* checking whether the namespace can be loaded with stated dependencies ... OK
* checking whether the namespace can be unloaded cleanly ... OK
* checking dependencies in R code ... OK
* checking S3 generic/method consistency ... OK
* checking replacement functions ... OK
* checking foreign function calls ... OK
* checking R code for possible problems ... OK
* checking Rd files ... OK
* checking Rd metadata ... OK
* checking Rd cross-references ... OK
* checking for missing documentation entries ... OK
* checking for code/documentation mismatches ... OK
* checking Rd \usage sections ... OK
* checking Rd contents ... OK
* checking for unstated dependencies in examples ... OK
* checking contents of ‘data’ directory ... OK
* checking data for non-ASCII characters ... OK
* checking data for ASCII and uncompressed saves ... OK
* checking line endings in C/C++/Fortran sources/headers ... OK
* checking compiled code ... NOTE
Note: information on .o files is not available
* checking files in ‘vignettes’ ... OK
* checking examples ... OK
Examples with CPU (user + system) or elapsed time > 5s
            user system elapsed
makeoutput 9.550  0.000   9.555
boot2fuzzy 9.294  0.036   9.333
bootstrap  8.773  0.000   8.773
bootplot   8.746  0.000   8.745
* checking for unstated dependencies in vignettes ... OK
* checking package vignettes in ‘inst/doc’ ... OK
* checking running R code from vignettes ... SKIPPED
* checking re-building of vignette outputs ... SKIPPED
* checking PDF version of manual ... OK
* DONE
Status: 1 NOTE
See
  ‘/home/biocbuild/bbs-3.11-bioc/meat/hopach.Rcheck/00check.log’
for details.
hopach.Rcheck/00install.out
############################################################################## ############################################################################## ### ### Running command: ### ### /home/biocbuild/bbs-3.11-bioc/R/bin/R CMD INSTALL hopach ### ############################################################################## ############################################################################## * installing to library ‘/home/biocbuild/bbs-3.11-bioc/R/library’ * installing *source* package ‘hopach’ ... ** using staged installation ** libs gcc -I"/home/biocbuild/bbs-3.11-bioc/R/include" -DNDEBUG -I/usr/local/include -fpic -g -O2 -Wall -c Rdistances.c -o Rdistances.o gcc -I"/home/biocbuild/bbs-3.11-bioc/R/include" -DNDEBUG -I/usr/local/include -fpic -g -O2 -Wall -c hdist.c -o hdist.o gcc -shared -L/home/biocbuild/bbs-3.11-bioc/R/lib -L/usr/local/lib -o hopach.so Rdistances.o hdist.o -L/home/biocbuild/bbs-3.11-bioc/R/lib -lR installing to /home/biocbuild/bbs-3.11-bioc/R/library/00LOCK-hopach/00new/hopach/libs ** R ** data ** inst ** byte-compile and prepare package for lazy loading Creating a generic function from function ‘as.hdist’ in package ‘hopach’ ** help *** installing help indices ** building package indices ** installing vignettes ** testing if installed package can be loaded from temporary location ** checking absolute paths in shared objects and dynamic libraries ** testing if installed package can be loaded from final location ** testing if installed package keeps a record of temporary installation path * DONE (hopach)
hopach.Rcheck/hopach-Ex.timings
| name | user | system | elapsed | |
| boot2fuzzy | 9.294 | 0.036 | 9.333 | |
| bootplot | 8.746 | 0.000 | 8.745 | |
| bootstrap | 8.773 | 0.000 | 8.773 | |
| correlationordering | 0.033 | 0.000 | 0.033 | |
| disscosangle | 0.001 | 0.000 | 0.001 | |
| distancematrix | 0.007 | 0.000 | 0.007 | |
| dplot | 0.102 | 0.000 | 0.102 | |
| hdist-class | 0.026 | 0.000 | 0.026 | |
| hopach | 0.422 | 0.004 | 0.427 | |
| hopach.internal | 0.001 | 0.000 | 0.000 | |
| hopach2tree | 0.226 | 0.000 | 0.226 | |
| labelstomss | 0.199 | 0.000 | 0.199 | |
| makeoutput | 9.550 | 0.000 | 9.555 | |
| prune | 1.329 | 0.000 | 1.330 | |