| Back to Multiple platform build/check report for BioC 3.11 | 
  | 
This page was generated on 2020-10-17 11:56:49 -0400 (Sat, 17 Oct 2020).
| TO THE DEVELOPERS/MAINTAINERS OF THE hipathia PACKAGE: Please make sure to use the following settings in order to reproduce any error or warning you see on this page. | 
| Package 823/1905 | Hostname | OS / Arch | INSTALL | BUILD | CHECK | BUILD BIN | ||||||
| hipathia 2.4.0 Marta R. Hidalgo 
  | malbec2 | Linux (Ubuntu 18.04.4 LTS) / x86_64 | OK | OK | OK | |||||||
| tokay2 | Windows Server 2012 R2 Standard / x64 | OK | OK | OK | [ OK ] | |||||||
| machv2 | macOS 10.14.6 Mojave / x86_64 | OK | OK | OK | OK | 
| Package: hipathia | 
| Version: 2.4.0 | 
| Command: rm -rf hipathia.buildbin-libdir && mkdir hipathia.buildbin-libdir && C:\Users\biocbuild\bbs-3.11-bioc\R\bin\R.exe CMD INSTALL --merge-multiarch --build --library=hipathia.buildbin-libdir hipathia_2.4.0.tar.gz | 
| StartedAt: 2020-10-17 10:45:26 -0400 (Sat, 17 Oct 2020) | 
| EndedAt: 2020-10-17 10:46:20 -0400 (Sat, 17 Oct 2020) | 
| EllapsedTime: 53.8 seconds | 
| RetCode: 0 | 
| Status: OK | 
| PackageFile: hipathia_2.4.0.zip | 
| PackageFileSize: 8.371 MiB | 
##############################################################################
##############################################################################
###
### Running command:
###
###   rm -rf hipathia.buildbin-libdir && mkdir hipathia.buildbin-libdir && C:\Users\biocbuild\bbs-3.11-bioc\R\bin\R.exe CMD INSTALL --merge-multiarch --build --library=hipathia.buildbin-libdir hipathia_2.4.0.tar.gz
###
##############################################################################
##############################################################################
install for i386
* installing *source* package 'hipathia' ...
** using staged installation
** R
** data
*** moving datasets to lazyload DB
** inst
** byte-compile and prepare package for lazy loading
** help
*** installing help indices
  converting help for package 'hipathia'
    finding HTML links ... done
    annotate_paths                          html  
    brca                                    html  
    brca_data                               html  
    brca_design                             html  
    comp                                    html  
    create_report                           html  
    do_pca                                  html  
    do_wilcoxon                             html  
    exp_data                                html  
    get_go_names                            html  
    get_highest_sig_ancestor                html  
    get_node_names                          html  
    get_nodes_data                          html  
    get_path_names                          html  
    get_paths_data                          html  
    get_pathway_functions                   html  
    get_pathways_annotations                html  
    get_pathways_list                       html  
    get_pathways_summary                    html  
    go_vals                                 html  
    heatmap_plot                            html  
    hhead                                   html  
    hipathia                                html  
    igraphs_upgrade                         html  
    is_accepted_species                     html  
    load_annofuns                           html  
    load_annots                             html  
    load_entrez_hgnc                        html  
    load_gobp_frame                         html  
    load_gobp_net                           html  
    load_mgi                                html  
    load_pathways                           html  
    load_pseudo_mgi                         html  
    load_xref                               html  
    mgi_from_sif                            html  
    multiple_pca_plot                       html  
    node_color                              html  
    node_color_per_de                       html  
    normalize_data                          html  
    normalize_paths                         html  
    path_vals                               html  
    paths_to_go_ancestor                    html  
    pathway_comparison_plot                 html  
    pca_plot                                html  
    quantify_terms                          html  
    results                                 html  
    save_results                            html  
    top_pathways                            html  
    translate_data                          html  
    translate_matrix                        html  
    visualize_report                        html  
** building package indices
** installing vignettes
** testing if installed package can be loaded from temporary location
** testing if installed package can be loaded from final location
** testing if installed package keeps a record of temporary installation path
install for x64
* installing *source* package 'hipathia' ...
** testing if installed package can be loaded
* MD5 sums
packaged installation of 'hipathia' as hipathia_2.4.0.zip
* DONE (hipathia)