| Back to Multiple platform build/check report for BioC 3.11 | 
  | 
This page was generated on 2020-10-17 11:56:41 -0400 (Sat, 17 Oct 2020).
| TO THE DEVELOPERS/MAINTAINERS OF THE gep2pep PACKAGE: Please make sure to use the following settings in order to reproduce any error or warning you see on this page. | 
| Package 724/1905 | Hostname | OS / Arch | INSTALL | BUILD | CHECK | BUILD BIN | ||||||
| gep2pep 1.8.0 Francesco Napolitano 
  | malbec2 | Linux (Ubuntu 18.04.4 LTS) / x86_64 | OK | OK | OK | |||||||
| tokay2 | Windows Server 2012 R2 Standard / x64 | OK | OK | OK | [ OK ] | |||||||
| machv2 | macOS 10.14.6 Mojave / x86_64 | OK | OK | OK | OK | 
| Package: gep2pep | 
| Version: 1.8.0 | 
| Command: rm -rf gep2pep.buildbin-libdir && mkdir gep2pep.buildbin-libdir && C:\Users\biocbuild\bbs-3.11-bioc\R\bin\R.exe CMD INSTALL --merge-multiarch --build --library=gep2pep.buildbin-libdir gep2pep_1.8.0.tar.gz | 
| StartedAt: 2020-10-17 10:39:01 -0400 (Sat, 17 Oct 2020) | 
| EndedAt: 2020-10-17 10:39:46 -0400 (Sat, 17 Oct 2020) | 
| EllapsedTime: 44.7 seconds | 
| RetCode: 0 | 
| Status: OK | 
| PackageFile: gep2pep_1.8.0.zip | 
| PackageFileSize: 482 KiB | 
##############################################################################
##############################################################################
###
### Running command:
###
###   rm -rf gep2pep.buildbin-libdir && mkdir gep2pep.buildbin-libdir && C:\Users\biocbuild\bbs-3.11-bioc\R\bin\R.exe CMD INSTALL --merge-multiarch --build --library=gep2pep.buildbin-libdir gep2pep_1.8.0.tar.gz
###
##############################################################################
##############################################################################
install for i386
* installing *source* package 'gep2pep' ...
** using staged installation
** R
** inst
** byte-compile and prepare package for lazy loading
** help
*** installing help indices
  converting help for package 'gep2pep'
    finding HTML links ... done
    CategorizedCollection-class             html  
    CategorizedCollection                   html  
    CondSEA                                 html  
    PathSEA                                 html  
    addSingleGeneSets                       html  
    as.CategorizedCollection                html  
    buildPEPs                               html  
    checkRepository                         html  
    clearCache                              html  
    createMergedRepository                  html  
    createRepository                        html  
    exportSEA                               html  
    gene2pathways                           html  
    gep2pep-package                         html  
    getCollections                          html  
    getDetails                              html  
    getResults                              html  
    importFromRawMode                       html  
    importMSigDB.xml                        html  
    loadCollection                          html  
    loadESmatrix                            html  
    loadPVmatrix                            html  
    loadSampleGEP                           html  
    loadSamplePWS                           html  
    makeCollectionIDs                       html  
    openRepository                          html  
    setId2setName                           html  
** building package indices
** installing vignettes
** testing if installed package can be loaded from temporary location
** testing if installed package can be loaded from final location
** testing if installed package keeps a record of temporary installation path
install for x64
* installing *source* package 'gep2pep' ...
** testing if installed package can be loaded
* MD5 sums
packaged installation of 'gep2pep' as gep2pep_1.8.0.zip
* DONE (gep2pep)