| Back to Multiple platform build/check report for BioC 3.11 |
|
This page was generated on 2020-10-17 11:56:39 -0400 (Sat, 17 Oct 2020).
| TO THE DEVELOPERS/MAINTAINERS OF THE geneplast PACKAGE: Please make sure to use the following settings in order to reproduce any error or warning you see on this page. |
| Package 686/1905 | Hostname | OS / Arch | INSTALL | BUILD | CHECK | BUILD BIN | ||||||
| geneplast 1.14.0 Mauro Castro
| malbec2 | Linux (Ubuntu 18.04.4 LTS) / x86_64 | OK | OK | WARNINGS | |||||||
| tokay2 | Windows Server 2012 R2 Standard / x64 | OK | OK | WARNINGS | [ OK ] | |||||||
| machv2 | macOS 10.14.6 Mojave / x86_64 | OK | OK | WARNINGS | OK |
| Package: geneplast |
| Version: 1.14.0 |
| Command: rm -rf geneplast.buildbin-libdir && mkdir geneplast.buildbin-libdir && C:\Users\biocbuild\bbs-3.11-bioc\R\bin\R.exe CMD INSTALL --merge-multiarch --build --library=geneplast.buildbin-libdir geneplast_1.14.0.tar.gz |
| StartedAt: 2020-10-17 10:36:23 -0400 (Sat, 17 Oct 2020) |
| EndedAt: 2020-10-17 10:37:11 -0400 (Sat, 17 Oct 2020) |
| EllapsedTime: 47.8 seconds |
| RetCode: 0 |
| Status: OK |
| PackageFile: geneplast_1.14.0.zip |
| PackageFileSize: 3.79 MiB |
##############################################################################
##############################################################################
###
### Running command:
###
### rm -rf geneplast.buildbin-libdir && mkdir geneplast.buildbin-libdir && C:\Users\biocbuild\bbs-3.11-bioc\R\bin\R.exe CMD INSTALL --merge-multiarch --build --library=geneplast.buildbin-libdir geneplast_1.14.0.tar.gz
###
##############################################################################
##############################################################################
install for i386
* installing *source* package 'geneplast' ...
** using staged installation
** R
** data
** inst
** byte-compile and prepare package for lazy loading
** help
*** installing help indices
converting help for package 'geneplast'
finding HTML links ... done
OGP-class html
OGR-class html
geneplast-package html
gpdata html
gplast html
gplast.get html
gplast.preprocess html
groot html
groot.get html
groot.plot html
groot.preprocess html
ogr2igraph html
ogr2tni html
ppidata html
** building package indices
** installing vignettes
** testing if installed package can be loaded from temporary location
** testing if installed package can be loaded from final location
** testing if installed package keeps a record of temporary installation path
install for x64
* installing *source* package 'geneplast' ...
** testing if installed package can be loaded
* MD5 sums
packaged installation of 'geneplast' as geneplast_1.14.0.zip
* DONE (geneplast)