| Back to Multiple platform build/check report for BioC 3.11 |
|
This page was generated on 2020-10-17 11:56:39 -0400 (Sat, 17 Oct 2020).
| TO THE DEVELOPERS/MAINTAINERS OF THE geneRecommender PACKAGE: Please make sure to use the following settings in order to reproduce any error or warning you see on this page. |
| Package 688/1905 | Hostname | OS / Arch | INSTALL | BUILD | CHECK | BUILD BIN | ||||||
| geneRecommender 1.60.0 Greg Hather
| malbec2 | Linux (Ubuntu 18.04.4 LTS) / x86_64 | OK | OK | OK | |||||||
| tokay2 | Windows Server 2012 R2 Standard / x64 | OK | OK | OK | [ OK ] | |||||||
| machv2 | macOS 10.14.6 Mojave / x86_64 | OK | OK | OK | OK |
| Package: geneRecommender |
| Version: 1.60.0 |
| Command: rm -rf geneRecommender.buildbin-libdir && mkdir geneRecommender.buildbin-libdir && C:\Users\biocbuild\bbs-3.11-bioc\R\bin\R.exe CMD INSTALL --merge-multiarch --build --library=geneRecommender.buildbin-libdir geneRecommender_1.60.0.tar.gz |
| StartedAt: 2020-10-17 10:36:32 -0400 (Sat, 17 Oct 2020) |
| EndedAt: 2020-10-17 10:37:22 -0400 (Sat, 17 Oct 2020) |
| EllapsedTime: 49.5 seconds |
| RetCode: 0 |
| Status: OK |
| PackageFile: geneRecommender_1.60.0.zip |
| PackageFileSize: 195.1 KiB |
##############################################################################
##############################################################################
###
### Running command:
###
### rm -rf geneRecommender.buildbin-libdir && mkdir geneRecommender.buildbin-libdir && C:\Users\biocbuild\bbs-3.11-bioc\R\bin\R.exe CMD INSTALL --merge-multiarch --build --library=geneRecommender.buildbin-libdir geneRecommender_1.60.0.tar.gz
###
##############################################################################
##############################################################################
install for i386
* installing *source* package 'geneRecommender' ...
** using staged installation
** R
** inst
** byte-compile and prepare package for lazy loading
** help
*** installing help indices
converting help for package 'geneRecommender'
finding HTML links ... done
gr.cv html
gr.main html
gr.normalize html
** building package indices
** installing vignettes
** testing if installed package can be loaded from temporary location
** testing if installed package can be loaded from final location
** testing if installed package keeps a record of temporary installation path
install for x64
* installing *source* package 'geneRecommender' ...
** testing if installed package can be loaded
* MD5 sums
packaged installation of 'geneRecommender' as geneRecommender_1.60.0.zip
* DONE (geneRecommender)