| Back to Multiple platform build/check report for BioC 3.11 |
|
This page was generated on 2020-10-17 11:56:37 -0400 (Sat, 17 Oct 2020).
| TO THE DEVELOPERS/MAINTAINERS OF THE gaia PACKAGE: Please make sure to use the following settings in order to reproduce any error or warning you see on this page. |
| Package 651/1905 | Hostname | OS / Arch | INSTALL | BUILD | CHECK | BUILD BIN | ||||||
| gaia 2.32.0 S. Morganella
| malbec2 | Linux (Ubuntu 18.04.4 LTS) / x86_64 | OK | OK | OK | |||||||
| tokay2 | Windows Server 2012 R2 Standard / x64 | OK | OK | OK | [ OK ] | |||||||
| machv2 | macOS 10.14.6 Mojave / x86_64 | OK | OK | OK | OK |
| Package: gaia |
| Version: 2.32.0 |
| Command: rm -rf gaia.buildbin-libdir && mkdir gaia.buildbin-libdir && C:\Users\biocbuild\bbs-3.11-bioc\R\bin\R.exe CMD INSTALL --merge-multiarch --build --library=gaia.buildbin-libdir gaia_2.32.0.tar.gz |
| StartedAt: 2020-10-17 10:33:55 -0400 (Sat, 17 Oct 2020) |
| EndedAt: 2020-10-17 10:34:16 -0400 (Sat, 17 Oct 2020) |
| EllapsedTime: 21.2 seconds |
| RetCode: 0 |
| Status: OK |
| PackageFile: gaia_2.32.0.zip |
| PackageFileSize: 700.6 KiB |
##############################################################################
##############################################################################
###
### Running command:
###
### rm -rf gaia.buildbin-libdir && mkdir gaia.buildbin-libdir && C:\Users\biocbuild\bbs-3.11-bioc\R\bin\R.exe CMD INSTALL --merge-multiarch --build --library=gaia.buildbin-libdir gaia_2.32.0.tar.gz
###
##############################################################################
##############################################################################
install for i386
* installing *source* package 'gaia' ...
** using staged installation
** R
** data
** inst
** byte-compile and prepare package for lazy loading
** help
*** installing help indices
converting help for package 'gaia'
finding HTML links ... done
crc html
crc_markers html
gaia-package html
generate_approx_null_hypothesis html
generate_null_hypothesis html
load_cnv html
load_markers html
peel_off html
qvalue html
runGAIA html
search_peaks_in_regions html
synthCNV_Matrix html
synthMarkers_Matrix html
write_significant_regions html
** building package indices
** installing vignettes
** testing if installed package can be loaded from temporary location
** testing if installed package can be loaded from final location
** testing if installed package keeps a record of temporary installation path
install for x64
* installing *source* package 'gaia' ...
** testing if installed package can be loaded
* MD5 sums
packaged installation of 'gaia' as gaia_2.32.0.zip
* DONE (gaia)