| Back to Multiple platform build/check report for BioC 3.11 |
|
This page was generated on 2020-10-17 11:56:36 -0400 (Sat, 17 Oct 2020).
| TO THE DEVELOPERS/MAINTAINERS OF THE frenchFISH PACKAGE: Please make sure to use the following settings in order to reproduce any error or warning you see on this page. |
| Package 639/1905 | Hostname | OS / Arch | INSTALL | BUILD | CHECK | BUILD BIN | ||||||
| frenchFISH 1.0.0 Adam Berman
| malbec2 | Linux (Ubuntu 18.04.4 LTS) / x86_64 | OK | OK | OK | |||||||
| tokay2 | Windows Server 2012 R2 Standard / x64 | [ OK ] | OK | OK | OK | |||||||
| machv2 | macOS 10.14.6 Mojave / x86_64 | OK | OK | OK | OK |
| Package: frenchFISH |
| Version: 1.0.0 |
| Command: C:\cygwin\bin\curl.exe -O https://malbec2.bioconductor.org/BBS/3.11/bioc/src/contrib/frenchFISH_1.0.0.tar.gz && rm -rf frenchFISH.buildbin-libdir && mkdir frenchFISH.buildbin-libdir && C:\Users\biocbuild\bbs-3.11-bioc\R\bin\R.exe CMD INSTALL --merge-multiarch --build --library=frenchFISH.buildbin-libdir frenchFISH_1.0.0.tar.gz && C:\Users\biocbuild\bbs-3.11-bioc\R\bin\R.exe CMD INSTALL frenchFISH_1.0.0.zip && rm frenchFISH_1.0.0.tar.gz frenchFISH_1.0.0.zip |
| StartedAt: 2020-10-16 17:40:15 -0400 (Fri, 16 Oct 2020) |
| EndedAt: 2020-10-16 17:40:47 -0400 (Fri, 16 Oct 2020) |
| EllapsedTime: 32.3 seconds |
| RetCode: 0 |
| Status: OK |
##############################################################################
##############################################################################
###
### Running command:
###
### C:\cygwin\bin\curl.exe -O https://malbec2.bioconductor.org/BBS/3.11/bioc/src/contrib/frenchFISH_1.0.0.tar.gz && rm -rf frenchFISH.buildbin-libdir && mkdir frenchFISH.buildbin-libdir && C:\Users\biocbuild\bbs-3.11-bioc\R\bin\R.exe CMD INSTALL --merge-multiarch --build --library=frenchFISH.buildbin-libdir frenchFISH_1.0.0.tar.gz && C:\Users\biocbuild\bbs-3.11-bioc\R\bin\R.exe CMD INSTALL frenchFISH_1.0.0.zip && rm frenchFISH_1.0.0.tar.gz frenchFISH_1.0.0.zip
###
##############################################################################
##############################################################################
% Total % Received % Xferd Average Speed Time Time Time Current
Dload Upload Total Spent Left Speed
0 0 0 0 0 0 0 0 --:--:-- --:--:-- --:--:-- 0
100 14390 100 14390 0 0 98122 0 --:--:-- --:--:-- --:--:-- 100k
install for i386
* installing *source* package 'frenchFISH' ...
** using staged installation
** R
** inst
** byte-compile and prepare package for lazy loading
** help
*** installing help indices
converting help for package 'frenchFISH'
finding HTML links ... done
areAllNonnegativeIntegers html
checkAutomaticCountsEstimatesArguments
html
checkManualCountsEstimatesArguments html
convertFishalyserCsvToCountMatrix html
generatePPdat html
getAutomaticCountsEstimates html
getAverageVolumeFrac html
getManualCountsEstimates html
getMaxVolumeFrac html
getMinVolumeFrac html
getVsegFrac html
** building package indices
** installing vignettes
** testing if installed package can be loaded from temporary location
** testing if installed package can be loaded from final location
** testing if installed package keeps a record of temporary installation path
install for x64
* installing *source* package 'frenchFISH' ...
** testing if installed package can be loaded
* MD5 sums
packaged installation of 'frenchFISH' as frenchFISH_1.0.0.zip
* DONE (frenchFISH)
* installing to library 'C:/Users/biocbuild/bbs-3.11-bioc/R/library'
package 'frenchFISH' successfully unpacked and MD5 sums checked