| Back to Multiple platform build/check report for BioC 3.11 | 
  | 
This page was generated on 2020-10-17 11:54:45 -0400 (Sat, 17 Oct 2020).
| TO THE DEVELOPERS/MAINTAINERS OF THE flowPeaks PACKAGE: Please make sure to use the following settings in order to reproduce any error or warning you see on this page. | 
| Package 619/1905 | Hostname | OS / Arch | INSTALL | BUILD | CHECK | BUILD BIN | ||||||
| flowPeaks 1.34.0 Yongchao Ge 
  | malbec2 | Linux (Ubuntu 18.04.4 LTS) / x86_64 | OK | [ OK ] | OK | |||||||
| tokay2 | Windows Server 2012 R2 Standard / x64 | OK | OK | OK | OK | |||||||
| machv2 | macOS 10.14.6 Mojave / x86_64 | OK | OK | OK | OK | 
| Package: flowPeaks | 
| Version: 1.34.0 | 
| Command: /home/biocbuild/bbs-3.11-bioc/R/bin/R CMD build --keep-empty-dirs --no-resave-data flowPeaks | 
| StartedAt: 2020-10-16 19:13:32 -0400 (Fri, 16 Oct 2020) | 
| EndedAt: 2020-10-16 19:13:56 -0400 (Fri, 16 Oct 2020) | 
| EllapsedTime: 24.3 seconds | 
| RetCode: 0 | 
| Status: OK | 
| PackageFile: flowPeaks_1.34.0.tar.gz | 
| PackageFileSize: 2.59 MiB | 
############################################################################## ############################################################################## ### ### Running command: ### ### /home/biocbuild/bbs-3.11-bioc/R/bin/R CMD build --keep-empty-dirs --no-resave-data flowPeaks ### ############################################################################## ############################################################################## * checking for file ‘flowPeaks/DESCRIPTION’ ... OK * preparing ‘flowPeaks’: * checking DESCRIPTION meta-information ... OK * cleaning src * installing the package to build vignettes * creating vignettes ... OK * cleaning src * checking for LF line-endings in source and make files and shell scripts * checking for empty or unneeded directories * looking to see if a ‘data/datalist’ file should be added * building ‘flowPeaks_1.34.0.tar.gz’