| Back to Multiple platform build/check report for BioC 3.11 |
|
This page was generated on 2020-10-17 11:56:35 -0400 (Sat, 17 Oct 2020).
| TO THE DEVELOPERS/MAINTAINERS OF THE flowCyBar PACKAGE: Please make sure to use the following settings in order to reproduce any error or warning you see on this page. |
| Package 611/1905 | Hostname | OS / Arch | INSTALL | BUILD | CHECK | BUILD BIN | ||||||
| flowCyBar 1.24.0 Joachim Schumann
| malbec2 | Linux (Ubuntu 18.04.4 LTS) / x86_64 | OK | OK | OK | |||||||
| tokay2 | Windows Server 2012 R2 Standard / x64 | [ OK ] | OK | OK | OK | |||||||
| machv2 | macOS 10.14.6 Mojave / x86_64 | OK | OK | OK | OK |
| Package: flowCyBar |
| Version: 1.24.0 |
| Command: C:\cygwin\bin\curl.exe -O https://malbec2.bioconductor.org/BBS/3.11/bioc/src/contrib/flowCyBar_1.24.0.tar.gz && rm -rf flowCyBar.buildbin-libdir && mkdir flowCyBar.buildbin-libdir && C:\Users\biocbuild\bbs-3.11-bioc\R\bin\R.exe CMD INSTALL --merge-multiarch --build --library=flowCyBar.buildbin-libdir flowCyBar_1.24.0.tar.gz && C:\Users\biocbuild\bbs-3.11-bioc\R\bin\R.exe CMD INSTALL flowCyBar_1.24.0.zip && rm flowCyBar_1.24.0.tar.gz flowCyBar_1.24.0.zip |
| StartedAt: 2020-10-16 17:11:22 -0400 (Fri, 16 Oct 2020) |
| EndedAt: 2020-10-16 17:12:28 -0400 (Fri, 16 Oct 2020) |
| EllapsedTime: 65.7 seconds |
| RetCode: 0 |
| Status: OK |
##############################################################################
##############################################################################
###
### Running command:
###
### C:\cygwin\bin\curl.exe -O https://malbec2.bioconductor.org/BBS/3.11/bioc/src/contrib/flowCyBar_1.24.0.tar.gz && rm -rf flowCyBar.buildbin-libdir && mkdir flowCyBar.buildbin-libdir && C:\Users\biocbuild\bbs-3.11-bioc\R\bin\R.exe CMD INSTALL --merge-multiarch --build --library=flowCyBar.buildbin-libdir flowCyBar_1.24.0.tar.gz && C:\Users\biocbuild\bbs-3.11-bioc\R\bin\R.exe CMD INSTALL flowCyBar_1.24.0.zip && rm flowCyBar_1.24.0.tar.gz flowCyBar_1.24.0.zip
###
##############################################################################
##############################################################################
% Total % Received % Xferd Average Speed Time Time Time Current
Dload Upload Total Spent Left Speed
0 0 0 0 0 0 0 0 --:--:-- --:--:-- --:--:-- 0
100 24218 100 24218 0 0 406k 0 --:--:-- --:--:-- --:--:-- 463k
install for i386
* installing *source* package 'flowCyBar' ...
files 'build/vignette.rds', 'inst/doc/flowCyBar-manual.R', 'inst/doc/flowCyBar-manual.Rnw', 'inst/doc/flowCyBar-manual.bib', 'inst/doc/flowCyBar-manual.pdf' are missing
files 'DESCRIPTION', 'R/correlation.R', 'R/cybar_plot.R', 'R/nmds.R', 'R/normalize.R', 'man/correlation.Rd', 'man/cybar_plot.Rd', 'man/flowCyBar-package.Rd', 'man/nmds.Rd', 'man/normalize.Rd', 'vignettes/flowCyBar-manual.Rnw' have the wrong MD5 checksums
** using staged installation
** R
** data
** byte-compile and prepare package for lazy loading
** help
*** installing help indices
converting help for package 'flowCyBar'
finding HTML links ... done
Abiotic_data_sample html
Cell_number_sample html
Corr_data_sample html
correlation html
cybar_plot html
flowCyBar-package html
nmds html
normalize html
** building package indices
** installing vignettes
** testing if installed package can be loaded from temporary location
** testing if installed package can be loaded from final location
** testing if installed package keeps a record of temporary installation path
install for x64
* installing *source* package 'flowCyBar' ...
files 'build/vignette.rds', 'inst/doc/flowCyBar-manual.R', 'inst/doc/flowCyBar-manual.Rnw', 'inst/doc/flowCyBar-manual.bib', 'inst/doc/flowCyBar-manual.pdf' are missing
files 'DESCRIPTION', 'R/correlation.R', 'R/cybar_plot.R', 'R/nmds.R', 'R/normalize.R', 'man/correlation.Rd', 'man/cybar_plot.Rd', 'man/flowCyBar-package.Rd', 'man/nmds.Rd', 'man/normalize.Rd', 'vignettes/flowCyBar-manual.Rnw' have the wrong MD5 checksums
** testing if installed package can be loaded
* MD5 sums
packaged installation of 'flowCyBar' as flowCyBar_1.24.0.zip
* DONE (flowCyBar)
* installing to library 'C:/Users/biocbuild/bbs-3.11-bioc/R/library'
package 'flowCyBar' successfully unpacked and MD5 sums checked